BEGIN:VCALENDAR
VERSION:2.0
PRODID:-//Blackmore Theatre - ECPv6.15.18//NONSGML v1.0//EN
CALSCALE:GREGORIAN
METHOD:PUBLISH
X-WR-CALNAME:Blackmore Theatre
X-ORIGINAL-URL:https://blackmoretheatre.co.uk
X-WR-CALDESC:Events for Blackmore Theatre
REFRESH-INTERVAL;VALUE=DURATION:PT1H
X-Robots-Tag:noindex
X-PUBLISHED-TTL:PT1H
BEGIN:VTIMEZONE
TZID:Europe/London
BEGIN:DAYLIGHT
TZOFFSETFROM:+0000
TZOFFSETTO:+0100
TZNAME:BST
DTSTART:20250330T010000
END:DAYLIGHT
BEGIN:STANDARD
TZOFFSETFROM:+0100
TZOFFSETTO:+0000
TZNAME:GMT
DTSTART:20251026T010000
END:STANDARD
BEGIN:DAYLIGHT
TZOFFSETFROM:+0000
TZOFFSETTO:+0100
TZNAME:BST
DTSTART:20260329T010000
END:DAYLIGHT
BEGIN:STANDARD
TZOFFSETFROM:+0100
TZOFFSETTO:+0000
TZNAME:GMT
DTSTART:20261025T010000
END:STANDARD
BEGIN:DAYLIGHT
TZOFFSETFROM:+0000
TZOFFSETTO:+0100
TZNAME:BST
DTSTART:20270328T010000
END:DAYLIGHT
BEGIN:STANDARD
TZOFFSETFROM:+0100
TZOFFSETTO:+0000
TZNAME:GMT
DTSTART:20271031T010000
END:STANDARD
END:VTIMEZONE
BEGIN:VEVENT
DTSTART;TZID=Europe/London:20260323T193000
DTEND;TZID=Europe/London:20260328T193000
DTSTAMP:20260421T015613
CREATED:20260119T132523Z
LAST-MODIFIED:20260226T114755Z
UID:4508-1774294200-1774726200@blackmoretheatre.co.uk
SUMMARY:Nora: A Doll's House
DESCRIPTION:Performances: Mon to Sat @ 7.30pm \nNora: A Dolls House\nAn adaptation of Henrik Ibsen’s A Doll’s House \nBy Stef Smith \nNora is the perfect wife and mother. She is dutiful\, beautiful and everything is always in its right place. But when a secret from her past comes back to haunt her\, her life rapidly unravels. Over the course of three days\, Nora must fight to protect herself and her family or risk losing everything. \nHenrik Ibsen’s brutal portrayal of womanhood caused outrage when it was first performed in 1879. This bold new version by Stef Smith reframes the drama in three different time periods. The fight for women’s suffrage\, the Swinging Sixties and the modern day intertwine in this urgent\, poetic play that asks how far have we really come in the past hundred years?
URL:https://blackmoretheatre.co.uk/event/nora/
LOCATION:Blackmore Theatre\, 10 Bicton Street\, Exmouth\, EX8 2RU
CATEGORIES:Productions
ATTACH;FMTTYPE=image/png:https://blackmoretheatre.co.uk/wp-content/uploads/2026/01/Nora-Square_small-1.png
END:VEVENT
END:VCALENDAR