BEGIN:VCALENDAR
VERSION:2.0
PRODID:-//Blackmore Theatre - ECPv6.15.18//NONSGML v1.0//EN
CALSCALE:GREGORIAN
METHOD:PUBLISH
X-WR-CALNAME:Blackmore Theatre
X-ORIGINAL-URL:https://blackmoretheatre.co.uk
X-WR-CALDESC:Events for Blackmore Theatre
REFRESH-INTERVAL;VALUE=DURATION:PT1H
X-Robots-Tag:noindex
X-PUBLISHED-TTL:PT1H
BEGIN:VTIMEZONE
TZID:Europe/London
BEGIN:DAYLIGHT
TZOFFSETFROM:+0000
TZOFFSETTO:+0100
TZNAME:BST
DTSTART:20240331T010000
END:DAYLIGHT
BEGIN:STANDARD
TZOFFSETFROM:+0100
TZOFFSETTO:+0000
TZNAME:GMT
DTSTART:20241027T010000
END:STANDARD
BEGIN:DAYLIGHT
TZOFFSETFROM:+0000
TZOFFSETTO:+0100
TZNAME:BST
DTSTART:20250330T010000
END:DAYLIGHT
BEGIN:STANDARD
TZOFFSETFROM:+0100
TZOFFSETTO:+0000
TZNAME:GMT
DTSTART:20251026T010000
END:STANDARD
BEGIN:DAYLIGHT
TZOFFSETFROM:+0000
TZOFFSETTO:+0100
TZNAME:BST
DTSTART:20260329T010000
END:DAYLIGHT
BEGIN:STANDARD
TZOFFSETFROM:+0100
TZOFFSETTO:+0000
TZNAME:GMT
DTSTART:20261025T010000
END:STANDARD
END:VTIMEZONE
BEGIN:VEVENT
DTSTART;TZID=Europe/London:20250905T193000
DTEND;TZID=Europe/London:20250905T220000
DTSTAMP:20260421T114602
CREATED:20250717T124346Z
LAST-MODIFIED:20250717T124346Z
UID:4447-1757100600-1757109600@blackmoretheatre.co.uk
SUMMARY:Broadway Baby 5
DESCRIPTION:An unmissable evening of Broadway and West End show tunes. Following on from the success of previous concerts we welcome back Broadway Baby 5. \nBeing presented at The Blackmore Theatre\, Bicton Street\, Exmouth on Friday 5th & Friday 12th September at 7.30pm\, this year in aid of Mill Water School. \nFeaturing hit songs from classic musicals Cabaret\, Chorus Line and Little Shops of Horrors to new hits Islander\, Beetle Juice and Two Strangers Carry a Cake the evening guarantees to be a toe tapping night to remember.
URL:https://blackmoretheatre.co.uk/event/bb5/
LOCATION:Blackmore Theatre\, 10 Bicton Street\, Exmouth\, EX8 2RU
CATEGORIES:Productions
ATTACH;FMTTYPE=image/jpeg:https://blackmoretheatre.co.uk/wp-content/uploads/2025/07/BB5-Square.jpeg
END:VEVENT
BEGIN:VEVENT
DTSTART;TZID=Europe/London:20250912T193000
DTEND;TZID=Europe/London:20250912T220000
DTSTAMP:20260421T114602
CREATED:20250717T124411Z
LAST-MODIFIED:20250717T124411Z
UID:4451-1757705400-1757714400@blackmoretheatre.co.uk
SUMMARY:Broadway Baby 5
DESCRIPTION:An unmissable evening of Broadway and West End show tunes. Following on from the success of previous concerts we welcome back Broadway Baby 5. \nBeing presented at The Blackmore Theatre\, Bicton Street\, Exmouth on Friday 5th & Friday 12th September at 7.30pm\, this year in aid of Mill Water School. \nFeaturing hit songs from classic musicals Cabaret\, Chorus Line and Little Shops of Horrors to new hits Islander\, Beetle Juice and Two Strangers Carry a Cake the evening guarantees to be a toe tapping night to remember.
URL:https://blackmoretheatre.co.uk/event/broadway-baby-5/
LOCATION:Blackmore Theatre\, 10 Bicton Street\, Exmouth\, EX8 2RU
CATEGORIES:Productions
ATTACH;FMTTYPE=image/jpeg:https://blackmoretheatre.co.uk/wp-content/uploads/2025/07/BB5-Square.jpeg
END:VEVENT
BEGIN:VEVENT
DTSTART;TZID=Europe/London:20250929T193000
DTEND;TZID=Europe/London:20251004T190000
DTSTAMP:20260421T114602
CREATED:20250903T152123Z
LAST-MODIFIED:20250903T160926Z
UID:4481-1759174200-1759604400@blackmoretheatre.co.uk
SUMMARY:Audience with Murder
DESCRIPTION:Performances: Mon to Sat 7.30pm\, Sat 2.30pm \nThis intriguing\, multi-layered\, witty thriller for two men and two women is full of unexpected twists. A Russian doll of a play\, it moves from a seemingly innocuous domestic play reading through a murder mystery in the classic style\, to a final terrifying and violent climax. \nIt was first produced at the Edinburgh Festival in 2004 and subsequently presented to critical acclaim at the Jermyn Street Theatre\, London\, in 2006.
URL:https://blackmoretheatre.co.uk/event/audience-with-murder/
LOCATION:Blackmore Theatre\, 10 Bicton Street\, Exmouth\, EX8 2RU
CATEGORIES:Productions
ATTACH;FMTTYPE=image/png:https://blackmoretheatre.co.uk/wp-content/uploads/2025/09/Audience-with-Murder-Square.png
END:VEVENT
END:VCALENDAR