BEGIN:VCALENDAR
VERSION:2.0
PRODID:-//Blackmore Theatre - ECPv6.15.18//NONSGML v1.0//EN
CALSCALE:GREGORIAN
METHOD:PUBLISH
X-WR-CALNAME:Blackmore Theatre
X-ORIGINAL-URL:https://blackmoretheatre.co.uk
X-WR-CALDESC:Events for Blackmore Theatre
REFRESH-INTERVAL;VALUE=DURATION:PT1H
X-Robots-Tag:noindex
X-PUBLISHED-TTL:PT1H
BEGIN:VTIMEZONE
TZID:Europe/London
BEGIN:DAYLIGHT
TZOFFSETFROM:+0000
TZOFFSETTO:+0100
TZNAME:BST
DTSTART:20190331T010000
END:DAYLIGHT
BEGIN:STANDARD
TZOFFSETFROM:+0100
TZOFFSETTO:+0000
TZNAME:GMT
DTSTART:20191027T010000
END:STANDARD
BEGIN:DAYLIGHT
TZOFFSETFROM:+0000
TZOFFSETTO:+0100
TZNAME:BST
DTSTART:20200329T010000
END:DAYLIGHT
BEGIN:STANDARD
TZOFFSETFROM:+0100
TZOFFSETTO:+0000
TZNAME:GMT
DTSTART:20201025T010000
END:STANDARD
BEGIN:DAYLIGHT
TZOFFSETFROM:+0000
TZOFFSETTO:+0100
TZNAME:BST
DTSTART:20210328T010000
END:DAYLIGHT
BEGIN:STANDARD
TZOFFSETFROM:+0100
TZOFFSETTO:+0000
TZNAME:GMT
DTSTART:20211031T010000
END:STANDARD
END:VTIMEZONE
BEGIN:VEVENT
DTSTART;TZID=Europe/London:20201216T140000
DTEND;TZID=Europe/London:20201216T170000
DTSTAMP:20260423T083640
CREATED:20200514T112218Z
LAST-MODIFIED:20200514T132436Z
UID:2518-1608127200-1608138000@blackmoretheatre.co.uk
SUMMARY:Christmas Prize only Bingo
DESCRIPTION:Come and join us for a great fun afternoon out at this month’s Prize Only Bingo (with an Accumulator) at The Blackmore Theatre\, Bicton Street\, Exmouth.  You won’t know what you are missing if you don’t come! \nLots of prizes for a line and a full house. \nRaffle.  Refreshments. \nDisabled Access. \nDoors open 2.00 pm with all those important eyes down at 2.30 pm. \nProceeds from this event go towards the cost of refurbishment of The Blackmore Theatre which the Exmouth Players are fortunate to own. \nTickets may also be on sale from time to time for our forthcoming productions. Ticket Vouchers may also be available. \n(CIO Registered No 1174875)
URL:https://blackmoretheatre.co.uk/event/christmas-prize-only-bingo/
LOCATION:Blackmore Theatre\, 10 Bicton Street\, Exmouth\, EX8 2RU
CATEGORIES:Bingo,Fund Raiser
ATTACH;FMTTYPE=image/jpeg:https://blackmoretheatre.co.uk/wp-content/uploads/2020/04/bingo.jpg
END:VEVENT
BEGIN:VEVENT
DTSTART;TZID=Europe/London:20201114T090000
DTEND;TZID=Europe/London:20201114T090000
DTSTAMP:20260423T083640
CREATED:20200514T112220Z
LAST-MODIFIED:20200514T132759Z
UID:2524-1605344400-1605344400@blackmoretheatre.co.uk
SUMMARY:Coffee Morning at the Blackmore
DESCRIPTION:Teas\, coffees and home-made cakes\, such as German Apple Cake\, Lemon Drizzle\, Chocolate Cake\, Quiche and much more. \nRaffle. \nBooks\, greeting cards\, DVD’s and much more on sale. \nAll money raised goes towards refurbishments of the Theatre\, which The Exmouth Players are very fortunate to own. \nOccasionally\, tickets may also be on sale for our forthcoming productions. \nTicket vouchers are also on sale for any of our productions.  These would make the ideal gift for any occasion. \nIf you have not seen our wonderful theatre before\, then why not come along and see for yourself.  We do have works which continue from time to time as and when we have raised sufficient funds.  There are back-stage guided tours during our coffee morning.  You will be quite surprised to see what we have\, including our wonderful collection of costumes. \n(CIO Registered No 1174875)
URL:https://blackmoretheatre.co.uk/event/coffee-morning-at-the-blackmore-6/
LOCATION:Blackmore Theatre\, 10 Bicton Street\, Exmouth\, EX8 2RU
CATEGORIES:Coffee Mornings,Fund Raiser
END:VEVENT
BEGIN:VEVENT
DTSTART;TZID=Europe/London:20201021T150000
DTEND;TZID=Europe/London:20201021T180000
DTSTAMP:20260423T083640
CREATED:20200514T112214Z
LAST-MODIFIED:20200514T132847Z
UID:2515-1603292400-1603303200@blackmoretheatre.co.uk
SUMMARY:Prize only Bingo
DESCRIPTION:Come and join us for a great fun afternoon out at this month’s Prize Only Bingo (with an Accumulator) at The Blackmore Theatre\, Bicton Street\, Exmouth.  You won’t know what you are missing if you don’t come! \nLots of prizes for a line and a full house. \nRaffle.  Refreshments. \nDisabled Access. \nDoors open 2.00 pm with all those important eyes down at 2.30 pm. \nProceeds from this event go towards the cost of refurbishment of The Blackmore Theatre which the Exmouth Players are fortunate to own. \nTickets may also be on sale from time to time for our forthcoming productions. Ticket Vouchers may also be available. \n(CIO Registered No 1174875)
URL:https://blackmoretheatre.co.uk/event/prize-only-bingo-6/
LOCATION:Blackmore Theatre\, 10 Bicton Street\, Exmouth\, EX8 2RU
CATEGORIES:Bingo,Fund Raiser
ATTACH;FMTTYPE=image/jpeg:https://blackmoretheatre.co.uk/wp-content/uploads/2020/04/bingo.jpg
END:VEVENT
BEGIN:VEVENT
DTSTART;TZID=Europe/London:20201017T203000
DTEND;TZID=Europe/London:20201018T000000
DTSTAMP:20260423T083640
CREATED:20200514T105725Z
LAST-MODIFIED:20200514T112207Z
UID:2474-1602966600-1602979200@blackmoretheatre.co.uk
SUMMARY:Goodnight Mister Tom
DESCRIPTION:Adapted by David Wood from the Novel by Michelle Magorian
URL:https://blackmoretheatre.co.uk/event/goodnight-mister-tom-7/
LOCATION:Blackmore Theatre\, 10 Bicton Street\, Exmouth\, EX8 2RU
CATEGORIES:Productions
END:VEVENT
BEGIN:VEVENT
DTSTART;TZID=Europe/London:20201017T153000
DTEND;TZID=Europe/London:20201017T173000
DTSTAMP:20260423T083640
CREATED:20200514T105725Z
LAST-MODIFIED:20200514T112207Z
UID:2473-1602948600-1602955800@blackmoretheatre.co.uk
SUMMARY:Goodnight Mister Tom
DESCRIPTION:Adapted by David Wood from the Novel by Michelle Magorian
URL:https://blackmoretheatre.co.uk/event/goodnight-mister-tom-6/
LOCATION:Blackmore Theatre\, 10 Bicton Street\, Exmouth\, EX8 2RU
CATEGORIES:Productions
END:VEVENT
BEGIN:VEVENT
DTSTART;TZID=Europe/London:20201016T203000
DTEND;TZID=Europe/London:20201017T000000
DTSTAMP:20260423T083640
CREATED:20200514T105725Z
LAST-MODIFIED:20200514T112207Z
UID:2472-1602880200-1602892800@blackmoretheatre.co.uk
SUMMARY:Goodnight Mister Tom
DESCRIPTION:Adapted by David Wood from the Novel by Michelle Magorian
URL:https://blackmoretheatre.co.uk/event/goodnight-mister-tom-5/
LOCATION:Blackmore Theatre\, 10 Bicton Street\, Exmouth\, EX8 2RU
CATEGORIES:Productions
END:VEVENT
BEGIN:VEVENT
DTSTART;TZID=Europe/London:20201015T203000
DTEND;TZID=Europe/London:20201016T000000
DTSTAMP:20260423T083640
CREATED:20200514T105725Z
LAST-MODIFIED:20200514T112206Z
UID:2471-1602793800-1602806400@blackmoretheatre.co.uk
SUMMARY:Goodnight Mister Tom
DESCRIPTION:Adapted by David Wood from the Novel by Michelle Magorian
URL:https://blackmoretheatre.co.uk/event/goodnight-mister-tom-4/
LOCATION:Blackmore Theatre\, 10 Bicton Street\, Exmouth\, EX8 2RU
CATEGORIES:Productions
END:VEVENT
BEGIN:VEVENT
DTSTART;TZID=Europe/London:20201014T203000
DTEND;TZID=Europe/London:20201015T000000
DTSTAMP:20260423T083640
CREATED:20200514T105723Z
LAST-MODIFIED:20200514T112204Z
UID:2470-1602707400-1602720000@blackmoretheatre.co.uk
SUMMARY:Goodnight Mister Tom
DESCRIPTION:Adapted by David Wood from the Novel by Michelle Magorian
URL:https://blackmoretheatre.co.uk/event/goodnight-mister-tom-3/
LOCATION:Blackmore Theatre\, 10 Bicton Street\, Exmouth\, EX8 2RU
CATEGORIES:Productions
END:VEVENT
BEGIN:VEVENT
DTSTART;TZID=Europe/London:20201013T203000
DTEND;TZID=Europe/London:20201014T000000
DTSTAMP:20260423T083640
CREATED:20200514T105723Z
LAST-MODIFIED:20200514T112204Z
UID:2469-1602621000-1602633600@blackmoretheatre.co.uk
SUMMARY:Goodnight Mister Tom
DESCRIPTION:Adapted by David Wood from the Novel by Michelle Magorian
URL:https://blackmoretheatre.co.uk/event/goodnight-mister-tom-2/
LOCATION:Blackmore Theatre\, 10 Bicton Street\, Exmouth\, EX8 2RU
CATEGORIES:Productions
END:VEVENT
BEGIN:VEVENT
DTSTART;TZID=Europe/London:20201012T203000
DTEND;TZID=Europe/London:20201013T000000
DTSTAMP:20260423T083640
CREATED:20200514T105723Z
LAST-MODIFIED:20200514T112204Z
UID:2468-1602534600-1602547200@blackmoretheatre.co.uk
SUMMARY:Goodnight Mister Tom
DESCRIPTION:Adapted by David Wood from the Novel by Michelle Magorian
URL:https://blackmoretheatre.co.uk/event/goodnight-mister-tom/
LOCATION:Blackmore Theatre\, 10 Bicton Street\, Exmouth\, EX8 2RU
CATEGORIES:Productions
END:VEVENT
BEGIN:VEVENT
DTSTART;TZID=Europe/London:20201010T100000
DTEND;TZID=Europe/London:20201010T100000
DTSTAMP:20260423T083640
CREATED:20200514T112220Z
LAST-MODIFIED:20200514T112220Z
UID:2523-1602324000-1602324000@blackmoretheatre.co.uk
SUMMARY:Coffee Morning at the Blackmore
DESCRIPTION:Teas\, coffees and home-made cakes\, such as German Apple Cake\, Lemon Drizzle\, Chocolate Cake\, Quiche and much more.
URL:https://blackmoretheatre.co.uk/event/coffee-morning-at-the-blackmore-5/
LOCATION:Blackmore Theatre\, 10 Bicton Street\, Exmouth\, EX8 2RU
CATEGORIES:Coffee Mornings,Fund Raiser
END:VEVENT
BEGIN:VEVENT
DTSTART;TZID=Europe/London:20200916T150000
DTEND;TZID=Europe/London:20200916T180000
DTSTAMP:20260423T083640
CREATED:20200514T112214Z
LAST-MODIFIED:20200514T112214Z
UID:2514-1600268400-1600279200@blackmoretheatre.co.uk
SUMMARY:Prize only Bingo
DESCRIPTION:Come and join us for a great fun afternoon out at this month’s Prize Only Bingo (with an Accumulator) at The Blackmore Theatre\, Bicton Street\, Exmouth.  You won’t know what you are missing if you don’t come!
URL:https://blackmoretheatre.co.uk/event/prize-only-bingo-5/
LOCATION:Blackmore Theatre\, 10 Bicton Street\, Exmouth\, EX8 2RU
CATEGORIES:Bingo,Fund Raiser
END:VEVENT
BEGIN:VEVENT
DTSTART;TZID=Europe/London:20200912T100000
DTEND;TZID=Europe/London:20200912T100000
DTSTAMP:20260423T083640
CREATED:20200514T112220Z
LAST-MODIFIED:20200514T132501Z
UID:2522-1599904800-1599904800@blackmoretheatre.co.uk
SUMMARY:Coffee Morning at the Blackmore
DESCRIPTION:Teas\, coffees and home-made cakes\, such as German Apple Cake\, Lemon Drizzle\, Chocolate Cake\, Quiche and much more. \nRaffle. \nBooks\, greeting cards\, DVD’s and much more on sale. \nAll money raised goes towards refurbishments of the Theatre\, which The Exmouth Players are very fortunate to own. \nOccasionally\, tickets may also be on sale for our forthcoming productions. \nTicket vouchers are also on sale for any of our productions.  These would make the ideal gift for any occasion. \nIf you have not seen our wonderful theatre before\, then why not come along and see for yourself.  We do have works which continue from time to time as and when we have raised sufficient funds.  There are back-stage guided tours during our coffee morning.  You will be quite surprised to see what we have\, including our wonderful collection of costumes. \n(CIO Registered No 1174875)
URL:https://blackmoretheatre.co.uk/event/coffee-morning-at-the-blackmore-4/
LOCATION:Blackmore Theatre\, 10 Bicton Street\, Exmouth\, EX8 2RU
CATEGORIES:Coffee Mornings,Fund Raiser
END:VEVENT
BEGIN:VEVENT
DTSTART;TZID=Europe/London:20200819T150000
DTEND;TZID=Europe/London:20200819T180000
DTSTAMP:20260423T083640
CREATED:20200514T112214Z
LAST-MODIFIED:20200514T133000Z
UID:2513-1597849200-1597860000@blackmoretheatre.co.uk
SUMMARY:Prize only Bingo
DESCRIPTION:Come and join us for a great fun afternoon out at this month’s Prize Only Bingo (with an Accumulator) at The Blackmore Theatre\, Bicton Street\, Exmouth.  You won’t know what you are missing if you don’t come! \nLots of prizes for a line and a full house. \nRaffle.  Refreshments. \nDisabled Access. \nDoors open 2.00 pm with all those important eyes down at 2.30 pm. \nProceeds from this event go towards the cost of refurbishment of The Blackmore Theatre which the Exmouth Players are fortunate to own. \nTickets may also be on sale from time to time for our forthcoming productions. Ticket Vouchers may also be available. \n(CIO Registered No 1174875)
URL:https://blackmoretheatre.co.uk/event/prize-only-bingo-4/
LOCATION:Blackmore Theatre\, 10 Bicton Street\, Exmouth\, EX8 2RU
CATEGORIES:Bingo,Fund Raiser
END:VEVENT
BEGIN:VEVENT
DTSTART;TZID=Europe/London:20200808T100000
DTEND;TZID=Europe/London:20200808T100000
DTSTAMP:20260423T083640
CREATED:20200514T112218Z
LAST-MODIFIED:20200514T133033Z
UID:2521-1596880800-1596880800@blackmoretheatre.co.uk
SUMMARY:Coffee Morning at the Blackmore
DESCRIPTION:Teas\, coffees and home-made cakes\, such as German Apple Cake\, Lemon Drizzle\, Chocolate Cake\, Quiche and much more. \nRaffle. \nBooks\, greeting cards\, DVD’s and much more on sale. \nAll money raised goes towards refurbishments of the Theatre\, which The Exmouth Players are very fortunate to own. \nOccasionally\, tickets may also be on sale for our forthcoming productions. \nTicket vouchers are also on sale for any of our productions.  These would make the ideal gift for any occasion. \nIf you have not seen our wonderful theatre before\, then why not come along and see for yourself.  We do have works which continue from time to time as and when we have raised sufficient funds.  There are back-stage guided tours during our coffee morning.  You will be quite surprised to see what we have\, including our wonderful collection of costumes. \n(CIO Registered No 1174875)
URL:https://blackmoretheatre.co.uk/event/coffee-morning-at-the-blackmore-3/
LOCATION:Blackmore Theatre\, 10 Bicton Street\, Exmouth\, EX8 2RU
CATEGORIES:Coffee Mornings,Fund Raiser
ATTACH;FMTTYPE=image/jpeg:https://blackmoretheatre.co.uk/wp-content/uploads/2020/03/coffee.jpg
END:VEVENT
BEGIN:VEVENT
DTSTART;TZID=Europe/London:20200802T203000
DTEND;TZID=Europe/London:20200803T000000
DTSTAMP:20260423T083640
CREATED:20200514T105723Z
LAST-MODIFIED:20200514T112204Z
UID:2467-1596400200-1596412800@blackmoretheatre.co.uk
SUMMARY:Ladies Day
DESCRIPTION:Ladies Day’ is an amateur production by The Exmouth Players (CIO)
URL:https://blackmoretheatre.co.uk/event/ladies-day-7/
LOCATION:Blackmore Theatre\, 10 Bicton Street\, Exmouth\, EX8 2RU
CATEGORIES:Productions
END:VEVENT
BEGIN:VEVENT
DTSTART;TZID=Europe/London:20200801T203000
DTEND;TZID=Europe/London:20200802T000000
DTSTAMP:20260423T083640
CREATED:20200514T105722Z
LAST-MODIFIED:20200514T112204Z
UID:2466-1596313800-1596326400@blackmoretheatre.co.uk
SUMMARY:Ladies Day
DESCRIPTION:Ladies Day’ is an amateur production by The Exmouth Players (CIO)
URL:https://blackmoretheatre.co.uk/event/ladies-day-6/
LOCATION:Blackmore Theatre\, 10 Bicton Street\, Exmouth\, EX8 2RU
CATEGORIES:Productions
END:VEVENT
BEGIN:VEVENT
DTSTART;TZID=Europe/London:20200731T203000
DTEND;TZID=Europe/London:20200801T000000
DTSTAMP:20260423T083640
CREATED:20200514T105719Z
LAST-MODIFIED:20200514T112200Z
UID:2465-1596227400-1596240000@blackmoretheatre.co.uk
SUMMARY:Ladies Day
DESCRIPTION:Ladies Day’ is an amateur production by The Exmouth Players (CIO)
URL:https://blackmoretheatre.co.uk/event/ladies-day-5/
LOCATION:Blackmore Theatre\, 10 Bicton Street\, Exmouth\, EX8 2RU
CATEGORIES:Productions
END:VEVENT
BEGIN:VEVENT
DTSTART;TZID=Europe/London:20200730T203000
DTEND;TZID=Europe/London:20200731T000000
DTSTAMP:20260423T083640
CREATED:20200514T105719Z
LAST-MODIFIED:20200514T112200Z
UID:2464-1596141000-1596153600@blackmoretheatre.co.uk
SUMMARY:Ladies Day
DESCRIPTION:Ladies Day’ is an amateur production by The Exmouth Players (CIO)
URL:https://blackmoretheatre.co.uk/event/ladies-day-4/
LOCATION:Blackmore Theatre\, 10 Bicton Street\, Exmouth\, EX8 2RU
CATEGORIES:Productions
END:VEVENT
BEGIN:VEVENT
DTSTART;TZID=Europe/London:20200729T203000
DTEND;TZID=Europe/London:20200730T000000
DTSTAMP:20260423T083640
CREATED:20200514T105719Z
LAST-MODIFIED:20200514T112200Z
UID:2463-1596054600-1596067200@blackmoretheatre.co.uk
SUMMARY:Ladies Day
DESCRIPTION:Ladies Day’ is an amateur production by The Exmouth Players (CIO)
URL:https://blackmoretheatre.co.uk/event/ladies-day-3/
LOCATION:Blackmore Theatre\, 10 Bicton Street\, Exmouth\, EX8 2RU
CATEGORIES:Productions
END:VEVENT
BEGIN:VEVENT
DTSTART;TZID=Europe/London:20200728T203000
DTEND;TZID=Europe/London:20200729T000000
DTSTAMP:20260423T083640
CREATED:20200514T105719Z
LAST-MODIFIED:20200514T112200Z
UID:2462-1595968200-1595980800@blackmoretheatre.co.uk
SUMMARY:Ladies Day
DESCRIPTION:Ladies Day’ is an amateur production by The Exmouth Players (CIO)
URL:https://blackmoretheatre.co.uk/event/ladies-day-2/
LOCATION:Blackmore Theatre\, 10 Bicton Street\, Exmouth\, EX8 2RU
CATEGORIES:Productions
END:VEVENT
BEGIN:VEVENT
DTSTART;TZID=Europe/London:20200727T203000
DTEND;TZID=Europe/London:20200728T000000
DTSTAMP:20260423T083640
CREATED:20200514T105718Z
LAST-MODIFIED:20200514T112200Z
UID:2461-1595881800-1595894400@blackmoretheatre.co.uk
SUMMARY:Ladies Day
DESCRIPTION:Ladies Day’ is an amateur production by The Exmouth Players (CIO)
URL:https://blackmoretheatre.co.uk/event/ladies-day/
LOCATION:Blackmore Theatre\, 10 Bicton Street\, Exmouth\, EX8 2RU
CATEGORIES:Productions
END:VEVENT
BEGIN:VEVENT
DTSTART;TZID=Europe/London:20200715T150000
DTEND;TZID=Europe/London:20200715T180000
DTSTAMP:20260423T083640
CREATED:20200514T112214Z
LAST-MODIFIED:20200514T133150Z
UID:2512-1594825200-1594836000@blackmoretheatre.co.uk
SUMMARY:Prize only Bingo
DESCRIPTION:Come and join us for a great fun afternoon out at this month’s Prize Only Bingo (with an Accumulator) at The Blackmore Theatre\, Bicton Street\, Exmouth.  You won’t know what you are missing if you don’t come! \nLots of prizes for a line and a full house. \nRaffle.  Refreshments. \nDisabled Access. \nDoors open 2.00 pm with all those important eyes down at 2.30 pm. \nProceeds from this event go towards the cost of refurbishment of The Blackmore Theatre which the Exmouth Players are fortunate to own. \nTickets may also be on sale from time to time for our forthcoming productions. Ticket Vouchers may also be available. \n(CIO Registered No 1174875)
URL:https://blackmoretheatre.co.uk/event/prize-only-bingo-3/
LOCATION:Blackmore Theatre\, 10 Bicton Street\, Exmouth\, EX8 2RU
CATEGORIES:Bingo,Fund Raiser
END:VEVENT
BEGIN:VEVENT
DTSTART;TZID=Europe/London:20200711T100000
DTEND;TZID=Europe/London:20200711T100000
DTSTAMP:20260423T083640
CREATED:20200514T112218Z
LAST-MODIFIED:20200514T133229Z
UID:2520-1594461600-1594461600@blackmoretheatre.co.uk
SUMMARY:Coffee Morning at the Blackmore
DESCRIPTION:Teas\, coffees and home-made cakes\, such as German Apple Cake\, Lemon Drizzle\, Chocolate Cake\, Quiche and much more. \nRaffle. \nBooks\, greeting cards\, DVD’s and much more on sale. \nAll money raised goes towards refurbishments of the Theatre\, which The Exmouth Players are very fortunate to own. \nOccasionally\, tickets may also be on sale for our forthcoming productions. \nTicket vouchers are also on sale for any of our productions.  These would make the ideal gift for any occasion. \nIf you have not seen our wonderful theatre before\, then why not come along and see for yourself.  We do have works which continue from time to time as and when we have raised sufficient funds.  There are back-stage guided tours during our coffee morning.  You will be quite surprised to see what we have\, including our wonderful collection of costumes. \n(CIO Registered No 1174875)
URL:https://blackmoretheatre.co.uk/event/coffee-morning-at-the-blackmore-2/
LOCATION:Blackmore Theatre\, 10 Bicton Street\, Exmouth\, EX8 2RU
CATEGORIES:Coffee Mornings,Fund Raiser
ATTACH;FMTTYPE=image/jpeg:https://blackmoretheatre.co.uk/wp-content/uploads/2020/03/coffee.jpg
END:VEVENT
BEGIN:VEVENT
DTSTART;TZID=Europe/London:20200617T150000
DTEND;TZID=Europe/London:20200617T180000
DTSTAMP:20260423T083640
CREATED:20200514T112211Z
LAST-MODIFIED:20200514T133306Z
UID:2511-1592406000-1592416800@blackmoretheatre.co.uk
SUMMARY:Prize only Bingo
DESCRIPTION:Come and join us for a great fun afternoon out at this month’s Prize Only Bingo (with an Accumulator) at The Blackmore Theatre\, Bicton Street\, Exmouth.  You won’t know what you are missing if you don’t come! \nLots of prizes for a line and a full house. \nRaffle.  Refreshments. \nDisabled Access. \nDoors open 2.00 pm with all those important eyes down at 2.30 pm. \nProceeds from this event go towards the cost of refurbishment of The Blackmore Theatre which the Exmouth Players are fortunate to own. \nTickets may also be on sale from time to time for our forthcoming productions. Ticket Vouchers may also be available. \n(CIO Registered No 1174875)
URL:https://blackmoretheatre.co.uk/event/prize-only-bingo-2/
LOCATION:Blackmore Theatre\, 10 Bicton Street\, Exmouth\, EX8 2RU
CATEGORIES:Bingo,Fund Raiser
ATTACH;FMTTYPE=image/jpeg:https://blackmoretheatre.co.uk/wp-content/uploads/2020/04/bingo.jpg
END:VEVENT
BEGIN:VEVENT
DTSTART;TZID=Europe/London:20200613T100000
DTEND;TZID=Europe/London:20200613T130000
DTSTAMP:20260423T083640
CREATED:20200514T112218Z
LAST-MODIFIED:20200514T133346Z
UID:2519-1592042400-1592053200@blackmoretheatre.co.uk
SUMMARY:Coffee Morning at the Blackmore
DESCRIPTION:Teas\, coffees and home-made cakes\, such as German Apple Cake\, Lemon Drizzle\, Chocolate Cake\, Quiche and much more. \nRaffle. \nBooks\, greeting cards\, DVD’s and much more on sale. \nAll money raised goes towards refurbishments of the Theatre\, which The Exmouth Players are very fortunate to own. \nOccasionally\, tickets may also be on sale for our forthcoming productions. \nTicket vouchers are also on sale for any of our productions.  These would make the ideal gift for any occasion. \nIf you have not seen our wonderful theatre before\, then why not come along and see for yourself.  We do have works which continue from time to time as and when we have raised sufficient funds.  There are back-stage guided tours during our coffee morning.  You will be quite surprised to see what we have\, including our wonderful collection of costumes. \n(CIO Registered No 1174875)
URL:https://blackmoretheatre.co.uk/event/coffee-morning-at-the-blackmore/
LOCATION:Blackmore Theatre\, 10 Bicton Street\, Exmouth\, EX8 2RU
CATEGORIES:Coffee Mornings,Fund Raiser
ATTACH;FMTTYPE=image/jpeg:https://blackmoretheatre.co.uk/wp-content/uploads/2020/03/coffee.jpg
END:VEVENT
BEGIN:VEVENT
DTSTART;TZID=Europe/London:20200529T203000
DTEND;TZID=Europe/London:20200530T003000
DTSTAMP:20260423T083640
CREATED:20200514T134005Z
LAST-MODIFIED:20200514T134005Z
UID:3376-1590784200-1590798600@blackmoretheatre.co.uk
SUMMARY:Neil Diamond Tribute
DESCRIPTION:This webpage is under construction.  Please keep checking in from time to time.  This page will be updated as soon as further information becomes available.
URL:https://blackmoretheatre.co.uk/event/neil-diamond-tribute/
LOCATION:Blackmore Theatre\, 10 Bicton Street\, Exmouth\, EX8 2RU
CATEGORIES:Music
ATTACH;FMTTYPE=image/jpeg:https://blackmoretheatre.co.uk/wp-content/uploads/2020/05/Neil_Diamond-scaled.jpg
END:VEVENT
BEGIN:VEVENT
DTSTART;TZID=Europe/London:20200529T203000
DTEND;TZID=Europe/London:20200530T003000
DTSTAMP:20260423T083640
CREATED:20200514T134005Z
LAST-MODIFIED:20200514T134005Z
UID:3779-1590784200-1590798600@blackmoretheatre.co.uk
SUMMARY:Neil Diamond Tribute
DESCRIPTION:This webpage is under construction.  Please keep checking in from time to time.  This page will be updated as soon as further information becomes available.
URL:https://blackmoretheatre.co.uk/event/neil-diamond-tribute-2/
LOCATION:Blackmore Theatre\, 10 Bicton Street\, Exmouth\, EX8 2RU
CATEGORIES:Music
ATTACH;FMTTYPE=image/jpeg:https://blackmoretheatre.co.uk/wp-content/uploads/2020/05/Neil_Diamond-scaled.jpg
END:VEVENT
BEGIN:VEVENT
DTSTART;TZID=Europe/London:20200520T150000
DTEND;TZID=Europe/London:20200520T180000
DTSTAMP:20260423T083640
CREATED:20200401T142152Z
LAST-MODIFIED:20200402T140237Z
UID:2281-1589986800-1589997600@blackmoretheatre.co.uk
SUMMARY:Prize only Bingo - canceled
DESCRIPTION:Come and join us for a great fun afternoon out at this month’s Prize Only Bingo (with an Accumulator) at The Blackmore Theatre\, Bicton Street\, Exmouth.  You won’t know what you are missing if you don’t come! \nLots of prizes for a line and a full house. \nRaffle.  Refreshments. \nDisabled Access. \nDoors open 2.00 pm with all those important eyes down at 2.30 pm. \nProceeds from this event go towards the cost of refurbishment of The Blackmore Theatre which the Exmouth Players are fortunate to own. \nTickets may also be on sale from time to time for our forthcoming productions. Ticket Vouchers may also be available. \n(CIO Registered No 1174875)
URL:https://blackmoretheatre.co.uk/event/prize-only-bingo-canceled/
LOCATION:Blackmore Theatre\, 10 Bicton Street\, Exmouth\, EX8 2RU
CATEGORIES:Bingo,Fund Raiser
ATTACH;FMTTYPE=image/jpeg:https://blackmoretheatre.co.uk/wp-content/uploads/2020/04/bingo.jpg
END:VEVENT
BEGIN:VEVENT
DTSTART;TZID=Europe/London:20200509T103000
DTEND;TZID=Europe/London:20200509T130000
DTSTAMP:20260423T083640
CREATED:20200401T141601Z
LAST-MODIFIED:20200401T164010Z
UID:2276-1589020200-1589029200@blackmoretheatre.co.uk
SUMMARY:Coffee Morning at The Blackmore - canceled
DESCRIPTION:Teas\, coffees and home-made cakes\, such as German Apple Cake\, Lemon Drizzle\, Chocolate Cake\, Quiche and much more. \nRaffle. \nBooks\, greeting cards\, DVD’s and much more on sale. \nAll money raised goes towards refurbishments of the Theatre\, which The Exmouth Players are very fortunate to own. \nOccasionally\, tickets may also be on sale for our forthcoming productions. \nTicket vouchers are also on sale for any of our productions.  These would make the ideal gift for any occasion. \nIf you have not seen our wonderful theatre before\, then why not come along and see for yourself.  We do have works which continue from time to time as and when we have raised sufficient funds.  There are back-stage guided tours during our coffee morning.  You will be quite surprised to see what we have\, including our wonderful collection of costumes. \n(CIO Registered No 1174875)
URL:https://blackmoretheatre.co.uk/event/coffee-morning-2/
LOCATION:Blackmore Theatre\, 10 Bicton Street\, Exmouth\, EX8 2RU
CATEGORIES:Coffee Mornings,Fund Raiser
ATTACH;FMTTYPE=image/jpeg:https://blackmoretheatre.co.uk/wp-content/uploads/2020/03/coffee.jpg
END:VEVENT
END:VCALENDAR