BEGIN:VCALENDAR
VERSION:2.0
PRODID:-//Blackmore Theatre - ECPv6.15.18//NONSGML v1.0//EN
CALSCALE:GREGORIAN
METHOD:PUBLISH
X-WR-CALNAME:Blackmore Theatre
X-ORIGINAL-URL:https://blackmoretheatre.co.uk
X-WR-CALDESC:Events for Blackmore Theatre
REFRESH-INTERVAL;VALUE=DURATION:PT1H
X-Robots-Tag:noindex
X-PUBLISHED-TTL:PT1H
BEGIN:VTIMEZONE
TZID:Europe/London
BEGIN:DAYLIGHT
TZOFFSETFROM:+0000
TZOFFSETTO:+0100
TZNAME:BST
DTSTART:19720319T020000
END:DAYLIGHT
BEGIN:STANDARD
TZOFFSETFROM:+0100
TZOFFSETTO:+0000
TZNAME:GMT
DTSTART:19721029T020000
END:STANDARD
BEGIN:DAYLIGHT
TZOFFSETFROM:+0000
TZOFFSETTO:+0100
TZNAME:BST
DTSTART:19730318T020000
END:DAYLIGHT
BEGIN:STANDARD
TZOFFSETFROM:+0100
TZOFFSETTO:+0000
TZNAME:GMT
DTSTART:19731028T020000
END:STANDARD
BEGIN:DAYLIGHT
TZOFFSETFROM:+0000
TZOFFSETTO:+0100
TZNAME:BST
DTSTART:19740317T020000
END:DAYLIGHT
BEGIN:STANDARD
TZOFFSETFROM:+0100
TZOFFSETTO:+0000
TZNAME:GMT
DTSTART:19741027T020000
END:STANDARD
BEGIN:DAYLIGHT
TZOFFSETFROM:+0000
TZOFFSETTO:+0100
TZNAME:BST
DTSTART:19750316T020000
END:DAYLIGHT
BEGIN:STANDARD
TZOFFSETFROM:+0100
TZOFFSETTO:+0000
TZNAME:GMT
DTSTART:19751026T020000
END:STANDARD
BEGIN:DAYLIGHT
TZOFFSETFROM:+0000
TZOFFSETTO:+0100
TZNAME:BST
DTSTART:19760321T020000
END:DAYLIGHT
BEGIN:STANDARD
TZOFFSETFROM:+0100
TZOFFSETTO:+0000
TZNAME:GMT
DTSTART:19761024T020000
END:STANDARD
BEGIN:DAYLIGHT
TZOFFSETFROM:+0000
TZOFFSETTO:+0100
TZNAME:BST
DTSTART:19770320T020000
END:DAYLIGHT
BEGIN:STANDARD
TZOFFSETFROM:+0100
TZOFFSETTO:+0000
TZNAME:GMT
DTSTART:19771023T020000
END:STANDARD
END:VTIMEZONE
BEGIN:VEVENT
DTSTART;TZID=Europe/London:19760514T203000
DTEND;TZID=Europe/London:19760515T000000
DTSTAMP:20260424T010911
CREATED:20200514T123045Z
LAST-MODIFIED:20200514T123045Z
UID:3471-200953800-200966400@blackmoretheatre.co.uk
SUMMARY:Lloyd George Knew My Father
DESCRIPTION:Lloyd George Knew My Father
URL:https://blackmoretheatre.co.uk/event/lloyd-george-knew-my-father-3/
LOCATION:Blackmore Theatre\, 10 Bicton Street\, Exmouth\, EX8 2RU
CATEGORIES:Past Productions
END:VEVENT
BEGIN:VEVENT
DTSTART;TZID=Europe/London:19760501T203000
DTEND;TZID=Europe/London:19760502T000000
DTSTAMP:20260424T010911
CREATED:20200514T125242Z
LAST-MODIFIED:20200514T125242Z
UID:3655-199830600-199843200@blackmoretheatre.co.uk
SUMMARY:My Three Angels
DESCRIPTION:My Three Angels
URL:https://blackmoretheatre.co.uk/event/my-three-angels-2-2/
LOCATION:Blackmore Theatre\, 10 Bicton Street\, Exmouth\, EX8 2RU
CATEGORIES:Past Productions
END:VEVENT
BEGIN:VEVENT
DTSTART;TZID=Europe/London:19760501T203000
DTEND;TZID=Europe/London:19760502T000000
DTSTAMP:20260424T010911
CREATED:20200514T125242Z
LAST-MODIFIED:20200514T125242Z
UID:3656-199830600-199843200@blackmoretheatre.co.uk
SUMMARY:Lloyd George Knew My Father
DESCRIPTION:Lloyd George Knew My Father
URL:https://blackmoretheatre.co.uk/event/lloyd-george-knew-my-father-2-2/
LOCATION:Blackmore Theatre\, 10 Bicton Street\, Exmouth\, EX8 2RU
CATEGORIES:Past Productions
END:VEVENT
BEGIN:VEVENT
DTSTART;TZID=Europe/London:19760501T203000
DTEND;TZID=Europe/London:19760502T000000
DTSTAMP:20260424T010911
CREATED:20200514T125242Z
LAST-MODIFIED:20200514T125242Z
UID:3010-199830600-199843200@blackmoretheatre.co.uk
SUMMARY:My Three Angels
DESCRIPTION:My Three Angels
URL:https://blackmoretheatre.co.uk/event/my-three-angels-2/
LOCATION:Blackmore Theatre\, 10 Bicton Street\, Exmouth\, EX8 2RU
CATEGORIES:Past Productions
END:VEVENT
BEGIN:VEVENT
DTSTART;TZID=Europe/London:19760501T203000
DTEND;TZID=Europe/London:19760502T000000
DTSTAMP:20260424T010911
CREATED:20200514T125242Z
LAST-MODIFIED:20200514T125242Z
UID:3011-199830600-199843200@blackmoretheatre.co.uk
SUMMARY:Lloyd George Knew My Father
DESCRIPTION:Lloyd George Knew My Father
URL:https://blackmoretheatre.co.uk/event/lloyd-george-knew-my-father-2/
LOCATION:Blackmore Theatre\, 10 Bicton Street\, Exmouth\, EX8 2RU
CATEGORIES:Past Productions
END:VEVENT
BEGIN:VEVENT
DTSTART;TZID=Europe/London:19760301T193000
DTEND;TZID=Europe/London:19760301T230000
DTSTAMP:20260424T010911
CREATED:20200514T125243Z
LAST-MODIFIED:20200514T125243Z
UID:3012-194556600-194569200@blackmoretheatre.co.uk
SUMMARY:The Late Christopher Bean
DESCRIPTION:The Late Christopher Bean
URL:https://blackmoretheatre.co.uk/event/the-late-christopher-bean-2/
LOCATION:Blackmore Theatre\, 10 Bicton Street\, Exmouth\, EX8 2RU
CATEGORIES:Past Productions
END:VEVENT
BEGIN:VEVENT
DTSTART;TZID=Europe/London:19760301T193000
DTEND;TZID=Europe/London:19760301T230000
DTSTAMP:20260424T010911
CREATED:20200514T125243Z
LAST-MODIFIED:20200514T125243Z
UID:3657-194556600-194569200@blackmoretheatre.co.uk
SUMMARY:The Late Christopher Bean
DESCRIPTION:The Late Christopher Bean
URL:https://blackmoretheatre.co.uk/event/the-late-christopher-bean-2-2/
LOCATION:Blackmore Theatre\, 10 Bicton Street\, Exmouth\, EX8 2RU
CATEGORIES:Past Productions
END:VEVENT
BEGIN:VEVENT
DTSTART;TZID=Europe/London:19751201T193000
DTEND;TZID=Europe/London:19751201T230000
DTSTAMP:20260424T010911
CREATED:20200514T125245Z
LAST-MODIFIED:20200514T125245Z
UID:3015-186694200-186706800@blackmoretheatre.co.uk
SUMMARY:A Christmas Carol
DESCRIPTION:A Christmas Carol
URL:https://blackmoretheatre.co.uk/event/a-christmas-carol-3/
LOCATION:Blackmore Theatre\, 10 Bicton Street\, Exmouth\, EX8 2RU
CATEGORIES:Past Productions
END:VEVENT
BEGIN:VEVENT
DTSTART;TZID=Europe/London:19751201T193000
DTEND;TZID=Europe/London:19751201T230000
DTSTAMP:20260424T010911
CREATED:20200514T125245Z
LAST-MODIFIED:20200514T125245Z
UID:3660-186694200-186706800@blackmoretheatre.co.uk
SUMMARY:A Christmas Carol
DESCRIPTION:A Christmas Carol
URL:https://blackmoretheatre.co.uk/event/a-christmas-carol-3-2/
LOCATION:Blackmore Theatre\, 10 Bicton Street\, Exmouth\, EX8 2RU
CATEGORIES:Past Productions
END:VEVENT
BEGIN:VEVENT
DTSTART;TZID=Europe/London:19750901T203000
DTEND;TZID=Europe/London:19750902T000000
DTSTAMP:20260424T010911
CREATED:20200514T125246Z
LAST-MODIFIED:20200514T125246Z
UID:3016-178835400-178848000@blackmoretheatre.co.uk
SUMMARY:Semi-Detached
DESCRIPTION:Semi-Detached
URL:https://blackmoretheatre.co.uk/event/semi-detached-2/
LOCATION:Blackmore Theatre\, 10 Bicton Street\, Exmouth\, EX8 2RU
CATEGORIES:Past Productions
END:VEVENT
BEGIN:VEVENT
DTSTART;TZID=Europe/London:19750901T203000
DTEND;TZID=Europe/London:19750902T000000
DTSTAMP:20260424T010911
CREATED:20200514T125246Z
LAST-MODIFIED:20200514T125246Z
UID:3661-178835400-178848000@blackmoretheatre.co.uk
SUMMARY:Semi-Detached
DESCRIPTION:Semi-Detached
URL:https://blackmoretheatre.co.uk/event/semi-detached-2-2/
LOCATION:Blackmore Theatre\, 10 Bicton Street\, Exmouth\, EX8 2RU
CATEGORIES:Past Productions
END:VEVENT
BEGIN:VEVENT
DTSTART;TZID=Europe/London:19750501T203000
DTEND;TZID=Europe/London:19750502T000000
DTSTAMP:20260424T010911
CREATED:20200514T125243Z
LAST-MODIFIED:20200514T125243Z
UID:3658-168208200-168220800@blackmoretheatre.co.uk
SUMMARY:The Flip Side
DESCRIPTION:The Flip Side
URL:https://blackmoretheatre.co.uk/event/the-flip-side-2-2/
LOCATION:Blackmore Theatre\, 10 Bicton Street\, Exmouth\, EX8 2RU
CATEGORIES:Past Productions
END:VEVENT
BEGIN:VEVENT
DTSTART;TZID=Europe/London:19750501T203000
DTEND;TZID=Europe/London:19750502T000000
DTSTAMP:20260424T010911
CREATED:20200514T125243Z
LAST-MODIFIED:20200514T125243Z
UID:3013-168208200-168220800@blackmoretheatre.co.uk
SUMMARY:The Flip Side
DESCRIPTION:The Flip Side
URL:https://blackmoretheatre.co.uk/event/the-flip-side-2/
LOCATION:Blackmore Theatre\, 10 Bicton Street\, Exmouth\, EX8 2RU
CATEGORIES:Past Productions
END:VEVENT
BEGIN:VEVENT
DTSTART;TZID=Europe/London:19750301T193000
DTEND;TZID=Europe/London:19750301T230000
DTSTAMP:20260424T010911
CREATED:20200514T125245Z
LAST-MODIFIED:20200514T125245Z
UID:3014-162934200-162946800@blackmoretheatre.co.uk
SUMMARY:An Ideal Husband
DESCRIPTION:An Ideal Husband
URL:https://blackmoretheatre.co.uk/event/an-ideal-husband-2/
LOCATION:Blackmore Theatre\, 10 Bicton Street\, Exmouth\, EX8 2RU
CATEGORIES:Past Productions
END:VEVENT
BEGIN:VEVENT
DTSTART;TZID=Europe/London:19750301T193000
DTEND;TZID=Europe/London:19750301T230000
DTSTAMP:20260424T010911
CREATED:20200514T125245Z
LAST-MODIFIED:20200514T125245Z
UID:3659-162934200-162946800@blackmoretheatre.co.uk
SUMMARY:An Ideal Husband
DESCRIPTION:An Ideal Husband
URL:https://blackmoretheatre.co.uk/event/an-ideal-husband-2-2/
LOCATION:Blackmore Theatre\, 10 Bicton Street\, Exmouth\, EX8 2RU
CATEGORIES:Past Productions
END:VEVENT
BEGIN:VEVENT
DTSTART;TZID=Europe/London:19741101T193000
DTEND;TZID=Europe/London:19741101T230000
DTSTAMP:20260424T010911
CREATED:20200514T125249Z
LAST-MODIFIED:20200514T125249Z
UID:3665-152566200-152578800@blackmoretheatre.co.uk
SUMMARY:The Hollow
DESCRIPTION:The Hollow
URL:https://blackmoretheatre.co.uk/event/the-hollow-2-2/
LOCATION:Blackmore Theatre\, 10 Bicton Street\, Exmouth\, EX8 2RU
CATEGORIES:Past Productions
END:VEVENT
BEGIN:VEVENT
DTSTART;TZID=Europe/London:19741101T193000
DTEND;TZID=Europe/London:19741101T230000
DTSTAMP:20260424T010911
CREATED:20200514T125249Z
LAST-MODIFIED:20200514T125249Z
UID:3020-152566200-152578800@blackmoretheatre.co.uk
SUMMARY:The Hollow
DESCRIPTION:The Hollow
URL:https://blackmoretheatre.co.uk/event/the-hollow-2/
LOCATION:Blackmore Theatre\, 10 Bicton Street\, Exmouth\, EX8 2RU
CATEGORIES:Past Productions
END:VEVENT
BEGIN:VEVENT
DTSTART;TZID=Europe/London:19740901T203000
DTEND;TZID=Europe/London:19740902T000000
DTSTAMP:20260424T010911
CREATED:20200514T125246Z
LAST-MODIFIED:20200514T125246Z
UID:3017-147299400-147312000@blackmoretheatre.co.uk
SUMMARY:Louck Up Your Daughters
DESCRIPTION:Louck Up Your Daughters
URL:https://blackmoretheatre.co.uk/event/louck-up-your-daughters-2/
LOCATION:Blackmore Theatre\, 10 Bicton Street\, Exmouth\, EX8 2RU
CATEGORIES:Past Productions
END:VEVENT
BEGIN:VEVENT
DTSTART;TZID=Europe/London:19740901T203000
DTEND;TZID=Europe/London:19740902T000000
DTSTAMP:20260424T010911
CREATED:20200514T125246Z
LAST-MODIFIED:20200514T125246Z
UID:3662-147299400-147312000@blackmoretheatre.co.uk
SUMMARY:Louck Up Your Daughters
DESCRIPTION:Louck Up Your Daughters
URL:https://blackmoretheatre.co.uk/event/louck-up-your-daughters-2-2/
LOCATION:Blackmore Theatre\, 10 Bicton Street\, Exmouth\, EX8 2RU
CATEGORIES:Past Productions
END:VEVENT
BEGIN:VEVENT
DTSTART;TZID=Europe/London:19740501T203000
DTEND;TZID=Europe/London:19740502T000000
DTSTAMP:20260424T010911
CREATED:20200514T125246Z
LAST-MODIFIED:20200514T125246Z
UID:3018-136672200-136684800@blackmoretheatre.co.uk
SUMMARY:Dead on Nine
DESCRIPTION:Dead on Nine
URL:https://blackmoretheatre.co.uk/event/dead-on-nine-2/
LOCATION:Blackmore Theatre\, 10 Bicton Street\, Exmouth\, EX8 2RU
CATEGORIES:Past Productions
END:VEVENT
BEGIN:VEVENT
DTSTART;TZID=Europe/London:19740501T203000
DTEND;TZID=Europe/London:19740502T000000
DTSTAMP:20260424T010911
CREATED:20200514T125246Z
LAST-MODIFIED:20200514T125246Z
UID:3663-136672200-136684800@blackmoretheatre.co.uk
SUMMARY:Dead on Nine
DESCRIPTION:Dead on Nine
URL:https://blackmoretheatre.co.uk/event/dead-on-nine-2-2/
LOCATION:Blackmore Theatre\, 10 Bicton Street\, Exmouth\, EX8 2RU
CATEGORIES:Past Productions
END:VEVENT
BEGIN:VEVENT
DTSTART;TZID=Europe/London:19740301T193000
DTEND;TZID=Europe/London:19740301T230000
DTSTAMP:20260424T010911
CREATED:20200514T125248Z
LAST-MODIFIED:20200514T125248Z
UID:3019-131398200-131410800@blackmoretheatre.co.uk
SUMMARY:The Old Man Of The Mountains
DESCRIPTION:The Old Man Of The Mountains
URL:https://blackmoretheatre.co.uk/event/the-old-man-of-the-mountains-2/
LOCATION:Blackmore Theatre\, 10 Bicton Street\, Exmouth\, EX8 2RU
CATEGORIES:Past Productions
END:VEVENT
BEGIN:VEVENT
DTSTART;TZID=Europe/London:19740301T193000
DTEND;TZID=Europe/London:19740301T230000
DTSTAMP:20260424T010911
CREATED:20200514T125248Z
LAST-MODIFIED:20200514T125248Z
UID:3664-131398200-131410800@blackmoretheatre.co.uk
SUMMARY:The Old Man Of The Mountains
DESCRIPTION:The Old Man Of The Mountains
URL:https://blackmoretheatre.co.uk/event/the-old-man-of-the-mountains-2-2/
LOCATION:Blackmore Theatre\, 10 Bicton Street\, Exmouth\, EX8 2RU
CATEGORIES:Past Productions
END:VEVENT
BEGIN:VEVENT
DTSTART;TZID=Europe/London:19731101T193000
DTEND;TZID=Europe/London:19731101T230000
DTSTAMP:20260424T010911
CREATED:20200514T125249Z
LAST-MODIFIED:20200514T125249Z
UID:3023-121030200-121042800@blackmoretheatre.co.uk
SUMMARY:The Grass Is Greener
DESCRIPTION:The Grass Is Greener
URL:https://blackmoretheatre.co.uk/event/the-grass-is-greener-2/
LOCATION:Blackmore Theatre\, 10 Bicton Street\, Exmouth\, EX8 2RU
CATEGORIES:Past Productions
END:VEVENT
BEGIN:VEVENT
DTSTART;TZID=Europe/London:19731101T193000
DTEND;TZID=Europe/London:19731101T230000
DTSTAMP:20260424T010911
CREATED:20200514T125249Z
LAST-MODIFIED:20200514T125249Z
UID:3668-121030200-121042800@blackmoretheatre.co.uk
SUMMARY:The Grass Is Greener
DESCRIPTION:The Grass Is Greener
URL:https://blackmoretheatre.co.uk/event/the-grass-is-greener-2-2/
LOCATION:Blackmore Theatre\, 10 Bicton Street\, Exmouth\, EX8 2RU
CATEGORIES:Past Productions
END:VEVENT
BEGIN:VEVENT
DTSTART;TZID=Europe/London:19730901T203000
DTEND;TZID=Europe/London:19730902T000000
DTSTAMP:20260424T010911
CREATED:20200514T125249Z
LAST-MODIFIED:20200514T125249Z
UID:3666-115763400-115776000@blackmoretheatre.co.uk
SUMMARY:Trap For a Lonely Man
DESCRIPTION:Trap For a Lonely Man
URL:https://blackmoretheatre.co.uk/event/trap-for-a-lonely-man-2-2/
LOCATION:Blackmore Theatre\, 10 Bicton Street\, Exmouth\, EX8 2RU
CATEGORIES:Past Productions
END:VEVENT
BEGIN:VEVENT
DTSTART;TZID=Europe/London:19730901T203000
DTEND;TZID=Europe/London:19730902T000000
DTSTAMP:20260424T010911
CREATED:20200514T125249Z
LAST-MODIFIED:20200514T125249Z
UID:3021-115763400-115776000@blackmoretheatre.co.uk
SUMMARY:Trap For a Lonely Man
DESCRIPTION:Trap For a Lonely Man
URL:https://blackmoretheatre.co.uk/event/trap-for-a-lonely-man-2/
LOCATION:Blackmore Theatre\, 10 Bicton Street\, Exmouth\, EX8 2RU
CATEGORIES:Past Productions
END:VEVENT
BEGIN:VEVENT
DTSTART;TZID=Europe/London:19730501T203000
DTEND;TZID=Europe/London:19730502T000000
DTSTAMP:20260424T010911
CREATED:20200514T125249Z
LAST-MODIFIED:20200514T125249Z
UID:3667-105136200-105148800@blackmoretheatre.co.uk
SUMMARY:Candida
DESCRIPTION:Candida
URL:https://blackmoretheatre.co.uk/event/candida-2-2/
LOCATION:Blackmore Theatre\, 10 Bicton Street\, Exmouth\, EX8 2RU
CATEGORIES:Past Productions
END:VEVENT
BEGIN:VEVENT
DTSTART;TZID=Europe/London:19730501T203000
DTEND;TZID=Europe/London:19730502T000000
DTSTAMP:20260424T010911
CREATED:20200514T125249Z
LAST-MODIFIED:20200514T125249Z
UID:3022-105136200-105148800@blackmoretheatre.co.uk
SUMMARY:Candida
DESCRIPTION:Candida
URL:https://blackmoretheatre.co.uk/event/candida-2/
LOCATION:Blackmore Theatre\, 10 Bicton Street\, Exmouth\, EX8 2RU
CATEGORIES:Past Productions
END:VEVENT
BEGIN:VEVENT
DTSTART;TZID=Europe/London:19730301T193000
DTEND;TZID=Europe/London:19730301T230000
DTSTAMP:20260424T010911
CREATED:20200514T125252Z
LAST-MODIFIED:20200514T125252Z
UID:3024-99862200-99874800@blackmoretheatre.co.uk
SUMMARY:Night Must Fall
DESCRIPTION:Night Must Fall
URL:https://blackmoretheatre.co.uk/event/night-must-fall-2/
LOCATION:Blackmore Theatre\, 10 Bicton Street\, Exmouth\, EX8 2RU
CATEGORIES:Past Productions
END:VEVENT
END:VCALENDAR