BEGIN:VCALENDAR
VERSION:2.0
PRODID:-//Blackmore Theatre - ECPv6.15.18//NONSGML v1.0//EN
CALSCALE:GREGORIAN
METHOD:PUBLISH
X-WR-CALNAME:Blackmore Theatre
X-ORIGINAL-URL:https://blackmoretheatre.co.uk
X-WR-CALDESC:Events for Blackmore Theatre
REFRESH-INTERVAL;VALUE=DURATION:PT1H
X-Robots-Tag:noindex
X-PUBLISHED-TTL:PT1H
BEGIN:VTIMEZONE
TZID:Europe/London
BEGIN:DAYLIGHT
TZOFFSETFROM:+0000
TZOFFSETTO:+0100
TZNAME:BST
DTSTART:19770320T020000
END:DAYLIGHT
BEGIN:STANDARD
TZOFFSETFROM:+0100
TZOFFSETTO:+0000
TZNAME:GMT
DTSTART:19771023T020000
END:STANDARD
BEGIN:DAYLIGHT
TZOFFSETFROM:+0000
TZOFFSETTO:+0100
TZNAME:BST
DTSTART:19780319T020000
END:DAYLIGHT
BEGIN:STANDARD
TZOFFSETFROM:+0100
TZOFFSETTO:+0000
TZNAME:GMT
DTSTART:19781029T020000
END:STANDARD
BEGIN:DAYLIGHT
TZOFFSETFROM:+0000
TZOFFSETTO:+0100
TZNAME:BST
DTSTART:19790318T020000
END:DAYLIGHT
BEGIN:STANDARD
TZOFFSETFROM:+0100
TZOFFSETTO:+0000
TZNAME:GMT
DTSTART:19791028T020000
END:STANDARD
BEGIN:DAYLIGHT
TZOFFSETFROM:+0000
TZOFFSETTO:+0100
TZNAME:BST
DTSTART:19800316T020000
END:DAYLIGHT
BEGIN:STANDARD
TZOFFSETFROM:+0100
TZOFFSETTO:+0000
TZNAME:GMT
DTSTART:19801026T020000
END:STANDARD
BEGIN:DAYLIGHT
TZOFFSETFROM:+0000
TZOFFSETTO:+0100
TZNAME:BST
DTSTART:19810329T010000
END:DAYLIGHT
BEGIN:STANDARD
TZOFFSETFROM:+0100
TZOFFSETTO:+0000
TZNAME:GMT
DTSTART:19811025T010000
END:STANDARD
BEGIN:DAYLIGHT
TZOFFSETFROM:+0000
TZOFFSETTO:+0100
TZNAME:BST
DTSTART:19820328T010000
END:DAYLIGHT
BEGIN:STANDARD
TZOFFSETFROM:+0100
TZOFFSETTO:+0000
TZNAME:GMT
DTSTART:19821024T010000
END:STANDARD
END:VTIMEZONE
BEGIN:VEVENT
DTSTART;TZID=Europe/London:19810514T203000
DTEND;TZID=Europe/London:19810515T000000
DTSTAMP:20260421T114111
CREATED:20200514T123033Z
LAST-MODIFIED:20200514T123033Z
UID:3469-358720200-358732800@blackmoretheatre.co.uk
SUMMARY:Worm's Eye View
DESCRIPTION:Worm’s Eye View
URL:https://blackmoretheatre.co.uk/event/worms-eye-view-2-2/
LOCATION:Blackmore Theatre\, 10 Bicton Street\, Exmouth\, EX8 2RU
CATEGORIES:Past Productions
END:VEVENT
BEGIN:VEVENT
DTSTART;TZID=Europe/London:19810501T203000
DTEND;TZID=Europe/London:19810502T000000
DTSTAMP:20260421T114111
CREATED:20200514T125230Z
LAST-MODIFIED:20200514T125230Z
UID:3637-357597000-357609600@blackmoretheatre.co.uk
SUMMARY:Worm's Eye View
DESCRIPTION:Worm’s Eye View
URL:https://blackmoretheatre.co.uk/event/worms-eye-view-4-2/
LOCATION:Blackmore Theatre\, 10 Bicton Street\, Exmouth\, EX8 2RU
CATEGORIES:Past Productions
END:VEVENT
BEGIN:VEVENT
DTSTART;TZID=Europe/London:19810501T203000
DTEND;TZID=Europe/London:19810502T000000
DTSTAMP:20260421T114111
CREATED:20200514T125230Z
LAST-MODIFIED:20200514T125230Z
UID:2992-357597000-357609600@blackmoretheatre.co.uk
SUMMARY:Worm's Eye View
DESCRIPTION:Worm’s Eye View
URL:https://blackmoretheatre.co.uk/event/worms-eye-view-4/
LOCATION:Blackmore Theatre\, 10 Bicton Street\, Exmouth\, EX8 2RU
CATEGORIES:Past Productions
END:VEVENT
BEGIN:VEVENT
DTSTART;TZID=Europe/London:19810301T193000
DTEND;TZID=Europe/London:19810301T230000
DTSTAMP:20260421T114111
CREATED:20200514T125230Z
LAST-MODIFIED:20200514T125230Z
UID:2993-352323000-352335600@blackmoretheatre.co.uk
SUMMARY:John Gabriel Borkman
DESCRIPTION:John Gabriel Borkman
URL:https://blackmoretheatre.co.uk/event/john-gabriel-borkman-2/
LOCATION:Blackmore Theatre\, 10 Bicton Street\, Exmouth\, EX8 2RU
CATEGORIES:Past Productions
END:VEVENT
BEGIN:VEVENT
DTSTART;TZID=Europe/London:19810301T193000
DTEND;TZID=Europe/London:19810301T230000
DTSTAMP:20260421T114111
CREATED:20200514T125230Z
LAST-MODIFIED:20200514T125230Z
UID:3638-352323000-352335600@blackmoretheatre.co.uk
SUMMARY:John Gabriel Borkman
DESCRIPTION:John Gabriel Borkman
URL:https://blackmoretheatre.co.uk/event/john-gabriel-borkman-2-2/
LOCATION:Blackmore Theatre\, 10 Bicton Street\, Exmouth\, EX8 2RU
CATEGORIES:Past Productions
END:VEVENT
BEGIN:VEVENT
DTSTART;TZID=Europe/London:19801201T193000
DTEND;TZID=Europe/London:19801201T230000
DTSTAMP:20260421T114111
CREATED:20200514T125233Z
LAST-MODIFIED:20200514T125233Z
UID:3642-344547000-344559600@blackmoretheatre.co.uk
SUMMARY:The Peacocks Must Go
DESCRIPTION:The Peacocks Must Go
URL:https://blackmoretheatre.co.uk/event/the-peacocks-must-go-2-2/
LOCATION:Blackmore Theatre\, 10 Bicton Street\, Exmouth\, EX8 2RU
CATEGORIES:Past Productions
END:VEVENT
BEGIN:VEVENT
DTSTART;TZID=Europe/London:19801201T193000
DTEND;TZID=Europe/London:19801201T230000
DTSTAMP:20260421T114111
CREATED:20200514T125233Z
LAST-MODIFIED:20200514T125233Z
UID:2997-344547000-344559600@blackmoretheatre.co.uk
SUMMARY:The Peacocks Must Go
DESCRIPTION:The Peacocks Must Go
URL:https://blackmoretheatre.co.uk/event/the-peacocks-must-go-2/
LOCATION:Blackmore Theatre\, 10 Bicton Street\, Exmouth\, EX8 2RU
CATEGORIES:Past Productions
END:VEVENT
BEGIN:VEVENT
DTSTART;TZID=Europe/London:19800901T203000
DTEND;TZID=Europe/London:19800902T000000
DTSTAMP:20260421T114111
CREATED:20200514T125233Z
LAST-MODIFIED:20200514T125233Z
UID:2994-336688200-336700800@blackmoretheatre.co.uk
SUMMARY:Blithe Spirit
DESCRIPTION:Blithe Spirit
URL:https://blackmoretheatre.co.uk/event/blithe-spirit-4/
LOCATION:Blackmore Theatre\, 10 Bicton Street\, Exmouth\, EX8 2RU
CATEGORIES:Past Productions
END:VEVENT
BEGIN:VEVENT
DTSTART;TZID=Europe/London:19800901T203000
DTEND;TZID=Europe/London:19800902T000000
DTSTAMP:20260421T114111
CREATED:20200514T125233Z
LAST-MODIFIED:20200514T125233Z
UID:3639-336688200-336700800@blackmoretheatre.co.uk
SUMMARY:Blithe Spirit
DESCRIPTION:Blithe Spirit
URL:https://blackmoretheatre.co.uk/event/blithe-spirit-4-2/
LOCATION:Blackmore Theatre\, 10 Bicton Street\, Exmouth\, EX8 2RU
CATEGORIES:Past Productions
END:VEVENT
BEGIN:VEVENT
DTSTART;TZID=Europe/London:19800501T203000
DTEND;TZID=Europe/London:19800502T000000
DTSTAMP:20260421T114111
CREATED:20200514T125233Z
LAST-MODIFIED:20200514T125233Z
UID:2995-326061000-326073600@blackmoretheatre.co.uk
SUMMARY:The Proof Of The Poison
DESCRIPTION:The Proof Of The Poison
URL:https://blackmoretheatre.co.uk/event/the-proof-of-the-poison-2/
LOCATION:Blackmore Theatre\, 10 Bicton Street\, Exmouth\, EX8 2RU
CATEGORIES:Past Productions
END:VEVENT
BEGIN:VEVENT
DTSTART;TZID=Europe/London:19800501T203000
DTEND;TZID=Europe/London:19800502T000000
DTSTAMP:20260421T114111
CREATED:20200514T125233Z
LAST-MODIFIED:20200514T125233Z
UID:3640-326061000-326073600@blackmoretheatre.co.uk
SUMMARY:The Proof Of The Poison
DESCRIPTION:The Proof Of The Poison
URL:https://blackmoretheatre.co.uk/event/the-proof-of-the-poison-2-2/
LOCATION:Blackmore Theatre\, 10 Bicton Street\, Exmouth\, EX8 2RU
CATEGORIES:Past Productions
END:VEVENT
BEGIN:VEVENT
DTSTART;TZID=Europe/London:19800301T193000
DTEND;TZID=Europe/London:19800301T230000
DTSTAMP:20260421T114111
CREATED:20200514T125233Z
LAST-MODIFIED:20200514T125233Z
UID:3641-320787000-320799600@blackmoretheatre.co.uk
SUMMARY:Be My Valentine
DESCRIPTION:Be My Valentine
URL:https://blackmoretheatre.co.uk/event/be-my-valentine-2-2/
LOCATION:Blackmore Theatre\, 10 Bicton Street\, Exmouth\, EX8 2RU
CATEGORIES:Past Productions
END:VEVENT
BEGIN:VEVENT
DTSTART;TZID=Europe/London:19800301T193000
DTEND;TZID=Europe/London:19800301T230000
DTSTAMP:20260421T114111
CREATED:20200514T125233Z
LAST-MODIFIED:20200514T125233Z
UID:2996-320787000-320799600@blackmoretheatre.co.uk
SUMMARY:Be My Valentine
DESCRIPTION:Be My Valentine
URL:https://blackmoretheatre.co.uk/event/be-my-valentine-2/
LOCATION:Blackmore Theatre\, 10 Bicton Street\, Exmouth\, EX8 2RU
CATEGORIES:Past Productions
END:VEVENT
BEGIN:VEVENT
DTSTART;TZID=Europe/London:19791201T193000
DTEND;TZID=Europe/London:19791201T230000
DTSTAMP:20260421T114111
CREATED:20200514T125236Z
LAST-MODIFIED:20200514T125236Z
UID:3644-312924600-312937200@blackmoretheatre.co.uk
SUMMARY:Cranford
DESCRIPTION:Cranford
URL:https://blackmoretheatre.co.uk/event/cranford-3-2/
LOCATION:Blackmore Theatre\, 10 Bicton Street\, Exmouth\, EX8 2RU
CATEGORIES:Past Productions
END:VEVENT
BEGIN:VEVENT
DTSTART;TZID=Europe/London:19791201T193000
DTEND;TZID=Europe/London:19791201T230000
DTSTAMP:20260421T114111
CREATED:20200514T125236Z
LAST-MODIFIED:20200514T125236Z
UID:2999-312924600-312937200@blackmoretheatre.co.uk
SUMMARY:Cranford
DESCRIPTION:Cranford
URL:https://blackmoretheatre.co.uk/event/cranford-3/
LOCATION:Blackmore Theatre\, 10 Bicton Street\, Exmouth\, EX8 2RU
CATEGORIES:Past Productions
END:VEVENT
BEGIN:VEVENT
DTSTART;TZID=Europe/London:19790901T203000
DTEND;TZID=Europe/London:19790902T000000
DTSTAMP:20260421T114111
CREATED:20200514T125236Z
LAST-MODIFIED:20200514T125236Z
UID:3001-305065800-305078400@blackmoretheatre.co.uk
SUMMARY:Hot and Cold in all Rooms
DESCRIPTION:Hot and Cold in all Rooms
URL:https://blackmoretheatre.co.uk/event/hot-and-cold-in-all-rooms-2/
LOCATION:Blackmore Theatre\, 10 Bicton Street\, Exmouth\, EX8 2RU
CATEGORIES:Past Productions
END:VEVENT
BEGIN:VEVENT
DTSTART;TZID=Europe/London:19790901T203000
DTEND;TZID=Europe/London:19790902T000000
DTSTAMP:20260421T114111
CREATED:20200514T125236Z
LAST-MODIFIED:20200514T125236Z
UID:3646-305065800-305078400@blackmoretheatre.co.uk
SUMMARY:Hot and Cold in all Rooms
DESCRIPTION:Hot and Cold in all Rooms
URL:https://blackmoretheatre.co.uk/event/hot-and-cold-in-all-rooms-2-2/
LOCATION:Blackmore Theatre\, 10 Bicton Street\, Exmouth\, EX8 2RU
CATEGORIES:Past Productions
END:VEVENT
BEGIN:VEVENT
DTSTART;TZID=Europe/London:19790501T203000
DTEND;TZID=Europe/London:19790502T000000
DTSTAMP:20260421T114111
CREATED:20200514T125236Z
LAST-MODIFIED:20200514T125236Z
UID:3000-294438600-294451200@blackmoretheatre.co.uk
SUMMARY:Outward Bound
DESCRIPTION:Outward Bound
URL:https://blackmoretheatre.co.uk/event/outward-bound-2/
LOCATION:Blackmore Theatre\, 10 Bicton Street\, Exmouth\, EX8 2RU
CATEGORIES:Past Productions
END:VEVENT
BEGIN:VEVENT
DTSTART;TZID=Europe/London:19790501T203000
DTEND;TZID=Europe/London:19790502T000000
DTSTAMP:20260421T114111
CREATED:20200514T125236Z
LAST-MODIFIED:20200514T125236Z
UID:3645-294438600-294451200@blackmoretheatre.co.uk
SUMMARY:Outward Bound
DESCRIPTION:Outward Bound
URL:https://blackmoretheatre.co.uk/event/outward-bound-2-2/
LOCATION:Blackmore Theatre\, 10 Bicton Street\, Exmouth\, EX8 2RU
CATEGORIES:Past Productions
END:VEVENT
BEGIN:VEVENT
DTSTART;TZID=Europe/London:19790301T193000
DTEND;TZID=Europe/London:19790301T230000
DTSTAMP:20260421T114111
CREATED:20200514T125234Z
LAST-MODIFIED:20200514T125234Z
UID:2998-289164600-289177200@blackmoretheatre.co.uk
SUMMARY:Book of the Month
DESCRIPTION:Book of the Month
URL:https://blackmoretheatre.co.uk/event/book-of-the-month-2/
LOCATION:Blackmore Theatre\, 10 Bicton Street\, Exmouth\, EX8 2RU
CATEGORIES:Past Productions
END:VEVENT
BEGIN:VEVENT
DTSTART;TZID=Europe/London:19790301T193000
DTEND;TZID=Europe/London:19790301T230000
DTSTAMP:20260421T114111
CREATED:20200514T125234Z
LAST-MODIFIED:20200514T125234Z
UID:3643-289164600-289177200@blackmoretheatre.co.uk
SUMMARY:Book of the Month
DESCRIPTION:Book of the Month
URL:https://blackmoretheatre.co.uk/event/book-of-the-month-2-2/
LOCATION:Blackmore Theatre\, 10 Bicton Street\, Exmouth\, EX8 2RU
CATEGORIES:Past Productions
END:VEVENT
BEGIN:VEVENT
DTSTART;TZID=Europe/London:19780901T203000
DTEND;TZID=Europe/London:19780902T000000
DTSTAMP:20260421T114111
CREATED:20200514T125237Z
LAST-MODIFIED:20200514T125237Z
UID:3002-273529800-273542400@blackmoretheatre.co.uk
SUMMARY:Hay Fever
DESCRIPTION:Hay Fever
URL:https://blackmoretheatre.co.uk/event/hay-fever-3/
LOCATION:Blackmore Theatre\, 10 Bicton Street\, Exmouth\, EX8 2RU
CATEGORIES:Past Productions
END:VEVENT
BEGIN:VEVENT
DTSTART;TZID=Europe/London:19780901T203000
DTEND;TZID=Europe/London:19780902T000000
DTSTAMP:20260421T114111
CREATED:20200514T125237Z
LAST-MODIFIED:20200514T125237Z
UID:3647-273529800-273542400@blackmoretheatre.co.uk
SUMMARY:Hay Fever
DESCRIPTION:Hay Fever
URL:https://blackmoretheatre.co.uk/event/hay-fever-3-2/
LOCATION:Blackmore Theatre\, 10 Bicton Street\, Exmouth\, EX8 2RU
CATEGORIES:Past Productions
END:VEVENT
BEGIN:VEVENT
DTSTART;TZID=Europe/London:19780514T203000
DTEND;TZID=Europe/London:19780515T000000
DTSTAMP:20260421T114111
CREATED:20200514T123042Z
LAST-MODIFIED:20200514T123042Z
UID:2701-264025800-264038400@blackmoretheatre.co.uk
SUMMARY:Savage Dilemma
DESCRIPTION:Savage Dilemma
URL:https://blackmoretheatre.co.uk/event/savage-dilemma/
LOCATION:Blackmore Theatre\, 10 Bicton Street\, Exmouth\, EX8 2RU
CATEGORIES:Past Productions
END:VEVENT
BEGIN:VEVENT
DTSTART;TZID=Europe/London:19780514T203000
DTEND;TZID=Europe/London:19780515T000000
DTSTAMP:20260421T114111
CREATED:20200514T123042Z
LAST-MODIFIED:20200514T123042Z
UID:3470-264025800-264038400@blackmoretheatre.co.uk
SUMMARY:Savage Dilemma
DESCRIPTION:Savage Dilemma
URL:https://blackmoretheatre.co.uk/event/savage-dilemma-3/
LOCATION:Blackmore Theatre\, 10 Bicton Street\, Exmouth\, EX8 2RU
CATEGORIES:Past Productions
END:VEVENT
BEGIN:VEVENT
DTSTART;TZID=Europe/London:19780501T203000
DTEND;TZID=Europe/London:19780502T000000
DTSTAMP:20260421T114111
CREATED:20200514T125239Z
LAST-MODIFIED:20200514T125239Z
UID:3649-262902600-262915200@blackmoretheatre.co.uk
SUMMARY:Savage Dilemma
DESCRIPTION:Savage Dilemma
URL:https://blackmoretheatre.co.uk/event/savage-dilemma-2-2/
LOCATION:Blackmore Theatre\, 10 Bicton Street\, Exmouth\, EX8 2RU
CATEGORIES:Past Productions
END:VEVENT
BEGIN:VEVENT
DTSTART;TZID=Europe/London:19780501T203000
DTEND;TZID=Europe/London:19780502T000000
DTSTAMP:20260421T114111
CREATED:20200514T125239Z
LAST-MODIFIED:20200514T125239Z
UID:3650-262902600-262915200@blackmoretheatre.co.uk
SUMMARY:Suspect
DESCRIPTION:Suspect
URL:https://blackmoretheatre.co.uk/event/suspect-2-2/
LOCATION:Blackmore Theatre\, 10 Bicton Street\, Exmouth\, EX8 2RU
CATEGORIES:Past Productions
END:VEVENT
BEGIN:VEVENT
DTSTART;TZID=Europe/London:19780501T203000
DTEND;TZID=Europe/London:19780502T000000
DTSTAMP:20260421T114111
CREATED:20200514T125239Z
LAST-MODIFIED:20200514T125239Z
UID:3004-262902600-262915200@blackmoretheatre.co.uk
SUMMARY:Savage Dilemma
DESCRIPTION:Savage Dilemma
URL:https://blackmoretheatre.co.uk/event/savage-dilemma-2/
LOCATION:Blackmore Theatre\, 10 Bicton Street\, Exmouth\, EX8 2RU
CATEGORIES:Past Productions
END:VEVENT
BEGIN:VEVENT
DTSTART;TZID=Europe/London:19780501T203000
DTEND;TZID=Europe/London:19780502T000000
DTSTAMP:20260421T114111
CREATED:20200514T125239Z
LAST-MODIFIED:20200514T125239Z
UID:3005-262902600-262915200@blackmoretheatre.co.uk
SUMMARY:Suspect
DESCRIPTION:Suspect
URL:https://blackmoretheatre.co.uk/event/suspect-2/
LOCATION:Blackmore Theatre\, 10 Bicton Street\, Exmouth\, EX8 2RU
CATEGORIES:Past Productions
END:VEVENT
BEGIN:VEVENT
DTSTART;TZID=Europe/London:19780301T193000
DTEND;TZID=Europe/London:19780301T230000
DTSTAMP:20260421T114111
CREATED:20200514T125237Z
LAST-MODIFIED:20200514T125237Z
UID:3003-257628600-257641200@blackmoretheatre.co.uk
SUMMARY:Lord Arthur Savile's Crime
DESCRIPTION:Lord Arthur Savile’s Crime
URL:https://blackmoretheatre.co.uk/event/lord-arthur-saviles-crime-2/
LOCATION:Blackmore Theatre\, 10 Bicton Street\, Exmouth\, EX8 2RU
CATEGORIES:Past Productions
END:VEVENT
END:VCALENDAR