BEGIN:VCALENDAR
VERSION:2.0
PRODID:-//Blackmore Theatre - ECPv6.15.18//NONSGML v1.0//EN
CALSCALE:GREGORIAN
METHOD:PUBLISH
X-WR-CALNAME:Blackmore Theatre
X-ORIGINAL-URL:https://blackmoretheatre.co.uk
X-WR-CALDESC:Events for Blackmore Theatre
REFRESH-INTERVAL;VALUE=DURATION:PT1H
X-Robots-Tag:noindex
X-PUBLISHED-TTL:PT1H
BEGIN:VTIMEZONE
TZID:Europe/London
BEGIN:DAYLIGHT
TZOFFSETFROM:+0000
TZOFFSETTO:+0100
TZNAME:BST
DTSTART:19790318T020000
END:DAYLIGHT
BEGIN:STANDARD
TZOFFSETFROM:+0100
TZOFFSETTO:+0000
TZNAME:GMT
DTSTART:19791028T020000
END:STANDARD
BEGIN:DAYLIGHT
TZOFFSETFROM:+0000
TZOFFSETTO:+0100
TZNAME:BST
DTSTART:19800316T020000
END:DAYLIGHT
BEGIN:STANDARD
TZOFFSETFROM:+0100
TZOFFSETTO:+0000
TZNAME:GMT
DTSTART:19801026T020000
END:STANDARD
BEGIN:DAYLIGHT
TZOFFSETFROM:+0000
TZOFFSETTO:+0100
TZNAME:BST
DTSTART:19810329T010000
END:DAYLIGHT
BEGIN:STANDARD
TZOFFSETFROM:+0100
TZOFFSETTO:+0000
TZNAME:GMT
DTSTART:19811025T010000
END:STANDARD
BEGIN:DAYLIGHT
TZOFFSETFROM:+0000
TZOFFSETTO:+0100
TZNAME:BST
DTSTART:19820328T010000
END:DAYLIGHT
BEGIN:STANDARD
TZOFFSETFROM:+0100
TZOFFSETTO:+0000
TZNAME:GMT
DTSTART:19821024T010000
END:STANDARD
BEGIN:DAYLIGHT
TZOFFSETFROM:+0000
TZOFFSETTO:+0100
TZNAME:BST
DTSTART:19830327T010000
END:DAYLIGHT
BEGIN:STANDARD
TZOFFSETFROM:+0100
TZOFFSETTO:+0000
TZNAME:GMT
DTSTART:19831023T010000
END:STANDARD
BEGIN:DAYLIGHT
TZOFFSETFROM:+0000
TZOFFSETTO:+0100
TZNAME:BST
DTSTART:19840325T010000
END:DAYLIGHT
BEGIN:STANDARD
TZOFFSETFROM:+0100
TZOFFSETTO:+0000
TZNAME:GMT
DTSTART:19841028T010000
END:STANDARD
END:VTIMEZONE
BEGIN:VEVENT
DTSTART;TZID=Europe/London:19830901T203000
DTEND;TZID=Europe/London:19830902T000000
DTSTAMP:20260422T015904
CREATED:20200514T125227Z
LAST-MODIFIED:20200514T125227Z
UID:3630-431296200-431308800@blackmoretheatre.co.uk
SUMMARY:Reluctant Heroes
DESCRIPTION:Reluctant Heroes
URL:https://blackmoretheatre.co.uk/event/reluctant-heroes-2-2/
LOCATION:Blackmore Theatre\, 10 Bicton Street\, Exmouth\, EX8 2RU
CATEGORIES:Past Productions
END:VEVENT
BEGIN:VEVENT
DTSTART;TZID=Europe/London:19830901T203000
DTEND;TZID=Europe/London:19830902T000000
DTSTAMP:20260422T015904
CREATED:20200514T125227Z
LAST-MODIFIED:20200514T125227Z
UID:2985-431296200-431308800@blackmoretheatre.co.uk
SUMMARY:Reluctant Heroes
DESCRIPTION:Reluctant Heroes
URL:https://blackmoretheatre.co.uk/event/reluctant-heroes-2/
LOCATION:Blackmore Theatre\, 10 Bicton Street\, Exmouth\, EX8 2RU
CATEGORIES:Past Productions
END:VEVENT
BEGIN:VEVENT
DTSTART;TZID=Europe/London:19830301T193000
DTEND;TZID=Europe/London:19830301T230000
DTSTAMP:20260422T015904
CREATED:20200514T125224Z
LAST-MODIFIED:20200514T125224Z
UID:2983-415395000-415407600@blackmoretheatre.co.uk
SUMMARY:Relatively Speaking
DESCRIPTION:Relatively Speaking
URL:https://blackmoretheatre.co.uk/event/relatively-speaking-2/
LOCATION:Blackmore Theatre\, 10 Bicton Street\, Exmouth\, EX8 2RU
CATEGORIES:Past Productions
END:VEVENT
BEGIN:VEVENT
DTSTART;TZID=Europe/London:19830301T193000
DTEND;TZID=Europe/London:19830301T230000
DTSTAMP:20260422T015904
CREATED:20200514T125224Z
LAST-MODIFIED:20200514T125224Z
UID:3628-415395000-415407600@blackmoretheatre.co.uk
SUMMARY:Relatively Speaking
DESCRIPTION:Relatively Speaking
URL:https://blackmoretheatre.co.uk/event/relatively-speaking-2-2/
LOCATION:Blackmore Theatre\, 10 Bicton Street\, Exmouth\, EX8 2RU
CATEGORIES:Past Productions
END:VEVENT
BEGIN:VEVENT
DTSTART;TZID=Europe/London:19821101T193000
DTEND;TZID=Europe/London:19821101T230000
DTSTAMP:20260422T015904
CREATED:20200514T125227Z
LAST-MODIFIED:20200514T125227Z
UID:3631-405027000-405039600@blackmoretheatre.co.uk
SUMMARY:The Importance Of Being Earnest
DESCRIPTION:The Importance Of Being Earnest
URL:https://blackmoretheatre.co.uk/event/the-importance-of-being-earnest-2-2/
LOCATION:Blackmore Theatre\, 10 Bicton Street\, Exmouth\, EX8 2RU
CATEGORIES:Past Productions
END:VEVENT
BEGIN:VEVENT
DTSTART;TZID=Europe/London:19821101T193000
DTEND;TZID=Europe/London:19821101T230000
DTSTAMP:20260422T015904
CREATED:20200514T125227Z
LAST-MODIFIED:20200514T125227Z
UID:2986-405027000-405039600@blackmoretheatre.co.uk
SUMMARY:The Importance Of Being Earnest
DESCRIPTION:The Importance Of Being Earnest
URL:https://blackmoretheatre.co.uk/event/the-importance-of-being-earnest-2/
LOCATION:Blackmore Theatre\, 10 Bicton Street\, Exmouth\, EX8 2RU
CATEGORIES:Past Productions
END:VEVENT
BEGIN:VEVENT
DTSTART;TZID=Europe/London:19820601T203000
DTEND;TZID=Europe/London:19820602T000000
DTSTAMP:20260422T015904
CREATED:20200514T125229Z
LAST-MODIFIED:20200514T125229Z
UID:3634-391811400-391824000@blackmoretheatre.co.uk
SUMMARY:Black Chiffon
DESCRIPTION:Black Chiffon
URL:https://blackmoretheatre.co.uk/event/black-chiffon-2-2/
LOCATION:Blackmore Theatre\, 10 Bicton Street\, Exmouth\, EX8 2RU
CATEGORIES:Past Productions
END:VEVENT
BEGIN:VEVENT
DTSTART;TZID=Europe/London:19820601T203000
DTEND;TZID=Europe/London:19820602T000000
DTSTAMP:20260422T015904
CREATED:20200514T125229Z
LAST-MODIFIED:20200514T125229Z
UID:2989-391811400-391824000@blackmoretheatre.co.uk
SUMMARY:Black Chiffon
DESCRIPTION:Black Chiffon
URL:https://blackmoretheatre.co.uk/event/black-chiffon-2/
LOCATION:Blackmore Theatre\, 10 Bicton Street\, Exmouth\, EX8 2RU
CATEGORIES:Past Productions
END:VEVENT
BEGIN:VEVENT
DTSTART;TZID=Europe/London:19820514T203000
DTEND;TZID=Europe/London:19820515T000000
DTSTAMP:20260422T015904
CREATED:20200514T123030Z
LAST-MODIFIED:20200514T123030Z
UID:2685-390256200-390268800@blackmoretheatre.co.uk
SUMMARY:Brush With a Body
DESCRIPTION:Brush With a Body
URL:https://blackmoretheatre.co.uk/event/brush-with-a-body/
LOCATION:Blackmore Theatre\, 10 Bicton Street\, Exmouth\, EX8 2RU
CATEGORIES:Past Productions
END:VEVENT
BEGIN:VEVENT
DTSTART;TZID=Europe/London:19820514T203000
DTEND;TZID=Europe/London:19820515T000000
DTSTAMP:20260422T015904
CREATED:20200514T123030Z
LAST-MODIFIED:20200514T123030Z
UID:3468-390256200-390268800@blackmoretheatre.co.uk
SUMMARY:Brush With a Body
DESCRIPTION:Brush With a Body
URL:https://blackmoretheatre.co.uk/event/brush-with-a-body-5/
LOCATION:Blackmore Theatre\, 10 Bicton Street\, Exmouth\, EX8 2RU
CATEGORIES:Past Productions
END:VEVENT
BEGIN:VEVENT
DTSTART;TZID=Europe/London:19820501T203000
DTEND;TZID=Europe/London:19820502T000000
DTSTAMP:20260422T015904
CREATED:20200514T125227Z
LAST-MODIFIED:20200514T125227Z
UID:3632-389133000-389145600@blackmoretheatre.co.uk
SUMMARY:Brush With a Body
DESCRIPTION:Brush With a Body
URL:https://blackmoretheatre.co.uk/event/brush-with-a-body-3-2/
LOCATION:Blackmore Theatre\, 10 Bicton Street\, Exmouth\, EX8 2RU
CATEGORIES:Past Productions
END:VEVENT
BEGIN:VEVENT
DTSTART;TZID=Europe/London:19820501T203000
DTEND;TZID=Europe/London:19820502T000000
DTSTAMP:20260422T015904
CREATED:20200514T125227Z
LAST-MODIFIED:20200514T125227Z
UID:2987-389133000-389145600@blackmoretheatre.co.uk
SUMMARY:Brush With a Body
DESCRIPTION:Brush With a Body
URL:https://blackmoretheatre.co.uk/event/brush-with-a-body-3/
LOCATION:Blackmore Theatre\, 10 Bicton Street\, Exmouth\, EX8 2RU
CATEGORIES:Past Productions
END:VEVENT
BEGIN:VEVENT
DTSTART;TZID=Europe/London:19820301T193000
DTEND;TZID=Europe/London:19820301T230000
DTSTAMP:20260422T015904
CREATED:20200514T125227Z
LAST-MODIFIED:20200514T125227Z
UID:3633-383859000-383871600@blackmoretheatre.co.uk
SUMMARY:Caught On The Hop
DESCRIPTION:Caught On The Hop
URL:https://blackmoretheatre.co.uk/event/caught-on-the-hop-2-2/
LOCATION:Blackmore Theatre\, 10 Bicton Street\, Exmouth\, EX8 2RU
CATEGORIES:Past Productions
END:VEVENT
BEGIN:VEVENT
DTSTART;TZID=Europe/London:19820301T193000
DTEND;TZID=Europe/London:19820301T230000
DTSTAMP:20260422T015904
CREATED:20200514T125227Z
LAST-MODIFIED:20200514T125227Z
UID:2988-383859000-383871600@blackmoretheatre.co.uk
SUMMARY:Caught On The Hop
DESCRIPTION:Caught On The Hop
URL:https://blackmoretheatre.co.uk/event/caught-on-the-hop-2/
LOCATION:Blackmore Theatre\, 10 Bicton Street\, Exmouth\, EX8 2RU
CATEGORIES:Past Productions
END:VEVENT
BEGIN:VEVENT
DTSTART;TZID=Europe/London:19811201T193000
DTEND;TZID=Europe/London:19811201T230000
DTSTAMP:20260422T015904
CREATED:20200514T125230Z
LAST-MODIFIED:20200514T125230Z
UID:3635-376083000-376095600@blackmoretheatre.co.uk
SUMMARY:The Lion in Winter
DESCRIPTION:The Lion in Winter
URL:https://blackmoretheatre.co.uk/event/the-lion-in-winter-3-2/
LOCATION:Blackmore Theatre\, 10 Bicton Street\, Exmouth\, EX8 2RU
CATEGORIES:Past Productions
END:VEVENT
BEGIN:VEVENT
DTSTART;TZID=Europe/London:19811201T193000
DTEND;TZID=Europe/London:19811201T230000
DTSTAMP:20260422T015904
CREATED:20200514T125230Z
LAST-MODIFIED:20200514T125230Z
UID:2990-376083000-376095600@blackmoretheatre.co.uk
SUMMARY:The Lion in Winter
DESCRIPTION:The Lion in Winter
URL:https://blackmoretheatre.co.uk/event/the-lion-in-winter-3/
LOCATION:Blackmore Theatre\, 10 Bicton Street\, Exmouth\, EX8 2RU
CATEGORIES:Past Productions
END:VEVENT
BEGIN:VEVENT
DTSTART;TZID=Europe/London:19810601T203000
DTEND;TZID=Europe/London:19810602T000000
DTSTAMP:20260422T015904
CREATED:20200514T125230Z
LAST-MODIFIED:20200514T125230Z
UID:3636-360275400-360288000@blackmoretheatre.co.uk
SUMMARY:The Secretary Bird
DESCRIPTION:The Secretary Bird
URL:https://blackmoretheatre.co.uk/event/the-secretary-bird-2-2/
LOCATION:Blackmore Theatre\, 10 Bicton Street\, Exmouth\, EX8 2RU
CATEGORIES:Past Productions
END:VEVENT
BEGIN:VEVENT
DTSTART;TZID=Europe/London:19810601T203000
DTEND;TZID=Europe/London:19810602T000000
DTSTAMP:20260422T015904
CREATED:20200514T125230Z
LAST-MODIFIED:20200514T125230Z
UID:2991-360275400-360288000@blackmoretheatre.co.uk
SUMMARY:The Secretary Bird
DESCRIPTION:The Secretary Bird
URL:https://blackmoretheatre.co.uk/event/the-secretary-bird-2/
LOCATION:Blackmore Theatre\, 10 Bicton Street\, Exmouth\, EX8 2RU
CATEGORIES:Past Productions
END:VEVENT
BEGIN:VEVENT
DTSTART;TZID=Europe/London:19810514T203000
DTEND;TZID=Europe/London:19810515T000000
DTSTAMP:20260422T015904
CREATED:20200514T123033Z
LAST-MODIFIED:20200514T123033Z
UID:2690-358720200-358732800@blackmoretheatre.co.uk
SUMMARY:Worm's Eye View
DESCRIPTION:Worm’s Eye View
URL:https://blackmoretheatre.co.uk/event/worms-eye-view-2/
LOCATION:Blackmore Theatre\, 10 Bicton Street\, Exmouth\, EX8 2RU
CATEGORIES:Past Productions
END:VEVENT
BEGIN:VEVENT
DTSTART;TZID=Europe/London:19810514T203000
DTEND;TZID=Europe/London:19810515T000000
DTSTAMP:20260422T015904
CREATED:20200514T123033Z
LAST-MODIFIED:20200514T123033Z
UID:3469-358720200-358732800@blackmoretheatre.co.uk
SUMMARY:Worm's Eye View
DESCRIPTION:Worm’s Eye View
URL:https://blackmoretheatre.co.uk/event/worms-eye-view-2-2/
LOCATION:Blackmore Theatre\, 10 Bicton Street\, Exmouth\, EX8 2RU
CATEGORIES:Past Productions
END:VEVENT
BEGIN:VEVENT
DTSTART;TZID=Europe/London:19810501T203000
DTEND;TZID=Europe/London:19810502T000000
DTSTAMP:20260422T015904
CREATED:20200514T125230Z
LAST-MODIFIED:20200514T125230Z
UID:3637-357597000-357609600@blackmoretheatre.co.uk
SUMMARY:Worm's Eye View
DESCRIPTION:Worm’s Eye View
URL:https://blackmoretheatre.co.uk/event/worms-eye-view-4-2/
LOCATION:Blackmore Theatre\, 10 Bicton Street\, Exmouth\, EX8 2RU
CATEGORIES:Past Productions
END:VEVENT
BEGIN:VEVENT
DTSTART;TZID=Europe/London:19810501T203000
DTEND;TZID=Europe/London:19810502T000000
DTSTAMP:20260422T015904
CREATED:20200514T125230Z
LAST-MODIFIED:20200514T125230Z
UID:2992-357597000-357609600@blackmoretheatre.co.uk
SUMMARY:Worm's Eye View
DESCRIPTION:Worm’s Eye View
URL:https://blackmoretheatre.co.uk/event/worms-eye-view-4/
LOCATION:Blackmore Theatre\, 10 Bicton Street\, Exmouth\, EX8 2RU
CATEGORIES:Past Productions
END:VEVENT
BEGIN:VEVENT
DTSTART;TZID=Europe/London:19810301T193000
DTEND;TZID=Europe/London:19810301T230000
DTSTAMP:20260422T015904
CREATED:20200514T125230Z
LAST-MODIFIED:20200514T125230Z
UID:3638-352323000-352335600@blackmoretheatre.co.uk
SUMMARY:John Gabriel Borkman
DESCRIPTION:John Gabriel Borkman
URL:https://blackmoretheatre.co.uk/event/john-gabriel-borkman-2-2/
LOCATION:Blackmore Theatre\, 10 Bicton Street\, Exmouth\, EX8 2RU
CATEGORIES:Past Productions
END:VEVENT
BEGIN:VEVENT
DTSTART;TZID=Europe/London:19810301T193000
DTEND;TZID=Europe/London:19810301T230000
DTSTAMP:20260422T015904
CREATED:20200514T125230Z
LAST-MODIFIED:20200514T125230Z
UID:2993-352323000-352335600@blackmoretheatre.co.uk
SUMMARY:John Gabriel Borkman
DESCRIPTION:John Gabriel Borkman
URL:https://blackmoretheatre.co.uk/event/john-gabriel-borkman-2/
LOCATION:Blackmore Theatre\, 10 Bicton Street\, Exmouth\, EX8 2RU
CATEGORIES:Past Productions
END:VEVENT
BEGIN:VEVENT
DTSTART;TZID=Europe/London:19801201T193000
DTEND;TZID=Europe/London:19801201T230000
DTSTAMP:20260422T015904
CREATED:20200514T125233Z
LAST-MODIFIED:20200514T125233Z
UID:3642-344547000-344559600@blackmoretheatre.co.uk
SUMMARY:The Peacocks Must Go
DESCRIPTION:The Peacocks Must Go
URL:https://blackmoretheatre.co.uk/event/the-peacocks-must-go-2-2/
LOCATION:Blackmore Theatre\, 10 Bicton Street\, Exmouth\, EX8 2RU
CATEGORIES:Past Productions
END:VEVENT
BEGIN:VEVENT
DTSTART;TZID=Europe/London:19801201T193000
DTEND;TZID=Europe/London:19801201T230000
DTSTAMP:20260422T015904
CREATED:20200514T125233Z
LAST-MODIFIED:20200514T125233Z
UID:2997-344547000-344559600@blackmoretheatre.co.uk
SUMMARY:The Peacocks Must Go
DESCRIPTION:The Peacocks Must Go
URL:https://blackmoretheatre.co.uk/event/the-peacocks-must-go-2/
LOCATION:Blackmore Theatre\, 10 Bicton Street\, Exmouth\, EX8 2RU
CATEGORIES:Past Productions
END:VEVENT
BEGIN:VEVENT
DTSTART;TZID=Europe/London:19800901T203000
DTEND;TZID=Europe/London:19800902T000000
DTSTAMP:20260422T015904
CREATED:20200514T125233Z
LAST-MODIFIED:20200514T125233Z
UID:3639-336688200-336700800@blackmoretheatre.co.uk
SUMMARY:Blithe Spirit
DESCRIPTION:Blithe Spirit
URL:https://blackmoretheatre.co.uk/event/blithe-spirit-4-2/
LOCATION:Blackmore Theatre\, 10 Bicton Street\, Exmouth\, EX8 2RU
CATEGORIES:Past Productions
END:VEVENT
BEGIN:VEVENT
DTSTART;TZID=Europe/London:19800901T203000
DTEND;TZID=Europe/London:19800902T000000
DTSTAMP:20260422T015904
CREATED:20200514T125233Z
LAST-MODIFIED:20200514T125233Z
UID:2994-336688200-336700800@blackmoretheatre.co.uk
SUMMARY:Blithe Spirit
DESCRIPTION:Blithe Spirit
URL:https://blackmoretheatre.co.uk/event/blithe-spirit-4/
LOCATION:Blackmore Theatre\, 10 Bicton Street\, Exmouth\, EX8 2RU
CATEGORIES:Past Productions
END:VEVENT
BEGIN:VEVENT
DTSTART;TZID=Europe/London:19800501T203000
DTEND;TZID=Europe/London:19800502T000000
DTSTAMP:20260422T015904
CREATED:20200514T125233Z
LAST-MODIFIED:20200514T125233Z
UID:3640-326061000-326073600@blackmoretheatre.co.uk
SUMMARY:The Proof Of The Poison
DESCRIPTION:The Proof Of The Poison
URL:https://blackmoretheatre.co.uk/event/the-proof-of-the-poison-2-2/
LOCATION:Blackmore Theatre\, 10 Bicton Street\, Exmouth\, EX8 2RU
CATEGORIES:Past Productions
END:VEVENT
BEGIN:VEVENT
DTSTART;TZID=Europe/London:19800501T203000
DTEND;TZID=Europe/London:19800502T000000
DTSTAMP:20260422T015904
CREATED:20200514T125233Z
LAST-MODIFIED:20200514T125233Z
UID:2995-326061000-326073600@blackmoretheatre.co.uk
SUMMARY:The Proof Of The Poison
DESCRIPTION:The Proof Of The Poison
URL:https://blackmoretheatre.co.uk/event/the-proof-of-the-poison-2/
LOCATION:Blackmore Theatre\, 10 Bicton Street\, Exmouth\, EX8 2RU
CATEGORIES:Past Productions
END:VEVENT
END:VCALENDAR