BEGIN:VCALENDAR
VERSION:2.0
PRODID:-//Blackmore Theatre - ECPv6.15.18//NONSGML v1.0//EN
CALSCALE:GREGORIAN
METHOD:PUBLISH
X-WR-CALNAME:Blackmore Theatre
X-ORIGINAL-URL:https://blackmoretheatre.co.uk
X-WR-CALDESC:Events for Blackmore Theatre
REFRESH-INTERVAL;VALUE=DURATION:PT1H
X-Robots-Tag:noindex
X-PUBLISHED-TTL:PT1H
BEGIN:VTIMEZONE
TZID:Europe/London
BEGIN:DAYLIGHT
TZOFFSETFROM:+0000
TZOFFSETTO:+0100
TZNAME:BST
DTSTART:19840325T010000
END:DAYLIGHT
BEGIN:STANDARD
TZOFFSETFROM:+0100
TZOFFSETTO:+0000
TZNAME:GMT
DTSTART:19841028T010000
END:STANDARD
BEGIN:DAYLIGHT
TZOFFSETFROM:+0000
TZOFFSETTO:+0100
TZNAME:BST
DTSTART:19850331T010000
END:DAYLIGHT
BEGIN:STANDARD
TZOFFSETFROM:+0100
TZOFFSETTO:+0000
TZNAME:GMT
DTSTART:19851027T010000
END:STANDARD
BEGIN:DAYLIGHT
TZOFFSETFROM:+0000
TZOFFSETTO:+0100
TZNAME:BST
DTSTART:19860330T010000
END:DAYLIGHT
BEGIN:STANDARD
TZOFFSETFROM:+0100
TZOFFSETTO:+0000
TZNAME:GMT
DTSTART:19861026T010000
END:STANDARD
BEGIN:DAYLIGHT
TZOFFSETFROM:+0000
TZOFFSETTO:+0100
TZNAME:BST
DTSTART:19870329T010000
END:DAYLIGHT
BEGIN:STANDARD
TZOFFSETFROM:+0100
TZOFFSETTO:+0000
TZNAME:GMT
DTSTART:19871025T010000
END:STANDARD
BEGIN:DAYLIGHT
TZOFFSETFROM:+0000
TZOFFSETTO:+0100
TZNAME:BST
DTSTART:19880327T010000
END:DAYLIGHT
BEGIN:STANDARD
TZOFFSETFROM:+0100
TZOFFSETTO:+0000
TZNAME:GMT
DTSTART:19881023T010000
END:STANDARD
END:VTIMEZONE
BEGIN:VEVENT
DTSTART;TZID=Europe/London:19870514T203000
DTEND;TZID=Europe/London:19870515T000000
DTSTAMP:20260421T011529
CREATED:20200514T123017Z
LAST-MODIFIED:20200514T123017Z
UID:3465-548022600-548035200@blackmoretheatre.co.uk
SUMMARY:Murder by the Book
DESCRIPTION:Murder by the Book
URL:https://blackmoretheatre.co.uk/event/murder-by-the-book-3/
LOCATION:Blackmore Theatre\, 10 Bicton Street\, Exmouth\, EX8 2RU
CATEGORIES:Past Productions
END:VEVENT
BEGIN:VEVENT
DTSTART;TZID=Europe/London:19870501T203000
DTEND;TZID=Europe/London:19870502T000000
DTSTAMP:20260421T011529
CREATED:20200514T125214Z
LAST-MODIFIED:20200514T125214Z
UID:3610-546899400-546912000@blackmoretheatre.co.uk
SUMMARY:Murder by the Book
DESCRIPTION:Murder by the Book
URL:https://blackmoretheatre.co.uk/event/murder-by-the-book-2-2/
LOCATION:Blackmore Theatre\, 10 Bicton Street\, Exmouth\, EX8 2RU
CATEGORIES:Past Productions
END:VEVENT
BEGIN:VEVENT
DTSTART;TZID=Europe/London:19870501T203000
DTEND;TZID=Europe/London:19870502T000000
DTSTAMP:20260421T011529
CREATED:20200514T125214Z
LAST-MODIFIED:20200514T125214Z
UID:2965-546899400-546912000@blackmoretheatre.co.uk
SUMMARY:Murder by the Book
DESCRIPTION:Murder by the Book
URL:https://blackmoretheatre.co.uk/event/murder-by-the-book-2/
LOCATION:Blackmore Theatre\, 10 Bicton Street\, Exmouth\, EX8 2RU
CATEGORIES:Past Productions
END:VEVENT
BEGIN:VEVENT
DTSTART;TZID=Europe/London:19870501T203000
DTEND;TZID=Europe/London:19870502T000000
DTSTAMP:20260421T011529
CREATED:20200514T125214Z
LAST-MODIFIED:20200514T125214Z
UID:3611-546899400-546912000@blackmoretheatre.co.uk
SUMMARY:Educating Rita
DESCRIPTION:Educating Rita
URL:https://blackmoretheatre.co.uk/event/educating-rita-2-2/
LOCATION:Blackmore Theatre\, 10 Bicton Street\, Exmouth\, EX8 2RU
CATEGORIES:Past Productions
END:VEVENT
BEGIN:VEVENT
DTSTART;TZID=Europe/London:19870501T203000
DTEND;TZID=Europe/London:19870502T000000
DTSTAMP:20260421T011529
CREATED:20200514T125214Z
LAST-MODIFIED:20200514T125214Z
UID:2966-546899400-546912000@blackmoretheatre.co.uk
SUMMARY:Educating Rita
DESCRIPTION:Educating Rita
URL:https://blackmoretheatre.co.uk/event/educating-rita-2/
LOCATION:Blackmore Theatre\, 10 Bicton Street\, Exmouth\, EX8 2RU
CATEGORIES:Past Productions
END:VEVENT
BEGIN:VEVENT
DTSTART;TZID=Europe/London:19870301T193000
DTEND;TZID=Europe/London:19870301T230000
DTSTAMP:20260421T011529
CREATED:20200514T125211Z
LAST-MODIFIED:20200514T125211Z
UID:3608-541625400-541638000@blackmoretheatre.co.uk
SUMMARY:An Inspector Calls
DESCRIPTION:An Inspector Calls
URL:https://blackmoretheatre.co.uk/event/an-inspector-calls-3-2/
LOCATION:Blackmore Theatre\, 10 Bicton Street\, Exmouth\, EX8 2RU
CATEGORIES:Past Productions
END:VEVENT
BEGIN:VEVENT
DTSTART;TZID=Europe/London:19870301T193000
DTEND;TZID=Europe/London:19870301T230000
DTSTAMP:20260421T011529
CREATED:20200514T125211Z
LAST-MODIFIED:20200514T125211Z
UID:2963-541625400-541638000@blackmoretheatre.co.uk
SUMMARY:An Inspector Calls
DESCRIPTION:An Inspector Calls
URL:https://blackmoretheatre.co.uk/event/an-inspector-calls-3/
LOCATION:Blackmore Theatre\, 10 Bicton Street\, Exmouth\, EX8 2RU
CATEGORIES:Past Productions
END:VEVENT
BEGIN:VEVENT
DTSTART;TZID=Europe/London:19870101T193000
DTEND;TZID=Europe/London:19870101T230000
DTSTAMP:20260421T011529
CREATED:20200514T125214Z
LAST-MODIFIED:20200514T125214Z
UID:3609-536527800-536540400@blackmoretheatre.co.uk
SUMMARY:Babes in the Wood
DESCRIPTION:Babes in the Wood
URL:https://blackmoretheatre.co.uk/event/babes-in-the-wood-2-2/
LOCATION:Blackmore Theatre\, 10 Bicton Street\, Exmouth\, EX8 2RU
CATEGORIES:Past Productions
END:VEVENT
BEGIN:VEVENT
DTSTART;TZID=Europe/London:19870101T193000
DTEND;TZID=Europe/London:19870101T230000
DTSTAMP:20260421T011529
CREATED:20200514T125214Z
LAST-MODIFIED:20200514T125214Z
UID:2964-536527800-536540400@blackmoretheatre.co.uk
SUMMARY:Babes in the Wood
DESCRIPTION:Babes in the Wood
URL:https://blackmoretheatre.co.uk/event/babes-in-the-wood-2/
LOCATION:Blackmore Theatre\, 10 Bicton Street\, Exmouth\, EX8 2RU
CATEGORIES:Past Productions
END:VEVENT
BEGIN:VEVENT
DTSTART;TZID=Europe/London:19861101T193000
DTEND;TZID=Europe/London:19861101T230000
DTSTAMP:20260421T011529
CREATED:20200514T125218Z
LAST-MODIFIED:20200514T125218Z
UID:2972-531257400-531270000@blackmoretheatre.co.uk
SUMMARY:Confusions
DESCRIPTION:Confusions
URL:https://blackmoretheatre.co.uk/event/confusions-2/
LOCATION:Blackmore Theatre\, 10 Bicton Street\, Exmouth\, EX8 2RU
CATEGORIES:Past Productions
END:VEVENT
BEGIN:VEVENT
DTSTART;TZID=Europe/London:19861101T193000
DTEND;TZID=Europe/London:19861101T230000
DTSTAMP:20260421T011529
CREATED:20200514T125218Z
LAST-MODIFIED:20200514T125218Z
UID:3617-531257400-531270000@blackmoretheatre.co.uk
SUMMARY:Confusions
DESCRIPTION:Confusions
URL:https://blackmoretheatre.co.uk/event/confusions-2-2/
LOCATION:Blackmore Theatre\, 10 Bicton Street\, Exmouth\, EX8 2RU
CATEGORIES:Past Productions
END:VEVENT
BEGIN:VEVENT
DTSTART;TZID=Europe/London:19860801T203000
DTEND;TZID=Europe/London:19860802T000000
DTSTAMP:20260421T011529
CREATED:20200514T125217Z
LAST-MODIFIED:20200514T125217Z
UID:2969-523312200-523324800@blackmoretheatre.co.uk
SUMMARY:Ladies in Retirement
DESCRIPTION:Ladies in Retirement
URL:https://blackmoretheatre.co.uk/event/ladies-in-retirement-2/
LOCATION:Blackmore Theatre\, 10 Bicton Street\, Exmouth\, EX8 2RU
CATEGORIES:Past Productions
END:VEVENT
BEGIN:VEVENT
DTSTART;TZID=Europe/London:19860801T203000
DTEND;TZID=Europe/London:19860802T000000
DTSTAMP:20260421T011529
CREATED:20200514T125217Z
LAST-MODIFIED:20200514T125217Z
UID:3614-523312200-523324800@blackmoretheatre.co.uk
SUMMARY:Ladies in Retirement
DESCRIPTION:Ladies in Retirement
URL:https://blackmoretheatre.co.uk/event/ladies-in-retirement-2-2/
LOCATION:Blackmore Theatre\, 10 Bicton Street\, Exmouth\, EX8 2RU
CATEGORIES:Past Productions
END:VEVENT
BEGIN:VEVENT
DTSTART;TZID=Europe/London:19860601T203000
DTEND;TZID=Europe/London:19860602T000000
DTSTAMP:20260421T011529
CREATED:20200514T125217Z
LAST-MODIFIED:20200514T125217Z
UID:2970-518041800-518054400@blackmoretheatre.co.uk
SUMMARY:The Man Most Likely To
DESCRIPTION:The Man Most Likely To
URL:https://blackmoretheatre.co.uk/event/the-man-most-likely-to-2/
LOCATION:Blackmore Theatre\, 10 Bicton Street\, Exmouth\, EX8 2RU
CATEGORIES:Past Productions
END:VEVENT
BEGIN:VEVENT
DTSTART;TZID=Europe/London:19860601T203000
DTEND;TZID=Europe/London:19860602T000000
DTSTAMP:20260421T011529
CREATED:20200514T125217Z
LAST-MODIFIED:20200514T125217Z
UID:3615-518041800-518054400@blackmoretheatre.co.uk
SUMMARY:The Man Most Likely To
DESCRIPTION:The Man Most Likely To
URL:https://blackmoretheatre.co.uk/event/the-man-most-likely-to-2-2/
LOCATION:Blackmore Theatre\, 10 Bicton Street\, Exmouth\, EX8 2RU
CATEGORIES:Past Productions
END:VEVENT
BEGIN:VEVENT
DTSTART;TZID=Europe/London:19860514T203000
DTEND;TZID=Europe/London:19860515T000000
DTSTAMP:20260421T011529
CREATED:20200514T123018Z
LAST-MODIFIED:20200514T123018Z
UID:3467-516486600-516499200@blackmoretheatre.co.uk
SUMMARY:The Heiress
DESCRIPTION:The Heiress
URL:https://blackmoretheatre.co.uk/event/the-heiress-2/
LOCATION:Blackmore Theatre\, 10 Bicton Street\, Exmouth\, EX8 2RU
CATEGORIES:Past Productions
END:VEVENT
BEGIN:VEVENT
DTSTART;TZID=Europe/London:19860514T203000
DTEND;TZID=Europe/London:19860515T000000
DTSTAMP:20260421T011529
CREATED:20200514T123018Z
LAST-MODIFIED:20200514T123018Z
UID:2667-516486600-516499200@blackmoretheatre.co.uk
SUMMARY:The Heiress
DESCRIPTION:The Heiress
URL:https://blackmoretheatre.co.uk/event/the-heiress/
LOCATION:Blackmore Theatre\, 10 Bicton Street\, Exmouth\, EX8 2RU
CATEGORIES:Past Productions
END:VEVENT
BEGIN:VEVENT
DTSTART;TZID=Europe/London:19860501T203000
DTEND;TZID=Europe/London:19860502T000000
DTSTAMP:20260421T011529
CREATED:20200514T125214Z
LAST-MODIFIED:20200514T125214Z
UID:2968-515363400-515376000@blackmoretheatre.co.uk
SUMMARY:The Heiress
DESCRIPTION:The Heiress
URL:https://blackmoretheatre.co.uk/event/the-heiress-3/
LOCATION:Blackmore Theatre\, 10 Bicton Street\, Exmouth\, EX8 2RU
CATEGORIES:Past Productions
END:VEVENT
BEGIN:VEVENT
DTSTART;TZID=Europe/London:19860501T203000
DTEND;TZID=Europe/London:19860502T000000
DTSTAMP:20260421T011529
CREATED:20200514T125214Z
LAST-MODIFIED:20200514T125214Z
UID:3613-515363400-515376000@blackmoretheatre.co.uk
SUMMARY:The Heiress
DESCRIPTION:The Heiress
URL:https://blackmoretheatre.co.uk/event/the-heiress-3-2/
LOCATION:Blackmore Theatre\, 10 Bicton Street\, Exmouth\, EX8 2RU
CATEGORIES:Past Productions
END:VEVENT
BEGIN:VEVENT
DTSTART;TZID=Europe/London:19860101T193000
DTEND;TZID=Europe/London:19860101T230000
DTSTAMP:20260421T011529
CREATED:20200514T125218Z
LAST-MODIFIED:20200514T125218Z
UID:3616-504991800-505004400@blackmoretheatre.co.uk
SUMMARY:Mother Goose
DESCRIPTION:Mother Goose
URL:https://blackmoretheatre.co.uk/event/mother-goose-3-2/
LOCATION:Blackmore Theatre\, 10 Bicton Street\, Exmouth\, EX8 2RU
CATEGORIES:Past Productions
END:VEVENT
BEGIN:VEVENT
DTSTART;TZID=Europe/London:19860101T193000
DTEND;TZID=Europe/London:19860101T230000
DTSTAMP:20260421T011529
CREATED:20200514T125218Z
LAST-MODIFIED:20200514T125218Z
UID:2971-504991800-505004400@blackmoretheatre.co.uk
SUMMARY:Mother Goose
DESCRIPTION:Mother Goose
URL:https://blackmoretheatre.co.uk/event/mother-goose-3/
LOCATION:Blackmore Theatre\, 10 Bicton Street\, Exmouth\, EX8 2RU
CATEGORIES:Past Productions
END:VEVENT
BEGIN:VEVENT
DTSTART;TZID=Europe/London:19851101T193000
DTEND;TZID=Europe/London:19851101T230000
DTSTAMP:20260421T011529
CREATED:20200514T125221Z
LAST-MODIFIED:20200514T125221Z
UID:3621-499721400-499734000@blackmoretheatre.co.uk
SUMMARY:Macbeth
DESCRIPTION:Macbeth
URL:https://blackmoretheatre.co.uk/event/macbeth-2-2/
LOCATION:Blackmore Theatre\, 10 Bicton Street\, Exmouth\, EX8 2RU
CATEGORIES:Past Productions
END:VEVENT
BEGIN:VEVENT
DTSTART;TZID=Europe/London:19851101T193000
DTEND;TZID=Europe/London:19851101T230000
DTSTAMP:20260421T011529
CREATED:20200514T125221Z
LAST-MODIFIED:20200514T125221Z
UID:2976-499721400-499734000@blackmoretheatre.co.uk
SUMMARY:Macbeth
DESCRIPTION:Macbeth
URL:https://blackmoretheatre.co.uk/event/macbeth-2/
LOCATION:Blackmore Theatre\, 10 Bicton Street\, Exmouth\, EX8 2RU
CATEGORIES:Past Productions
END:VEVENT
BEGIN:VEVENT
DTSTART;TZID=Europe/London:19850801T203000
DTEND;TZID=Europe/London:19850802T000000
DTSTAMP:20260421T011529
CREATED:20200514T125218Z
LAST-MODIFIED:20200514T125218Z
UID:2973-491776200-491788800@blackmoretheatre.co.uk
SUMMARY:Busybody
DESCRIPTION:Busybody
URL:https://blackmoretheatre.co.uk/event/busybody-2/
LOCATION:Blackmore Theatre\, 10 Bicton Street\, Exmouth\, EX8 2RU
CATEGORIES:Past Productions
END:VEVENT
BEGIN:VEVENT
DTSTART;TZID=Europe/London:19850801T203000
DTEND;TZID=Europe/London:19850802T000000
DTSTAMP:20260421T011529
CREATED:20200514T125218Z
LAST-MODIFIED:20200514T125218Z
UID:3618-491776200-491788800@blackmoretheatre.co.uk
SUMMARY:Busybody
DESCRIPTION:Busybody
URL:https://blackmoretheatre.co.uk/event/busybody-2-2/
LOCATION:Blackmore Theatre\, 10 Bicton Street\, Exmouth\, EX8 2RU
CATEGORIES:Past Productions
END:VEVENT
BEGIN:VEVENT
DTSTART;TZID=Europe/London:19850601T203000
DTEND;TZID=Europe/London:19850602T000000
DTSTAMP:20260421T011529
CREATED:20200514T125221Z
LAST-MODIFIED:20200514T125221Z
UID:3622-486505800-486518400@blackmoretheatre.co.uk
SUMMARY:Not Now Darling
DESCRIPTION:Not Now Darling
URL:https://blackmoretheatre.co.uk/event/not-now-darling-2-2/
LOCATION:Blackmore Theatre\, 10 Bicton Street\, Exmouth\, EX8 2RU
CATEGORIES:Past Productions
END:VEVENT
BEGIN:VEVENT
DTSTART;TZID=Europe/London:19850601T203000
DTEND;TZID=Europe/London:19850602T000000
DTSTAMP:20260421T011529
CREATED:20200514T125221Z
LAST-MODIFIED:20200514T125221Z
UID:2977-486505800-486518400@blackmoretheatre.co.uk
SUMMARY:Not Now Darling
DESCRIPTION:Not Now Darling
URL:https://blackmoretheatre.co.uk/event/not-now-darling-2/
LOCATION:Blackmore Theatre\, 10 Bicton Street\, Exmouth\, EX8 2RU
CATEGORIES:Past Productions
END:VEVENT
BEGIN:VEVENT
DTSTART;TZID=Europe/London:19850301T193000
DTEND;TZID=Europe/London:19850301T230000
DTSTAMP:20260421T011529
CREATED:20200514T125221Z
LAST-MODIFIED:20200514T125221Z
UID:3620-478553400-478566000@blackmoretheatre.co.uk
SUMMARY:The Mollusc
DESCRIPTION:The Mollusc
URL:https://blackmoretheatre.co.uk/event/the-mollusc-2-2/
LOCATION:Blackmore Theatre\, 10 Bicton Street\, Exmouth\, EX8 2RU
CATEGORIES:Past Productions
END:VEVENT
BEGIN:VEVENT
DTSTART;TZID=Europe/London:19850301T193000
DTEND;TZID=Europe/London:19850301T230000
DTSTAMP:20260421T011529
CREATED:20200514T125221Z
LAST-MODIFIED:20200514T125221Z
UID:2975-478553400-478566000@blackmoretheatre.co.uk
SUMMARY:The Mollusc
DESCRIPTION:The Mollusc
URL:https://blackmoretheatre.co.uk/event/the-mollusc-2/
LOCATION:Blackmore Theatre\, 10 Bicton Street\, Exmouth\, EX8 2RU
CATEGORIES:Past Productions
END:VEVENT
BEGIN:VEVENT
DTSTART;TZID=Europe/London:19850101T193000
DTEND;TZID=Europe/London:19850101T230000
DTSTAMP:20260421T011529
CREATED:20200514T125221Z
LAST-MODIFIED:20200514T125221Z
UID:2974-473455800-473468400@blackmoretheatre.co.uk
SUMMARY:Aladin
DESCRIPTION:Aladin
URL:https://blackmoretheatre.co.uk/event/aladin-2/
LOCATION:Blackmore Theatre\, 10 Bicton Street\, Exmouth\, EX8 2RU
CATEGORIES:Past Productions
END:VEVENT
END:VCALENDAR