BEGIN:VCALENDAR
VERSION:2.0
PRODID:-//Blackmore Theatre - ECPv6.15.18//NONSGML v1.0//EN
CALSCALE:GREGORIAN
METHOD:PUBLISH
X-WR-CALNAME:Blackmore Theatre
X-ORIGINAL-URL:https://blackmoretheatre.co.uk
X-WR-CALDESC:Events for Blackmore Theatre
REFRESH-INTERVAL;VALUE=DURATION:PT1H
X-Robots-Tag:noindex
X-PUBLISHED-TTL:PT1H
BEGIN:VTIMEZONE
TZID:Europe/London
BEGIN:DAYLIGHT
TZOFFSETFROM:+0000
TZOFFSETTO:+0100
TZNAME:BST
DTSTART:19850331T010000
END:DAYLIGHT
BEGIN:STANDARD
TZOFFSETFROM:+0100
TZOFFSETTO:+0000
TZNAME:GMT
DTSTART:19851027T010000
END:STANDARD
BEGIN:DAYLIGHT
TZOFFSETFROM:+0000
TZOFFSETTO:+0100
TZNAME:BST
DTSTART:19860330T010000
END:DAYLIGHT
BEGIN:STANDARD
TZOFFSETFROM:+0100
TZOFFSETTO:+0000
TZNAME:GMT
DTSTART:19861026T010000
END:STANDARD
BEGIN:DAYLIGHT
TZOFFSETFROM:+0000
TZOFFSETTO:+0100
TZNAME:BST
DTSTART:19870329T010000
END:DAYLIGHT
BEGIN:STANDARD
TZOFFSETFROM:+0100
TZOFFSETTO:+0000
TZNAME:GMT
DTSTART:19871025T010000
END:STANDARD
BEGIN:DAYLIGHT
TZOFFSETFROM:+0000
TZOFFSETTO:+0100
TZNAME:BST
DTSTART:19880327T010000
END:DAYLIGHT
BEGIN:STANDARD
TZOFFSETFROM:+0100
TZOFFSETTO:+0000
TZNAME:GMT
DTSTART:19881023T010000
END:STANDARD
BEGIN:DAYLIGHT
TZOFFSETFROM:+0000
TZOFFSETTO:+0100
TZNAME:BST
DTSTART:19890326T010000
END:DAYLIGHT
BEGIN:STANDARD
TZOFFSETFROM:+0100
TZOFFSETTO:+0000
TZNAME:GMT
DTSTART:19891029T010000
END:STANDARD
BEGIN:DAYLIGHT
TZOFFSETFROM:+0000
TZOFFSETTO:+0100
TZNAME:BST
DTSTART:19900325T010000
END:DAYLIGHT
BEGIN:STANDARD
TZOFFSETFROM:+0100
TZOFFSETTO:+0000
TZNAME:GMT
DTSTART:19901028T010000
END:STANDARD
BEGIN:DAYLIGHT
TZOFFSETFROM:+0000
TZOFFSETTO:+0100
TZNAME:BST
DTSTART:19910331T010000
END:DAYLIGHT
BEGIN:STANDARD
TZOFFSETFROM:+0100
TZOFFSETTO:+0000
TZNAME:GMT
DTSTART:19911027T010000
END:STANDARD
END:VTIMEZONE
BEGIN:VEVENT
DTSTART;TZID=Europe/London:19900201T193000
DTEND;TZID=Europe/London:19900201T230000
DTSTAMP:20260421T005514
CREATED:20200514T125205Z
LAST-MODIFIED:20200514T125205Z
UID:3597-633900600-633913200@blackmoretheatre.co.uk
SUMMARY:Sinbad The Sailer
DESCRIPTION:Sinbad The Sailer
URL:https://blackmoretheatre.co.uk/event/sinbad-the-sailer-2-2/
LOCATION:Blackmore Theatre\, 10 Bicton Street\, Exmouth\, EX8 2RU
CATEGORIES:Past Productions
END:VEVENT
BEGIN:VEVENT
DTSTART;TZID=Europe/London:19891101T193000
DTEND;TZID=Europe/London:19891101T230000
DTSTAMP:20260421T005514
CREATED:20200514T125208Z
LAST-MODIFIED:20200514T125208Z
UID:3602-625951800-625964400@blackmoretheatre.co.uk
SUMMARY:I Have Five Daughters
DESCRIPTION:I Have Five Daughters
URL:https://blackmoretheatre.co.uk/event/i-have-five-daughters-2-2/
LOCATION:Blackmore Theatre\, 10 Bicton Street\, Exmouth\, EX8 2RU
CATEGORIES:Past Productions
END:VEVENT
BEGIN:VEVENT
DTSTART;TZID=Europe/London:19891101T193000
DTEND;TZID=Europe/London:19891101T230000
DTSTAMP:20260421T005514
CREATED:20200514T125208Z
LAST-MODIFIED:20200514T125208Z
UID:2957-625951800-625964400@blackmoretheatre.co.uk
SUMMARY:I Have Five Daughters
DESCRIPTION:I Have Five Daughters
URL:https://blackmoretheatre.co.uk/event/i-have-five-daughters-2/
LOCATION:Blackmore Theatre\, 10 Bicton Street\, Exmouth\, EX8 2RU
CATEGORIES:Past Productions
END:VEVENT
BEGIN:VEVENT
DTSTART;TZID=Europe/London:19890801T203000
DTEND;TZID=Europe/London:19890802T000000
DTSTAMP:20260421T005514
CREATED:20200514T125211Z
LAST-MODIFIED:20200514T125211Z
UID:3604-618006600-618019200@blackmoretheatre.co.uk
SUMMARY:See How They Run
DESCRIPTION:See How They Run
URL:https://blackmoretheatre.co.uk/event/see-how-they-run-2-2/
LOCATION:Blackmore Theatre\, 10 Bicton Street\, Exmouth\, EX8 2RU
CATEGORIES:Past Productions
END:VEVENT
BEGIN:VEVENT
DTSTART;TZID=Europe/London:19890801T203000
DTEND;TZID=Europe/London:19890802T000000
DTSTAMP:20260421T005514
CREATED:20200514T125211Z
LAST-MODIFIED:20200514T125211Z
UID:2959-618006600-618019200@blackmoretheatre.co.uk
SUMMARY:See How They Run
DESCRIPTION:See How They Run
URL:https://blackmoretheatre.co.uk/event/see-how-they-run-2/
LOCATION:Blackmore Theatre\, 10 Bicton Street\, Exmouth\, EX8 2RU
CATEGORIES:Past Productions
END:VEVENT
BEGIN:VEVENT
DTSTART;TZID=Europe/London:19890514T203000
DTEND;TZID=Europe/London:19890515T000000
DTSTAMP:20260421T005514
CREATED:20200514T123012Z
LAST-MODIFIED:20200514T123012Z
UID:2657-611181000-611193600@blackmoretheatre.co.uk
SUMMARY:Red Riding Hood
DESCRIPTION:Red Riding Hood
URL:https://blackmoretheatre.co.uk/event/red-riding-hood-2/
LOCATION:Blackmore Theatre\, 10 Bicton Street\, Exmouth\, EX8 2RU
CATEGORIES:Past Productions
END:VEVENT
BEGIN:VEVENT
DTSTART;TZID=Europe/London:19890514T203000
DTEND;TZID=Europe/London:19890515T000000
DTSTAMP:20260421T005514
CREATED:20200514T123012Z
LAST-MODIFIED:20200514T123012Z
UID:3464-611181000-611193600@blackmoretheatre.co.uk
SUMMARY:Red Riding Hood
DESCRIPTION:Red Riding Hood
URL:https://blackmoretheatre.co.uk/event/red-riding-hood-2-2/
LOCATION:Blackmore Theatre\, 10 Bicton Street\, Exmouth\, EX8 2RU
CATEGORIES:Past Productions
END:VEVENT
BEGIN:VEVENT
DTSTART;TZID=Europe/London:19890501T203000
DTEND;TZID=Europe/London:19890502T000000
DTSTAMP:20260421T005514
CREATED:20200514T125208Z
LAST-MODIFIED:20200514T125208Z
UID:3603-610057800-610070400@blackmoretheatre.co.uk
SUMMARY:Red Riding Hood
DESCRIPTION:Red Riding Hood
URL:https://blackmoretheatre.co.uk/event/red-riding-hood-4-2/
LOCATION:Blackmore Theatre\, 10 Bicton Street\, Exmouth\, EX8 2RU
CATEGORIES:Past Productions
END:VEVENT
BEGIN:VEVENT
DTSTART;TZID=Europe/London:19890501T203000
DTEND;TZID=Europe/London:19890502T000000
DTSTAMP:20260421T005514
CREATED:20200514T125208Z
LAST-MODIFIED:20200514T125208Z
UID:2958-610057800-610070400@blackmoretheatre.co.uk
SUMMARY:Red Riding Hood
DESCRIPTION:Red Riding Hood
URL:https://blackmoretheatre.co.uk/event/red-riding-hood-4/
LOCATION:Blackmore Theatre\, 10 Bicton Street\, Exmouth\, EX8 2RU
CATEGORIES:Past Productions
END:VEVENT
BEGIN:VEVENT
DTSTART;TZID=Europe/London:19881101T193000
DTEND;TZID=Europe/London:19881101T230000
DTSTAMP:20260421T005514
CREATED:20200514T125211Z
LAST-MODIFIED:20200514T125211Z
UID:2961-594415800-594428400@blackmoretheatre.co.uk
SUMMARY:Tribute To The Stage
DESCRIPTION:Tribute To The Stage
URL:https://blackmoretheatre.co.uk/event/tribute-to-the-stage-2/
LOCATION:Blackmore Theatre\, 10 Bicton Street\, Exmouth\, EX8 2RU
CATEGORIES:Past Productions
END:VEVENT
BEGIN:VEVENT
DTSTART;TZID=Europe/London:19881101T193000
DTEND;TZID=Europe/London:19881101T230000
DTSTAMP:20260421T005514
CREATED:20200514T125211Z
LAST-MODIFIED:20200514T125211Z
UID:3606-594415800-594428400@blackmoretheatre.co.uk
SUMMARY:Tribute To The Stage
DESCRIPTION:Tribute To The Stage
URL:https://blackmoretheatre.co.uk/event/tribute-to-the-stage-2-2/
LOCATION:Blackmore Theatre\, 10 Bicton Street\, Exmouth\, EX8 2RU
CATEGORIES:Past Productions
END:VEVENT
BEGIN:VEVENT
DTSTART;TZID=Europe/London:19880301T193000
DTEND;TZID=Europe/London:19880301T230000
DTSTAMP:20260421T005514
CREATED:20200514T125211Z
LAST-MODIFIED:20200514T125211Z
UID:3607-573247800-573260400@blackmoretheatre.co.uk
SUMMARY:Separate Tables
DESCRIPTION:Separate Tables
URL:https://blackmoretheatre.co.uk/event/separate-tables-2-2/
LOCATION:Blackmore Theatre\, 10 Bicton Street\, Exmouth\, EX8 2RU
CATEGORIES:Past Productions
END:VEVENT
BEGIN:VEVENT
DTSTART;TZID=Europe/London:19880301T193000
DTEND;TZID=Europe/London:19880301T230000
DTSTAMP:20260421T005514
CREATED:20200514T125211Z
LAST-MODIFIED:20200514T125211Z
UID:2962-573247800-573260400@blackmoretheatre.co.uk
SUMMARY:Separate Tables
DESCRIPTION:Separate Tables
URL:https://blackmoretheatre.co.uk/event/separate-tables-2/
LOCATION:Blackmore Theatre\, 10 Bicton Street\, Exmouth\, EX8 2RU
CATEGORIES:Past Productions
END:VEVENT
BEGIN:VEVENT
DTSTART;TZID=Europe/London:19880101T193000
DTEND;TZID=Europe/London:19880101T230000
DTSTAMP:20260421T005514
CREATED:20200514T125211Z
LAST-MODIFIED:20200514T125211Z
UID:3605-568063800-568076400@blackmoretheatre.co.uk
SUMMARY:The Lion the Witch and the Wardrobe
DESCRIPTION:The Lion the Witch and the Wardrobe
URL:https://blackmoretheatre.co.uk/event/the-lion-the-witch-and-the-wardrobe-2-2/
LOCATION:Blackmore Theatre\, 10 Bicton Street\, Exmouth\, EX8 2RU
CATEGORIES:Past Productions
END:VEVENT
BEGIN:VEVENT
DTSTART;TZID=Europe/London:19880101T193000
DTEND;TZID=Europe/London:19880101T230000
DTSTAMP:20260421T005514
CREATED:20200514T125211Z
LAST-MODIFIED:20200514T125211Z
UID:2960-568063800-568076400@blackmoretheatre.co.uk
SUMMARY:The Lion the Witch and the Wardrobe
DESCRIPTION:The Lion the Witch and the Wardrobe
URL:https://blackmoretheatre.co.uk/event/the-lion-the-witch-and-the-wardrobe-2/
LOCATION:Blackmore Theatre\, 10 Bicton Street\, Exmouth\, EX8 2RU
CATEGORIES:Past Productions
END:VEVENT
BEGIN:VEVENT
DTSTART;TZID=Europe/London:19871101T193000
DTEND;TZID=Europe/London:19871101T230000
DTSTAMP:20260421T005514
CREATED:20200514T125214Z
LAST-MODIFIED:20200514T125214Z
UID:3612-562793400-562806000@blackmoretheatre.co.uk
SUMMARY:Arms and The Man
DESCRIPTION:Arms and The Man
URL:https://blackmoretheatre.co.uk/event/arms-and-the-man-2-2/
LOCATION:Blackmore Theatre\, 10 Bicton Street\, Exmouth\, EX8 2RU
CATEGORIES:Past Productions
END:VEVENT
BEGIN:VEVENT
DTSTART;TZID=Europe/London:19871101T193000
DTEND;TZID=Europe/London:19871101T230000
DTSTAMP:20260421T005514
CREATED:20200514T125214Z
LAST-MODIFIED:20200514T125214Z
UID:2967-562793400-562806000@blackmoretheatre.co.uk
SUMMARY:Arms and The Man
DESCRIPTION:Arms and The Man
URL:https://blackmoretheatre.co.uk/event/arms-and-the-man-2/
LOCATION:Blackmore Theatre\, 10 Bicton Street\, Exmouth\, EX8 2RU
CATEGORIES:Past Productions
END:VEVENT
BEGIN:VEVENT
DTSTART;TZID=Europe/London:19870514T203000
DTEND;TZID=Europe/London:19870515T000000
DTSTAMP:20260421T005514
CREATED:20200514T123018Z
LAST-MODIFIED:20200514T123018Z
UID:3466-548022600-548035200@blackmoretheatre.co.uk
SUMMARY:Educating Rita
DESCRIPTION:Educating Rita
URL:https://blackmoretheatre.co.uk/event/educating-rita-3/
LOCATION:Blackmore Theatre\, 10 Bicton Street\, Exmouth\, EX8 2RU
CATEGORIES:Past Productions
END:VEVENT
BEGIN:VEVENT
DTSTART;TZID=Europe/London:19870514T203000
DTEND;TZID=Europe/London:19870515T000000
DTSTAMP:20260421T005514
CREATED:20200514T123018Z
LAST-MODIFIED:20200514T123018Z
UID:2665-548022600-548035200@blackmoretheatre.co.uk
SUMMARY:Educating Rita
DESCRIPTION:Educating Rita
URL:https://blackmoretheatre.co.uk/event/educating-rita/
LOCATION:Blackmore Theatre\, 10 Bicton Street\, Exmouth\, EX8 2RU
CATEGORIES:Past Productions
END:VEVENT
BEGIN:VEVENT
DTSTART;TZID=Europe/London:19870514T203000
DTEND;TZID=Europe/London:19870515T000000
DTSTAMP:20260421T005514
CREATED:20200514T123017Z
LAST-MODIFIED:20200514T123017Z
UID:2664-548022600-548035200@blackmoretheatre.co.uk
SUMMARY:Murder by the Book
DESCRIPTION:Murder by the Book
URL:https://blackmoretheatre.co.uk/event/murder-by-the-book/
LOCATION:Blackmore Theatre\, 10 Bicton Street\, Exmouth\, EX8 2RU
CATEGORIES:Past Productions
END:VEVENT
BEGIN:VEVENT
DTSTART;TZID=Europe/London:19870514T203000
DTEND;TZID=Europe/London:19870515T000000
DTSTAMP:20260421T005514
CREATED:20200514T123017Z
LAST-MODIFIED:20200514T123017Z
UID:3465-548022600-548035200@blackmoretheatre.co.uk
SUMMARY:Murder by the Book
DESCRIPTION:Murder by the Book
URL:https://blackmoretheatre.co.uk/event/murder-by-the-book-3/
LOCATION:Blackmore Theatre\, 10 Bicton Street\, Exmouth\, EX8 2RU
CATEGORIES:Past Productions
END:VEVENT
BEGIN:VEVENT
DTSTART;TZID=Europe/London:19870501T203000
DTEND;TZID=Europe/London:19870502T000000
DTSTAMP:20260421T005514
CREATED:20200514T125214Z
LAST-MODIFIED:20200514T125214Z
UID:3610-546899400-546912000@blackmoretheatre.co.uk
SUMMARY:Murder by the Book
DESCRIPTION:Murder by the Book
URL:https://blackmoretheatre.co.uk/event/murder-by-the-book-2-2/
LOCATION:Blackmore Theatre\, 10 Bicton Street\, Exmouth\, EX8 2RU
CATEGORIES:Past Productions
END:VEVENT
BEGIN:VEVENT
DTSTART;TZID=Europe/London:19870501T203000
DTEND;TZID=Europe/London:19870502T000000
DTSTAMP:20260421T005514
CREATED:20200514T125214Z
LAST-MODIFIED:20200514T125214Z
UID:2965-546899400-546912000@blackmoretheatre.co.uk
SUMMARY:Murder by the Book
DESCRIPTION:Murder by the Book
URL:https://blackmoretheatre.co.uk/event/murder-by-the-book-2/
LOCATION:Blackmore Theatre\, 10 Bicton Street\, Exmouth\, EX8 2RU
CATEGORIES:Past Productions
END:VEVENT
BEGIN:VEVENT
DTSTART;TZID=Europe/London:19870501T203000
DTEND;TZID=Europe/London:19870502T000000
DTSTAMP:20260421T005514
CREATED:20200514T125214Z
LAST-MODIFIED:20200514T125214Z
UID:3611-546899400-546912000@blackmoretheatre.co.uk
SUMMARY:Educating Rita
DESCRIPTION:Educating Rita
URL:https://blackmoretheatre.co.uk/event/educating-rita-2-2/
LOCATION:Blackmore Theatre\, 10 Bicton Street\, Exmouth\, EX8 2RU
CATEGORIES:Past Productions
END:VEVENT
BEGIN:VEVENT
DTSTART;TZID=Europe/London:19870501T203000
DTEND;TZID=Europe/London:19870502T000000
DTSTAMP:20260421T005514
CREATED:20200514T125214Z
LAST-MODIFIED:20200514T125214Z
UID:2966-546899400-546912000@blackmoretheatre.co.uk
SUMMARY:Educating Rita
DESCRIPTION:Educating Rita
URL:https://blackmoretheatre.co.uk/event/educating-rita-2/
LOCATION:Blackmore Theatre\, 10 Bicton Street\, Exmouth\, EX8 2RU
CATEGORIES:Past Productions
END:VEVENT
BEGIN:VEVENT
DTSTART;TZID=Europe/London:19870301T193000
DTEND;TZID=Europe/London:19870301T230000
DTSTAMP:20260421T005514
CREATED:20200514T125211Z
LAST-MODIFIED:20200514T125211Z
UID:3608-541625400-541638000@blackmoretheatre.co.uk
SUMMARY:An Inspector Calls
DESCRIPTION:An Inspector Calls
URL:https://blackmoretheatre.co.uk/event/an-inspector-calls-3-2/
LOCATION:Blackmore Theatre\, 10 Bicton Street\, Exmouth\, EX8 2RU
CATEGORIES:Past Productions
END:VEVENT
BEGIN:VEVENT
DTSTART;TZID=Europe/London:19870301T193000
DTEND;TZID=Europe/London:19870301T230000
DTSTAMP:20260421T005514
CREATED:20200514T125211Z
LAST-MODIFIED:20200514T125211Z
UID:2963-541625400-541638000@blackmoretheatre.co.uk
SUMMARY:An Inspector Calls
DESCRIPTION:An Inspector Calls
URL:https://blackmoretheatre.co.uk/event/an-inspector-calls-3/
LOCATION:Blackmore Theatre\, 10 Bicton Street\, Exmouth\, EX8 2RU
CATEGORIES:Past Productions
END:VEVENT
BEGIN:VEVENT
DTSTART;TZID=Europe/London:19870101T193000
DTEND;TZID=Europe/London:19870101T230000
DTSTAMP:20260421T005514
CREATED:20200514T125214Z
LAST-MODIFIED:20200514T125214Z
UID:3609-536527800-536540400@blackmoretheatre.co.uk
SUMMARY:Babes in the Wood
DESCRIPTION:Babes in the Wood
URL:https://blackmoretheatre.co.uk/event/babes-in-the-wood-2-2/
LOCATION:Blackmore Theatre\, 10 Bicton Street\, Exmouth\, EX8 2RU
CATEGORIES:Past Productions
END:VEVENT
BEGIN:VEVENT
DTSTART;TZID=Europe/London:19870101T193000
DTEND;TZID=Europe/London:19870101T230000
DTSTAMP:20260421T005514
CREATED:20200514T125214Z
LAST-MODIFIED:20200514T125214Z
UID:2964-536527800-536540400@blackmoretheatre.co.uk
SUMMARY:Babes in the Wood
DESCRIPTION:Babes in the Wood
URL:https://blackmoretheatre.co.uk/event/babes-in-the-wood-2/
LOCATION:Blackmore Theatre\, 10 Bicton Street\, Exmouth\, EX8 2RU
CATEGORIES:Past Productions
END:VEVENT
BEGIN:VEVENT
DTSTART;TZID=Europe/London:19861101T193000
DTEND;TZID=Europe/London:19861101T230000
DTSTAMP:20260421T005514
CREATED:20200514T125218Z
LAST-MODIFIED:20200514T125218Z
UID:2972-531257400-531270000@blackmoretheatre.co.uk
SUMMARY:Confusions
DESCRIPTION:Confusions
URL:https://blackmoretheatre.co.uk/event/confusions-2/
LOCATION:Blackmore Theatre\, 10 Bicton Street\, Exmouth\, EX8 2RU
CATEGORIES:Past Productions
END:VEVENT
END:VCALENDAR