BEGIN:VCALENDAR
VERSION:2.0
PRODID:-//Blackmore Theatre - ECPv6.15.18//NONSGML v1.0//EN
CALSCALE:GREGORIAN
METHOD:PUBLISH
X-WR-CALNAME:Blackmore Theatre
X-ORIGINAL-URL:https://blackmoretheatre.co.uk
X-WR-CALDESC:Events for Blackmore Theatre
REFRESH-INTERVAL;VALUE=DURATION:PT1H
X-Robots-Tag:noindex
X-PUBLISHED-TTL:PT1H
BEGIN:VTIMEZONE
TZID:Europe/London
BEGIN:DAYLIGHT
TZOFFSETFROM:+0000
TZOFFSETTO:+0100
TZNAME:BST
DTSTART:19920329T010000
END:DAYLIGHT
BEGIN:STANDARD
TZOFFSETFROM:+0100
TZOFFSETTO:+0000
TZNAME:GMT
DTSTART:19921025T010000
END:STANDARD
BEGIN:DAYLIGHT
TZOFFSETFROM:+0000
TZOFFSETTO:+0100
TZNAME:BST
DTSTART:19930328T010000
END:DAYLIGHT
BEGIN:STANDARD
TZOFFSETFROM:+0100
TZOFFSETTO:+0000
TZNAME:GMT
DTSTART:19931024T010000
END:STANDARD
BEGIN:DAYLIGHT
TZOFFSETFROM:+0000
TZOFFSETTO:+0100
TZNAME:BST
DTSTART:19940327T010000
END:DAYLIGHT
BEGIN:STANDARD
TZOFFSETFROM:+0100
TZOFFSETTO:+0000
TZNAME:GMT
DTSTART:19941023T010000
END:STANDARD
BEGIN:DAYLIGHT
TZOFFSETFROM:+0000
TZOFFSETTO:+0100
TZNAME:BST
DTSTART:19950326T010000
END:DAYLIGHT
BEGIN:STANDARD
TZOFFSETFROM:+0100
TZOFFSETTO:+0000
TZNAME:GMT
DTSTART:19951022T010000
END:STANDARD
BEGIN:STANDARD
TZOFFSETFROM:+0000
TZOFFSETTO:+0000
TZNAME:GMT
DTSTART:19960101T000000
END:STANDARD
BEGIN:DAYLIGHT
TZOFFSETFROM:+0000
TZOFFSETTO:+0100
TZNAME:BST
DTSTART:19960331T010000
END:DAYLIGHT
BEGIN:STANDARD
TZOFFSETFROM:+0100
TZOFFSETTO:+0000
TZNAME:GMT
DTSTART:19961027T010000
END:STANDARD
BEGIN:DAYLIGHT
TZOFFSETFROM:+0000
TZOFFSETTO:+0100
TZNAME:BST
DTSTART:19970330T010000
END:DAYLIGHT
BEGIN:STANDARD
TZOFFSETFROM:+0100
TZOFFSETTO:+0000
TZNAME:GMT
DTSTART:19971026T010000
END:STANDARD
END:VTIMEZONE
BEGIN:VEVENT
DTSTART;TZID=Europe/London:19960801T203000
DTEND;TZID=Europe/London:19960802T000000
DTSTAMP:20260420T184608
CREATED:20200514T125147Z
LAST-MODIFIED:20200514T125147Z
UID:3572-838931400-838944000@blackmoretheatre.co.uk
SUMMARY:The Cemetery Club
DESCRIPTION:The Cemetery Club
URL:https://blackmoretheatre.co.uk/event/the-cemetery-club-2-2/
LOCATION:Blackmore Theatre\, 10 Bicton Street\, Exmouth\, EX8 2RU
CATEGORIES:Past Productions
END:VEVENT
BEGIN:VEVENT
DTSTART;TZID=Europe/London:19960301T193000
DTEND;TZID=Europe/London:19960301T230000
DTSTAMP:20260420T184608
CREATED:20200514T125148Z
LAST-MODIFIED:20200514T125148Z
UID:2928-825708600-825721200@blackmoretheatre.co.uk
SUMMARY:Tribute
DESCRIPTION:Tribute
URL:https://blackmoretheatre.co.uk/event/tribute-2/
LOCATION:Blackmore Theatre\, 10 Bicton Street\, Exmouth\, EX8 2RU
CATEGORIES:Past Productions
END:VEVENT
BEGIN:VEVENT
DTSTART;TZID=Europe/London:19960301T193000
DTEND;TZID=Europe/London:19960301T230000
DTSTAMP:20260420T184608
CREATED:20200514T125148Z
LAST-MODIFIED:20200514T125148Z
UID:3573-825708600-825721200@blackmoretheatre.co.uk
SUMMARY:Tribute
DESCRIPTION:Tribute
URL:https://blackmoretheatre.co.uk/event/tribute-2-2/
LOCATION:Blackmore Theatre\, 10 Bicton Street\, Exmouth\, EX8 2RU
CATEGORIES:Past Productions
END:VEVENT
BEGIN:VEVENT
DTSTART;TZID=Europe/London:19960101T193000
DTEND;TZID=Europe/London:19960101T230000
DTSTAMP:20260420T184608
CREATED:20200514T125150Z
LAST-MODIFIED:20200514T125150Z
UID:3574-820524600-820537200@blackmoretheatre.co.uk
SUMMARY:Puss in Boots
DESCRIPTION:Puss in Boots
URL:https://blackmoretheatre.co.uk/event/puss-in-boots-2-2/
LOCATION:Blackmore Theatre\, 10 Bicton Street\, Exmouth\, EX8 2RU
CATEGORIES:Past Productions
END:VEVENT
BEGIN:VEVENT
DTSTART;TZID=Europe/London:19960101T193000
DTEND;TZID=Europe/London:19960101T230000
DTSTAMP:20260420T184608
CREATED:20200514T125150Z
LAST-MODIFIED:20200514T125150Z
UID:2929-820524600-820537200@blackmoretheatre.co.uk
SUMMARY:Puss in Boots
DESCRIPTION:Puss in Boots
URL:https://blackmoretheatre.co.uk/event/puss-in-boots-2/
LOCATION:Blackmore Theatre\, 10 Bicton Street\, Exmouth\, EX8 2RU
CATEGORIES:Past Productions
END:VEVENT
BEGIN:VEVENT
DTSTART;TZID=Europe/London:19951101T193000
DTEND;TZID=Europe/London:19951101T230000
DTSTAMP:20260420T184608
CREATED:20200514T125150Z
LAST-MODIFIED:20200514T125150Z
UID:3575-815254200-815266800@blackmoretheatre.co.uk
SUMMARY:Little Women
DESCRIPTION:Little Women
URL:https://blackmoretheatre.co.uk/event/little-women-2-2/
LOCATION:Blackmore Theatre\, 10 Bicton Street\, Exmouth\, EX8 2RU
CATEGORIES:Past Productions
END:VEVENT
BEGIN:VEVENT
DTSTART;TZID=Europe/London:19951101T193000
DTEND;TZID=Europe/London:19951101T230000
DTSTAMP:20260420T184608
CREATED:20200514T125150Z
LAST-MODIFIED:20200514T125150Z
UID:2930-815254200-815266800@blackmoretheatre.co.uk
SUMMARY:Little Women
DESCRIPTION:Little Women
URL:https://blackmoretheatre.co.uk/event/little-women-2/
LOCATION:Blackmore Theatre\, 10 Bicton Street\, Exmouth\, EX8 2RU
CATEGORIES:Past Productions
END:VEVENT
BEGIN:VEVENT
DTSTART;TZID=Europe/London:19950801T203000
DTEND;TZID=Europe/London:19950802T000000
DTSTAMP:20260420T184608
CREATED:20200514T125154Z
LAST-MODIFIED:20200514T125154Z
UID:2934-807309000-807321600@blackmoretheatre.co.uk
SUMMARY:Hay Fever
DESCRIPTION:Hay Fever
URL:https://blackmoretheatre.co.uk/event/hay-fever-2/
LOCATION:Blackmore Theatre\, 10 Bicton Street\, Exmouth\, EX8 2RU
CATEGORIES:Past Productions
END:VEVENT
BEGIN:VEVENT
DTSTART;TZID=Europe/London:19950801T203000
DTEND;TZID=Europe/London:19950802T000000
DTSTAMP:20260420T184608
CREATED:20200514T125154Z
LAST-MODIFIED:20200514T125154Z
UID:3579-807309000-807321600@blackmoretheatre.co.uk
SUMMARY:Hay Fever
DESCRIPTION:Hay Fever
URL:https://blackmoretheatre.co.uk/event/hay-fever-2-2/
LOCATION:Blackmore Theatre\, 10 Bicton Street\, Exmouth\, EX8 2RU
CATEGORIES:Past Productions
END:VEVENT
BEGIN:VEVENT
DTSTART;TZID=Europe/London:19950601T203000
DTEND;TZID=Europe/London:19950602T000000
DTSTAMP:20260420T184608
CREATED:20200514T125150Z
LAST-MODIFIED:20200514T125150Z
UID:3577-802038600-802051200@blackmoretheatre.co.uk
SUMMARY:Dangerous Corner
DESCRIPTION:Dangerous Corner
URL:https://blackmoretheatre.co.uk/event/dangerous-corner-2-2/
LOCATION:Blackmore Theatre\, 10 Bicton Street\, Exmouth\, EX8 2RU
CATEGORIES:Past Productions
END:VEVENT
BEGIN:VEVENT
DTSTART;TZID=Europe/London:19950601T203000
DTEND;TZID=Europe/London:19950602T000000
DTSTAMP:20260420T184608
CREATED:20200514T125150Z
LAST-MODIFIED:20200514T125150Z
UID:2932-802038600-802051200@blackmoretheatre.co.uk
SUMMARY:Dangerous Corner
DESCRIPTION:Dangerous Corner
URL:https://blackmoretheatre.co.uk/event/dangerous-corner-2/
LOCATION:Blackmore Theatre\, 10 Bicton Street\, Exmouth\, EX8 2RU
CATEGORIES:Past Productions
END:VEVENT
BEGIN:VEVENT
DTSTART;TZID=Europe/London:19950301T193000
DTEND;TZID=Europe/London:19950301T230000
DTSTAMP:20260420T184608
CREATED:20200514T125151Z
LAST-MODIFIED:20200514T125151Z
UID:3578-794086200-794098800@blackmoretheatre.co.uk
SUMMARY:The Deep Blue Sea
DESCRIPTION:The Deep Blue Sea
URL:https://blackmoretheatre.co.uk/event/the-deep-blue-sea-2-2/
LOCATION:Blackmore Theatre\, 10 Bicton Street\, Exmouth\, EX8 2RU
CATEGORIES:Past Productions
END:VEVENT
BEGIN:VEVENT
DTSTART;TZID=Europe/London:19950301T193000
DTEND;TZID=Europe/London:19950301T230000
DTSTAMP:20260420T184608
CREATED:20200514T125151Z
LAST-MODIFIED:20200514T125151Z
UID:2933-794086200-794098800@blackmoretheatre.co.uk
SUMMARY:The Deep Blue Sea
DESCRIPTION:The Deep Blue Sea
URL:https://blackmoretheatre.co.uk/event/the-deep-blue-sea-2/
LOCATION:Blackmore Theatre\, 10 Bicton Street\, Exmouth\, EX8 2RU
CATEGORIES:Past Productions
END:VEVENT
BEGIN:VEVENT
DTSTART;TZID=Europe/London:19950101T193000
DTEND;TZID=Europe/London:19950101T230000
DTSTAMP:20260420T184608
CREATED:20200514T125150Z
LAST-MODIFIED:20200514T125150Z
UID:3576-788988600-789001200@blackmoretheatre.co.uk
SUMMARY:Aladdin
DESCRIPTION:Aladdin
URL:https://blackmoretheatre.co.uk/event/aladdin-3-2/
LOCATION:Blackmore Theatre\, 10 Bicton Street\, Exmouth\, EX8 2RU
CATEGORIES:Past Productions
END:VEVENT
BEGIN:VEVENT
DTSTART;TZID=Europe/London:19950101T193000
DTEND;TZID=Europe/London:19950101T230000
DTSTAMP:20260420T184608
CREATED:20200514T125150Z
LAST-MODIFIED:20200514T125150Z
UID:2931-788988600-789001200@blackmoretheatre.co.uk
SUMMARY:Aladdin
DESCRIPTION:Aladdin
URL:https://blackmoretheatre.co.uk/event/aladdin-3/
LOCATION:Blackmore Theatre\, 10 Bicton Street\, Exmouth\, EX8 2RU
CATEGORIES:Past Productions
END:VEVENT
BEGIN:VEVENT
DTSTART;TZID=Europe/London:19940901T203000
DTEND;TZID=Europe/London:19940902T000000
DTSTAMP:20260420T184608
CREATED:20200514T125155Z
LAST-MODIFIED:20200514T125155Z
UID:3580-778451400-778464000@blackmoretheatre.co.uk
SUMMARY:Alfie
DESCRIPTION:Alfie
URL:https://blackmoretheatre.co.uk/event/alfie-2-2/
LOCATION:Blackmore Theatre\, 10 Bicton Street\, Exmouth\, EX8 2RU
CATEGORIES:Past Productions
END:VEVENT
BEGIN:VEVENT
DTSTART;TZID=Europe/London:19940901T203000
DTEND;TZID=Europe/London:19940902T000000
DTSTAMP:20260420T184608
CREATED:20200514T125155Z
LAST-MODIFIED:20200514T125155Z
UID:2935-778451400-778464000@blackmoretheatre.co.uk
SUMMARY:Alfie
DESCRIPTION:Alfie
URL:https://blackmoretheatre.co.uk/event/alfie-2/
LOCATION:Blackmore Theatre\, 10 Bicton Street\, Exmouth\, EX8 2RU
CATEGORIES:Past Productions
END:VEVENT
BEGIN:VEVENT
DTSTART;TZID=Europe/London:19940514T203000
DTEND;TZID=Europe/London:19940515T000000
DTSTAMP:20260420T184608
CREATED:20200514T123001Z
LAST-MODIFIED:20200514T123001Z
UID:2635-768947400-768960000@blackmoretheatre.co.uk
SUMMARY:The Night of the Iguans
DESCRIPTION:The Night of the Iguans
URL:https://blackmoretheatre.co.uk/event/the-night-of-the-iguans/
LOCATION:Blackmore Theatre\, 10 Bicton Street\, Exmouth\, EX8 2RU
CATEGORIES:Past Productions
END:VEVENT
BEGIN:VEVENT
DTSTART;TZID=Europe/London:19940514T203000
DTEND;TZID=Europe/London:19940515T000000
DTSTAMP:20260420T184608
CREATED:20200514T123001Z
LAST-MODIFIED:20200514T123001Z
UID:2637-768947400-768960000@blackmoretheatre.co.uk
SUMMARY:A Toe In The Water
DESCRIPTION:A Toe In The Water
URL:https://blackmoretheatre.co.uk/event/a-toe-in-the-water/
LOCATION:Blackmore Theatre\, 10 Bicton Street\, Exmouth\, EX8 2RU
CATEGORIES:Past Productions
END:VEVENT
BEGIN:VEVENT
DTSTART;TZID=Europe/London:19940501T203000
DTEND;TZID=Europe/London:19940502T000000
DTSTAMP:20260420T184608
CREATED:20200514T125155Z
LAST-MODIFIED:20200514T125155Z
UID:2938-767824200-767836800@blackmoretheatre.co.uk
SUMMARY:A Toe In The Water
DESCRIPTION:A Toe In The Water
URL:https://blackmoretheatre.co.uk/event/a-toe-in-the-water-2/
LOCATION:Blackmore Theatre\, 10 Bicton Street\, Exmouth\, EX8 2RU
CATEGORIES:Past Productions
END:VEVENT
BEGIN:VEVENT
DTSTART;TZID=Europe/London:19940501T203000
DTEND;TZID=Europe/London:19940502T000000
DTSTAMP:20260420T184608
CREATED:20200514T125155Z
LAST-MODIFIED:20200514T125155Z
UID:3581-767824200-767836800@blackmoretheatre.co.uk
SUMMARY:The Night of the Iguans
DESCRIPTION:The Night of the Iguans
URL:https://blackmoretheatre.co.uk/event/the-night-of-the-iguans-2-2/
LOCATION:Blackmore Theatre\, 10 Bicton Street\, Exmouth\, EX8 2RU
CATEGORIES:Past Productions
END:VEVENT
BEGIN:VEVENT
DTSTART;TZID=Europe/London:19940501T203000
DTEND;TZID=Europe/London:19940502T000000
DTSTAMP:20260420T184608
CREATED:20200514T125155Z
LAST-MODIFIED:20200514T125155Z
UID:2936-767824200-767836800@blackmoretheatre.co.uk
SUMMARY:The Night of the Iguans
DESCRIPTION:The Night of the Iguans
URL:https://blackmoretheatre.co.uk/event/the-night-of-the-iguans-2/
LOCATION:Blackmore Theatre\, 10 Bicton Street\, Exmouth\, EX8 2RU
CATEGORIES:Past Productions
END:VEVENT
BEGIN:VEVENT
DTSTART;TZID=Europe/London:19940501T203000
DTEND;TZID=Europe/London:19940502T000000
DTSTAMP:20260420T184608
CREATED:20200514T125155Z
LAST-MODIFIED:20200514T125155Z
UID:3583-767824200-767836800@blackmoretheatre.co.uk
SUMMARY:A Toe In The Water
DESCRIPTION:A Toe In The Water
URL:https://blackmoretheatre.co.uk/event/a-toe-in-the-water-2-2/
LOCATION:Blackmore Theatre\, 10 Bicton Street\, Exmouth\, EX8 2RU
CATEGORIES:Past Productions
END:VEVENT
BEGIN:VEVENT
DTSTART;TZID=Europe/London:19940101T193000
DTEND;TZID=Europe/London:19940101T230000
DTSTAMP:20260420T184608
CREATED:20200514T125155Z
LAST-MODIFIED:20200514T125155Z
UID:2937-757452600-757465200@blackmoretheatre.co.uk
SUMMARY:Tom the Piper's Son
DESCRIPTION:Tom the Piper’s Son
URL:https://blackmoretheatre.co.uk/event/tom-the-pipers-son-2/
LOCATION:Blackmore Theatre\, 10 Bicton Street\, Exmouth\, EX8 2RU
CATEGORIES:Past Productions
END:VEVENT
BEGIN:VEVENT
DTSTART;TZID=Europe/London:19940101T193000
DTEND;TZID=Europe/London:19940101T230000
DTSTAMP:20260420T184608
CREATED:20200514T125155Z
LAST-MODIFIED:20200514T125155Z
UID:3582-757452600-757465200@blackmoretheatre.co.uk
SUMMARY:Tom the Piper's Son
DESCRIPTION:Tom the Piper’s Son
URL:https://blackmoretheatre.co.uk/event/tom-the-pipers-son-2-2/
LOCATION:Blackmore Theatre\, 10 Bicton Street\, Exmouth\, EX8 2RU
CATEGORIES:Past Productions
END:VEVENT
BEGIN:VEVENT
DTSTART;TZID=Europe/London:19930901T203000
DTEND;TZID=Europe/London:19930902T000000
DTSTAMP:20260420T184608
CREATED:20200514T125158Z
LAST-MODIFIED:20200514T125158Z
UID:3585-746915400-746928000@blackmoretheatre.co.uk
SUMMARY:Run For Your Wife
DESCRIPTION:Run For Your Wife
URL:https://blackmoretheatre.co.uk/event/run-for-your-wife-2-2/
LOCATION:Blackmore Theatre\, 10 Bicton Street\, Exmouth\, EX8 2RU
CATEGORIES:Past Productions
END:VEVENT
BEGIN:VEVENT
DTSTART;TZID=Europe/London:19930901T203000
DTEND;TZID=Europe/London:19930902T000000
DTSTAMP:20260420T184608
CREATED:20200514T125158Z
LAST-MODIFIED:20200514T125158Z
UID:2940-746915400-746928000@blackmoretheatre.co.uk
SUMMARY:Run For Your Wife
DESCRIPTION:Run For Your Wife
URL:https://blackmoretheatre.co.uk/event/run-for-your-wife-2/
LOCATION:Blackmore Theatre\, 10 Bicton Street\, Exmouth\, EX8 2RU
CATEGORIES:Past Productions
END:VEVENT
BEGIN:VEVENT
DTSTART;TZID=Europe/London:19930514T203000
DTEND;TZID=Europe/London:19930515T000000
DTSTAMP:20260420T184608
CREATED:20200514T123004Z
LAST-MODIFIED:20200514T123004Z
UID:2640-737411400-737424000@blackmoretheatre.co.uk
SUMMARY:Pygmalion
DESCRIPTION:Pygmalion
URL:https://blackmoretheatre.co.uk/event/pygmalion-2/
LOCATION:Blackmore Theatre\, 10 Bicton Street\, Exmouth\, EX8 2RU
CATEGORIES:Past Productions
END:VEVENT
BEGIN:VEVENT
DTSTART;TZID=Europe/London:19930514T203000
DTEND;TZID=Europe/London:19930515T000000
DTSTAMP:20260420T184608
CREATED:20200514T123004Z
LAST-MODIFIED:20200514T123004Z
UID:3463-737411400-737424000@blackmoretheatre.co.uk
SUMMARY:Pygmalion
DESCRIPTION:Pygmalion
URL:https://blackmoretheatre.co.uk/event/pygmalion-2-2/
LOCATION:Blackmore Theatre\, 10 Bicton Street\, Exmouth\, EX8 2RU
CATEGORIES:Past Productions
END:VEVENT
BEGIN:VEVENT
DTSTART;TZID=Europe/London:19930501T203000
DTEND;TZID=Europe/London:19930502T000000
DTSTAMP:20260420T184608
CREATED:20200514T125158Z
LAST-MODIFIED:20200514T125158Z
UID:3586-736288200-736300800@blackmoretheatre.co.uk
SUMMARY:Pygmalion
DESCRIPTION:Pygmalion
URL:https://blackmoretheatre.co.uk/event/pygmalion-4-2/
LOCATION:Blackmore Theatre\, 10 Bicton Street\, Exmouth\, EX8 2RU
CATEGORIES:Past Productions
END:VEVENT
END:VCALENDAR