BEGIN:VCALENDAR
VERSION:2.0
PRODID:-//Blackmore Theatre - ECPv6.15.18//NONSGML v1.0//EN
CALSCALE:GREGORIAN
METHOD:PUBLISH
X-WR-CALNAME:Blackmore Theatre
X-ORIGINAL-URL:https://blackmoretheatre.co.uk
X-WR-CALDESC:Events for Blackmore Theatre
REFRESH-INTERVAL;VALUE=DURATION:PT1H
X-Robots-Tag:noindex
X-PUBLISHED-TTL:PT1H
BEGIN:VTIMEZONE
TZID:Europe/London
BEGIN:DAYLIGHT
TZOFFSETFROM:+0000
TZOFFSETTO:+0100
TZNAME:BST
DTSTART:19940327T010000
END:DAYLIGHT
BEGIN:STANDARD
TZOFFSETFROM:+0100
TZOFFSETTO:+0000
TZNAME:GMT
DTSTART:19941023T010000
END:STANDARD
BEGIN:DAYLIGHT
TZOFFSETFROM:+0000
TZOFFSETTO:+0100
TZNAME:BST
DTSTART:19950326T010000
END:DAYLIGHT
BEGIN:STANDARD
TZOFFSETFROM:+0100
TZOFFSETTO:+0000
TZNAME:GMT
DTSTART:19951022T010000
END:STANDARD
BEGIN:STANDARD
TZOFFSETFROM:+0000
TZOFFSETTO:+0000
TZNAME:GMT
DTSTART:19960101T000000
END:STANDARD
BEGIN:DAYLIGHT
TZOFFSETFROM:+0000
TZOFFSETTO:+0100
TZNAME:BST
DTSTART:19960331T010000
END:DAYLIGHT
BEGIN:STANDARD
TZOFFSETFROM:+0100
TZOFFSETTO:+0000
TZNAME:GMT
DTSTART:19961027T010000
END:STANDARD
BEGIN:DAYLIGHT
TZOFFSETFROM:+0000
TZOFFSETTO:+0100
TZNAME:BST
DTSTART:19970330T010000
END:DAYLIGHT
BEGIN:STANDARD
TZOFFSETFROM:+0100
TZOFFSETTO:+0000
TZNAME:GMT
DTSTART:19971026T010000
END:STANDARD
BEGIN:DAYLIGHT
TZOFFSETFROM:+0000
TZOFFSETTO:+0100
TZNAME:BST
DTSTART:19980329T010000
END:DAYLIGHT
BEGIN:STANDARD
TZOFFSETFROM:+0100
TZOFFSETTO:+0000
TZNAME:GMT
DTSTART:19981025T010000
END:STANDARD
BEGIN:DAYLIGHT
TZOFFSETFROM:+0000
TZOFFSETTO:+0100
TZNAME:BST
DTSTART:19990328T010000
END:DAYLIGHT
BEGIN:STANDARD
TZOFFSETFROM:+0100
TZOFFSETTO:+0000
TZNAME:GMT
DTSTART:19991031T010000
END:STANDARD
END:VTIMEZONE
BEGIN:VEVENT
DTSTART;TZID=Europe/London:19980901T203000
DTEND;TZID=Europe/London:19980902T000000
DTSTAMP:20260421T023211
CREATED:20200514T125144Z
LAST-MODIFIED:20200514T125144Z
UID:3565-904681800-904694400@blackmoretheatre.co.uk
SUMMARY:Old World
DESCRIPTION:Old World
URL:https://blackmoretheatre.co.uk/event/old-world-2-2/
LOCATION:Blackmore Theatre\, 10 Bicton Street\, Exmouth\, EX8 2RU
CATEGORIES:Past Productions
END:VEVENT
BEGIN:VEVENT
DTSTART;TZID=Europe/London:19980901T203000
DTEND;TZID=Europe/London:19980902T000000
DTSTAMP:20260421T023211
CREATED:20200514T125144Z
LAST-MODIFIED:20200514T125144Z
UID:2920-904681800-904694400@blackmoretheatre.co.uk
SUMMARY:Old World
DESCRIPTION:Old World
URL:https://blackmoretheatre.co.uk/event/old-world-2/
LOCATION:Blackmore Theatre\, 10 Bicton Street\, Exmouth\, EX8 2RU
CATEGORIES:Past Productions
END:VEVENT
BEGIN:VEVENT
DTSTART;TZID=Europe/London:19980701T203000
DTEND;TZID=Europe/London:19980702T000000
DTSTAMP:20260421T023211
CREATED:20200514T125141Z
LAST-MODIFIED:20200514T125141Z
UID:2918-899325000-899337600@blackmoretheatre.co.uk
SUMMARY:There Goes The Bride
DESCRIPTION:There Goes The Bride
URL:https://blackmoretheatre.co.uk/event/there-goes-the-bride-2/
LOCATION:Blackmore Theatre\, 10 Bicton Street\, Exmouth\, EX8 2RU
CATEGORIES:Past Productions
END:VEVENT
BEGIN:VEVENT
DTSTART;TZID=Europe/London:19980701T203000
DTEND;TZID=Europe/London:19980702T000000
DTSTAMP:20260421T023211
CREATED:20200514T125141Z
LAST-MODIFIED:20200514T125141Z
UID:3563-899325000-899337600@blackmoretheatre.co.uk
SUMMARY:There Goes The Bride
DESCRIPTION:There Goes The Bride
URL:https://blackmoretheatre.co.uk/event/there-goes-the-bride-2-2/
LOCATION:Blackmore Theatre\, 10 Bicton Street\, Exmouth\, EX8 2RU
CATEGORIES:Past Productions
END:VEVENT
BEGIN:VEVENT
DTSTART;TZID=Europe/London:19980301T193000
DTEND;TZID=Europe/London:19980301T230000
DTSTAMP:20260421T023211
CREATED:20200514T125144Z
LAST-MODIFIED:20200514T125144Z
UID:3564-888780600-888793200@blackmoretheatre.co.uk
SUMMARY:The Understanding
DESCRIPTION:The Understanding
URL:https://blackmoretheatre.co.uk/event/the-understanding-2-2/
LOCATION:Blackmore Theatre\, 10 Bicton Street\, Exmouth\, EX8 2RU
CATEGORIES:Past Productions
END:VEVENT
BEGIN:VEVENT
DTSTART;TZID=Europe/London:19980301T193000
DTEND;TZID=Europe/London:19980301T230000
DTSTAMP:20260421T023211
CREATED:20200514T125144Z
LAST-MODIFIED:20200514T125144Z
UID:2919-888780600-888793200@blackmoretheatre.co.uk
SUMMARY:The Understanding
DESCRIPTION:The Understanding
URL:https://blackmoretheatre.co.uk/event/the-understanding-2/
LOCATION:Blackmore Theatre\, 10 Bicton Street\, Exmouth\, EX8 2RU
CATEGORIES:Past Productions
END:VEVENT
BEGIN:VEVENT
DTSTART;TZID=Europe/London:19980101T193000
DTEND;TZID=Europe/London:19980101T230000
DTSTAMP:20260421T023211
CREATED:20200514T125144Z
LAST-MODIFIED:20200514T125144Z
UID:3566-883683000-883695600@blackmoretheatre.co.uk
SUMMARY:Hickory Dickory Dock
DESCRIPTION:Hickory Dickory Dock
URL:https://blackmoretheatre.co.uk/event/hickory-dickory-dock-2-2/
LOCATION:Blackmore Theatre\, 10 Bicton Street\, Exmouth\, EX8 2RU
CATEGORIES:Past Productions
END:VEVENT
BEGIN:VEVENT
DTSTART;TZID=Europe/London:19980101T193000
DTEND;TZID=Europe/London:19980101T230000
DTSTAMP:20260421T023211
CREATED:20200514T125144Z
LAST-MODIFIED:20200514T125144Z
UID:2921-883683000-883695600@blackmoretheatre.co.uk
SUMMARY:Hickory Dickory Dock
DESCRIPTION:Hickory Dickory Dock
URL:https://blackmoretheatre.co.uk/event/hickory-dickory-dock-2/
LOCATION:Blackmore Theatre\, 10 Bicton Street\, Exmouth\, EX8 2RU
CATEGORIES:Past Productions
END:VEVENT
BEGIN:VEVENT
DTSTART;TZID=Europe/London:19971001T203000
DTEND;TZID=Europe/London:19971002T000000
DTSTAMP:20260421T023211
CREATED:20200514T125144Z
LAST-MODIFIED:20200514T125144Z
UID:3568-875737800-875750400@blackmoretheatre.co.uk
SUMMARY:The Odd Couple
DESCRIPTION:The Odd Couple
URL:https://blackmoretheatre.co.uk/event/the-odd-couple-2-2/
LOCATION:Blackmore Theatre\, 10 Bicton Street\, Exmouth\, EX8 2RU
CATEGORIES:Past Productions
END:VEVENT
BEGIN:VEVENT
DTSTART;TZID=Europe/London:19971001T203000
DTEND;TZID=Europe/London:19971002T000000
DTSTAMP:20260421T023211
CREATED:20200514T125144Z
LAST-MODIFIED:20200514T125144Z
UID:2923-875737800-875750400@blackmoretheatre.co.uk
SUMMARY:The Odd Couple
DESCRIPTION:The Odd Couple
URL:https://blackmoretheatre.co.uk/event/the-odd-couple-2/
LOCATION:Blackmore Theatre\, 10 Bicton Street\, Exmouth\, EX8 2RU
CATEGORIES:Past Productions
END:VEVENT
BEGIN:VEVENT
DTSTART;TZID=Europe/London:19970801T203000
DTEND;TZID=Europe/London:19970802T000000
DTSTAMP:20260421T023211
CREATED:20200514T125144Z
LAST-MODIFIED:20200514T125144Z
UID:3567-870467400-870480000@blackmoretheatre.co.uk
SUMMARY:Why Me
DESCRIPTION:Why Me
URL:https://blackmoretheatre.co.uk/event/why-me-2-2/
LOCATION:Blackmore Theatre\, 10 Bicton Street\, Exmouth\, EX8 2RU
CATEGORIES:Past Productions
END:VEVENT
BEGIN:VEVENT
DTSTART;TZID=Europe/London:19970801T203000
DTEND;TZID=Europe/London:19970802T000000
DTSTAMP:20260421T023211
CREATED:20200514T125144Z
LAST-MODIFIED:20200514T125144Z
UID:2922-870467400-870480000@blackmoretheatre.co.uk
SUMMARY:Why Me
DESCRIPTION:Why Me
URL:https://blackmoretheatre.co.uk/event/why-me-2/
LOCATION:Blackmore Theatre\, 10 Bicton Street\, Exmouth\, EX8 2RU
CATEGORIES:Past Productions
END:VEVENT
BEGIN:VEVENT
DTSTART;TZID=Europe/London:19970601T203000
DTEND;TZID=Europe/London:19970602T000000
DTSTAMP:20260421T023211
CREATED:20200514T125147Z
LAST-MODIFIED:20200514T125147Z
UID:2924-865197000-865209600@blackmoretheatre.co.uk
SUMMARY:The Disappearance of Katie
DESCRIPTION:The Disappearance of Katie
URL:https://blackmoretheatre.co.uk/event/the-disappearance-of-katie-2/
LOCATION:Blackmore Theatre\, 10 Bicton Street\, Exmouth\, EX8 2RU
CATEGORIES:Past Productions
END:VEVENT
BEGIN:VEVENT
DTSTART;TZID=Europe/London:19970601T203000
DTEND;TZID=Europe/London:19970602T000000
DTSTAMP:20260421T023211
CREATED:20200514T125147Z
LAST-MODIFIED:20200514T125147Z
UID:3569-865197000-865209600@blackmoretheatre.co.uk
SUMMARY:The Disappearance of Katie
DESCRIPTION:The Disappearance of Katie
URL:https://blackmoretheatre.co.uk/event/the-disappearance-of-katie-2-2/
LOCATION:Blackmore Theatre\, 10 Bicton Street\, Exmouth\, EX8 2RU
CATEGORIES:Past Productions
END:VEVENT
BEGIN:VEVENT
DTSTART;TZID=Europe/London:19970101T193000
DTEND;TZID=Europe/London:19970101T230000
DTSTAMP:20260421T023211
CREATED:20200514T125147Z
LAST-MODIFIED:20200514T125147Z
UID:2925-852147000-852159600@blackmoretheatre.co.uk
SUMMARY:The Tale Of King Arthur
DESCRIPTION:The Tale Of King Arthur
URL:https://blackmoretheatre.co.uk/event/the-tale-of-king-arthur-2/
LOCATION:Blackmore Theatre\, 10 Bicton Street\, Exmouth\, EX8 2RU
CATEGORIES:Past Productions
END:VEVENT
BEGIN:VEVENT
DTSTART;TZID=Europe/London:19970101T193000
DTEND;TZID=Europe/London:19970101T230000
DTSTAMP:20260421T023211
CREATED:20200514T125147Z
LAST-MODIFIED:20200514T125147Z
UID:3570-852147000-852159600@blackmoretheatre.co.uk
SUMMARY:The Tale Of King Arthur
DESCRIPTION:The Tale Of King Arthur
URL:https://blackmoretheatre.co.uk/event/the-tale-of-king-arthur-2-2/
LOCATION:Blackmore Theatre\, 10 Bicton Street\, Exmouth\, EX8 2RU
CATEGORIES:Past Productions
END:VEVENT
BEGIN:VEVENT
DTSTART;TZID=Europe/London:19961101T193000
DTEND;TZID=Europe/London:19961101T230000
DTSTAMP:20260421T023211
CREATED:20200514T125147Z
LAST-MODIFIED:20200514T125147Z
UID:3571-846876600-846889200@blackmoretheatre.co.uk
SUMMARY:The Late Edwina Black
DESCRIPTION:The Late Edwina Black
URL:https://blackmoretheatre.co.uk/event/the-late-edwina-black-2-2/
LOCATION:Blackmore Theatre\, 10 Bicton Street\, Exmouth\, EX8 2RU
CATEGORIES:Past Productions
END:VEVENT
BEGIN:VEVENT
DTSTART;TZID=Europe/London:19961101T193000
DTEND;TZID=Europe/London:19961101T230000
DTSTAMP:20260421T023211
CREATED:20200514T125147Z
LAST-MODIFIED:20200514T125147Z
UID:2926-846876600-846889200@blackmoretheatre.co.uk
SUMMARY:The Late Edwina Black
DESCRIPTION:The Late Edwina Black
URL:https://blackmoretheatre.co.uk/event/the-late-edwina-black-2/
LOCATION:Blackmore Theatre\, 10 Bicton Street\, Exmouth\, EX8 2RU
CATEGORIES:Past Productions
END:VEVENT
BEGIN:VEVENT
DTSTART;TZID=Europe/London:19960801T203000
DTEND;TZID=Europe/London:19960802T000000
DTSTAMP:20260421T023211
CREATED:20200514T125147Z
LAST-MODIFIED:20200514T125147Z
UID:3572-838931400-838944000@blackmoretheatre.co.uk
SUMMARY:The Cemetery Club
DESCRIPTION:The Cemetery Club
URL:https://blackmoretheatre.co.uk/event/the-cemetery-club-2-2/
LOCATION:Blackmore Theatre\, 10 Bicton Street\, Exmouth\, EX8 2RU
CATEGORIES:Past Productions
END:VEVENT
BEGIN:VEVENT
DTSTART;TZID=Europe/London:19960801T203000
DTEND;TZID=Europe/London:19960802T000000
DTSTAMP:20260421T023211
CREATED:20200514T125147Z
LAST-MODIFIED:20200514T125147Z
UID:2927-838931400-838944000@blackmoretheatre.co.uk
SUMMARY:The Cemetery Club
DESCRIPTION:The Cemetery Club
URL:https://blackmoretheatre.co.uk/event/the-cemetery-club-2/
LOCATION:Blackmore Theatre\, 10 Bicton Street\, Exmouth\, EX8 2RU
CATEGORIES:Past Productions
END:VEVENT
BEGIN:VEVENT
DTSTART;TZID=Europe/London:19960301T193000
DTEND;TZID=Europe/London:19960301T230000
DTSTAMP:20260421T023211
CREATED:20200514T125148Z
LAST-MODIFIED:20200514T125148Z
UID:2928-825708600-825721200@blackmoretheatre.co.uk
SUMMARY:Tribute
DESCRIPTION:Tribute
URL:https://blackmoretheatre.co.uk/event/tribute-2/
LOCATION:Blackmore Theatre\, 10 Bicton Street\, Exmouth\, EX8 2RU
CATEGORIES:Past Productions
END:VEVENT
BEGIN:VEVENT
DTSTART;TZID=Europe/London:19960301T193000
DTEND;TZID=Europe/London:19960301T230000
DTSTAMP:20260421T023211
CREATED:20200514T125148Z
LAST-MODIFIED:20200514T125148Z
UID:3573-825708600-825721200@blackmoretheatre.co.uk
SUMMARY:Tribute
DESCRIPTION:Tribute
URL:https://blackmoretheatre.co.uk/event/tribute-2-2/
LOCATION:Blackmore Theatre\, 10 Bicton Street\, Exmouth\, EX8 2RU
CATEGORIES:Past Productions
END:VEVENT
BEGIN:VEVENT
DTSTART;TZID=Europe/London:19960101T193000
DTEND;TZID=Europe/London:19960101T230000
DTSTAMP:20260421T023211
CREATED:20200514T125150Z
LAST-MODIFIED:20200514T125150Z
UID:3574-820524600-820537200@blackmoretheatre.co.uk
SUMMARY:Puss in Boots
DESCRIPTION:Puss in Boots
URL:https://blackmoretheatre.co.uk/event/puss-in-boots-2-2/
LOCATION:Blackmore Theatre\, 10 Bicton Street\, Exmouth\, EX8 2RU
CATEGORIES:Past Productions
END:VEVENT
BEGIN:VEVENT
DTSTART;TZID=Europe/London:19960101T193000
DTEND;TZID=Europe/London:19960101T230000
DTSTAMP:20260421T023211
CREATED:20200514T125150Z
LAST-MODIFIED:20200514T125150Z
UID:2929-820524600-820537200@blackmoretheatre.co.uk
SUMMARY:Puss in Boots
DESCRIPTION:Puss in Boots
URL:https://blackmoretheatre.co.uk/event/puss-in-boots-2/
LOCATION:Blackmore Theatre\, 10 Bicton Street\, Exmouth\, EX8 2RU
CATEGORIES:Past Productions
END:VEVENT
BEGIN:VEVENT
DTSTART;TZID=Europe/London:19951101T193000
DTEND;TZID=Europe/London:19951101T230000
DTSTAMP:20260421T023211
CREATED:20200514T125150Z
LAST-MODIFIED:20200514T125150Z
UID:2930-815254200-815266800@blackmoretheatre.co.uk
SUMMARY:Little Women
DESCRIPTION:Little Women
URL:https://blackmoretheatre.co.uk/event/little-women-2/
LOCATION:Blackmore Theatre\, 10 Bicton Street\, Exmouth\, EX8 2RU
CATEGORIES:Past Productions
END:VEVENT
BEGIN:VEVENT
DTSTART;TZID=Europe/London:19951101T193000
DTEND;TZID=Europe/London:19951101T230000
DTSTAMP:20260421T023211
CREATED:20200514T125150Z
LAST-MODIFIED:20200514T125150Z
UID:3575-815254200-815266800@blackmoretheatre.co.uk
SUMMARY:Little Women
DESCRIPTION:Little Women
URL:https://blackmoretheatre.co.uk/event/little-women-2-2/
LOCATION:Blackmore Theatre\, 10 Bicton Street\, Exmouth\, EX8 2RU
CATEGORIES:Past Productions
END:VEVENT
BEGIN:VEVENT
DTSTART;TZID=Europe/London:19950801T203000
DTEND;TZID=Europe/London:19950802T000000
DTSTAMP:20260421T023211
CREATED:20200514T125154Z
LAST-MODIFIED:20200514T125154Z
UID:2934-807309000-807321600@blackmoretheatre.co.uk
SUMMARY:Hay Fever
DESCRIPTION:Hay Fever
URL:https://blackmoretheatre.co.uk/event/hay-fever-2/
LOCATION:Blackmore Theatre\, 10 Bicton Street\, Exmouth\, EX8 2RU
CATEGORIES:Past Productions
END:VEVENT
BEGIN:VEVENT
DTSTART;TZID=Europe/London:19950801T203000
DTEND;TZID=Europe/London:19950802T000000
DTSTAMP:20260421T023211
CREATED:20200514T125154Z
LAST-MODIFIED:20200514T125154Z
UID:3579-807309000-807321600@blackmoretheatre.co.uk
SUMMARY:Hay Fever
DESCRIPTION:Hay Fever
URL:https://blackmoretheatre.co.uk/event/hay-fever-2-2/
LOCATION:Blackmore Theatre\, 10 Bicton Street\, Exmouth\, EX8 2RU
CATEGORIES:Past Productions
END:VEVENT
BEGIN:VEVENT
DTSTART;TZID=Europe/London:19950601T203000
DTEND;TZID=Europe/London:19950602T000000
DTSTAMP:20260421T023211
CREATED:20200514T125150Z
LAST-MODIFIED:20200514T125150Z
UID:3577-802038600-802051200@blackmoretheatre.co.uk
SUMMARY:Dangerous Corner
DESCRIPTION:Dangerous Corner
URL:https://blackmoretheatre.co.uk/event/dangerous-corner-2-2/
LOCATION:Blackmore Theatre\, 10 Bicton Street\, Exmouth\, EX8 2RU
CATEGORIES:Past Productions
END:VEVENT
BEGIN:VEVENT
DTSTART;TZID=Europe/London:19950601T203000
DTEND;TZID=Europe/London:19950602T000000
DTSTAMP:20260421T023211
CREATED:20200514T125150Z
LAST-MODIFIED:20200514T125150Z
UID:2932-802038600-802051200@blackmoretheatre.co.uk
SUMMARY:Dangerous Corner
DESCRIPTION:Dangerous Corner
URL:https://blackmoretheatre.co.uk/event/dangerous-corner-2/
LOCATION:Blackmore Theatre\, 10 Bicton Street\, Exmouth\, EX8 2RU
CATEGORIES:Past Productions
END:VEVENT
END:VCALENDAR