BEGIN:VCALENDAR
VERSION:2.0
PRODID:-//Blackmore Theatre - ECPv6.15.18//NONSGML v1.0//EN
CALSCALE:GREGORIAN
METHOD:PUBLISH
X-WR-CALNAME:Blackmore Theatre
X-ORIGINAL-URL:https://blackmoretheatre.co.uk
X-WR-CALDESC:Events for Blackmore Theatre
REFRESH-INTERVAL;VALUE=DURATION:PT1H
X-Robots-Tag:noindex
X-PUBLISHED-TTL:PT1H
BEGIN:VTIMEZONE
TZID:Europe/London
BEGIN:DAYLIGHT
TZOFFSETFROM:+0000
TZOFFSETTO:+0100
TZNAME:BST
DTSTART:19990328T010000
END:DAYLIGHT
BEGIN:STANDARD
TZOFFSETFROM:+0100
TZOFFSETTO:+0000
TZNAME:GMT
DTSTART:19991031T010000
END:STANDARD
BEGIN:DAYLIGHT
TZOFFSETFROM:+0000
TZOFFSETTO:+0100
TZNAME:BST
DTSTART:20000326T010000
END:DAYLIGHT
BEGIN:STANDARD
TZOFFSETFROM:+0100
TZOFFSETTO:+0000
TZNAME:GMT
DTSTART:20001029T010000
END:STANDARD
BEGIN:DAYLIGHT
TZOFFSETFROM:+0000
TZOFFSETTO:+0100
TZNAME:BST
DTSTART:20010325T010000
END:DAYLIGHT
BEGIN:STANDARD
TZOFFSETFROM:+0100
TZOFFSETTO:+0000
TZNAME:GMT
DTSTART:20011028T010000
END:STANDARD
BEGIN:DAYLIGHT
TZOFFSETFROM:+0000
TZOFFSETTO:+0100
TZNAME:BST
DTSTART:20020331T010000
END:DAYLIGHT
BEGIN:STANDARD
TZOFFSETFROM:+0100
TZOFFSETTO:+0000
TZNAME:GMT
DTSTART:20021027T010000
END:STANDARD
BEGIN:DAYLIGHT
TZOFFSETFROM:+0000
TZOFFSETTO:+0100
TZNAME:BST
DTSTART:20030330T010000
END:DAYLIGHT
BEGIN:STANDARD
TZOFFSETFROM:+0100
TZOFFSETTO:+0000
TZNAME:GMT
DTSTART:20031026T010000
END:STANDARD
BEGIN:DAYLIGHT
TZOFFSETFROM:+0000
TZOFFSETTO:+0100
TZNAME:BST
DTSTART:20040328T010000
END:DAYLIGHT
BEGIN:STANDARD
TZOFFSETFROM:+0100
TZOFFSETTO:+0000
TZNAME:GMT
DTSTART:20041031T010000
END:STANDARD
END:VTIMEZONE
BEGIN:VEVENT
DTSTART;TZID=Europe/London:20030601T203000
DTEND;TZID=Europe/London:20030602T000000
DTSTAMP:20260420T075120
CREATED:20200514T125129Z
LAST-MODIFIED:20200514T125129Z
UID:3542-1054499400-1054512000@blackmoretheatre.co.uk
SUMMARY:Turn of the Screw
DESCRIPTION:Turn of the Screw
URL:https://blackmoretheatre.co.uk/event/turn-of-the-screw-2-2/
LOCATION:Blackmore Theatre\, 10 Bicton Street\, Exmouth\, EX8 2RU
CATEGORIES:Past Productions
END:VEVENT
BEGIN:VEVENT
DTSTART;TZID=Europe/London:20030601T203000
DTEND;TZID=Europe/London:20030602T000000
DTSTAMP:20260420T075120
CREATED:20200514T125129Z
LAST-MODIFIED:20200514T125129Z
UID:2897-1054499400-1054512000@blackmoretheatre.co.uk
SUMMARY:Turn of the Screw
DESCRIPTION:Turn of the Screw
URL:https://blackmoretheatre.co.uk/event/turn-of-the-screw-2/
LOCATION:Blackmore Theatre\, 10 Bicton Street\, Exmouth\, EX8 2RU
CATEGORIES:Past Productions
END:VEVENT
BEGIN:VEVENT
DTSTART;TZID=Europe/London:20030301T193000
DTEND;TZID=Europe/London:20030301T230000
DTSTAMP:20260420T075120
CREATED:20200514T125129Z
LAST-MODIFIED:20200514T125129Z
UID:3543-1046547000-1046559600@blackmoretheatre.co.uk
SUMMARY:Wild Goose Chase
DESCRIPTION:Wild Goose Chase
URL:https://blackmoretheatre.co.uk/event/wild-goose-chase-2-2/
LOCATION:Blackmore Theatre\, 10 Bicton Street\, Exmouth\, EX8 2RU
CATEGORIES:Past Productions
END:VEVENT
BEGIN:VEVENT
DTSTART;TZID=Europe/London:20030301T193000
DTEND;TZID=Europe/London:20030301T230000
DTSTAMP:20260420T075120
CREATED:20200514T125129Z
LAST-MODIFIED:20200514T125129Z
UID:2898-1046547000-1046559600@blackmoretheatre.co.uk
SUMMARY:Wild Goose Chase
DESCRIPTION:Wild Goose Chase
URL:https://blackmoretheatre.co.uk/event/wild-goose-chase-2/
LOCATION:Blackmore Theatre\, 10 Bicton Street\, Exmouth\, EX8 2RU
CATEGORIES:Past Productions
END:VEVENT
BEGIN:VEVENT
DTSTART;TZID=Europe/London:20030101T193000
DTEND;TZID=Europe/London:20030101T230000
DTSTAMP:20260420T075120
CREATED:20200514T125131Z
LAST-MODIFIED:20200514T125131Z
UID:2899-1041449400-1041462000@blackmoretheatre.co.uk
SUMMARY:Cinderella
DESCRIPTION:Cinderella
URL:https://blackmoretheatre.co.uk/event/cinderella-2/
LOCATION:Blackmore Theatre\, 10 Bicton Street\, Exmouth\, EX8 2RU
CATEGORIES:Past Productions
END:VEVENT
BEGIN:VEVENT
DTSTART;TZID=Europe/London:20030101T193000
DTEND;TZID=Europe/London:20030101T230000
DTSTAMP:20260420T075120
CREATED:20200514T125131Z
LAST-MODIFIED:20200514T125131Z
UID:3544-1041449400-1041462000@blackmoretheatre.co.uk
SUMMARY:Cinderella
DESCRIPTION:Cinderella
URL:https://blackmoretheatre.co.uk/event/cinderella-2-2/
LOCATION:Blackmore Theatre\, 10 Bicton Street\, Exmouth\, EX8 2RU
CATEGORIES:Past Productions
END:VEVENT
BEGIN:VEVENT
DTSTART;TZID=Europe/London:20021001T203000
DTEND;TZID=Europe/London:20021002T000000
DTSTAMP:20260420T075120
CREATED:20200514T125132Z
LAST-MODIFIED:20200514T125132Z
UID:2902-1033504200-1033516800@blackmoretheatre.co.uk
SUMMARY:Born in the Gardens
DESCRIPTION:Born in the Gardens
URL:https://blackmoretheatre.co.uk/event/born-in-the-gardens-2/
LOCATION:Blackmore Theatre\, 10 Bicton Street\, Exmouth\, EX8 2RU
CATEGORIES:Past Productions
END:VEVENT
BEGIN:VEVENT
DTSTART;TZID=Europe/London:20021001T203000
DTEND;TZID=Europe/London:20021002T000000
DTSTAMP:20260420T075120
CREATED:20200514T125132Z
LAST-MODIFIED:20200514T125132Z
UID:3547-1033504200-1033516800@blackmoretheatre.co.uk
SUMMARY:Born in the Gardens
DESCRIPTION:Born in the Gardens
URL:https://blackmoretheatre.co.uk/event/born-in-the-gardens-2-2/
LOCATION:Blackmore Theatre\, 10 Bicton Street\, Exmouth\, EX8 2RU
CATEGORIES:Past Productions
END:VEVENT
BEGIN:VEVENT
DTSTART;TZID=Europe/London:20020801T203000
DTEND;TZID=Europe/London:20020802T000000
DTSTAMP:20260420T075120
CREATED:20200514T125132Z
LAST-MODIFIED:20200514T125132Z
UID:3548-1028233800-1028246400@blackmoretheatre.co.uk
SUMMARY:California Suite
DESCRIPTION:California Suite
URL:https://blackmoretheatre.co.uk/event/california-suite-2-2/
LOCATION:Blackmore Theatre\, 10 Bicton Street\, Exmouth\, EX8 2RU
CATEGORIES:Past Productions
END:VEVENT
BEGIN:VEVENT
DTSTART;TZID=Europe/London:20020801T203000
DTEND;TZID=Europe/London:20020802T000000
DTSTAMP:20260420T075120
CREATED:20200514T125132Z
LAST-MODIFIED:20200514T125132Z
UID:2903-1028233800-1028246400@blackmoretheatre.co.uk
SUMMARY:California Suite
DESCRIPTION:California Suite
URL:https://blackmoretheatre.co.uk/event/california-suite-2/
LOCATION:Blackmore Theatre\, 10 Bicton Street\, Exmouth\, EX8 2RU
CATEGORIES:Past Productions
END:VEVENT
BEGIN:VEVENT
DTSTART;TZID=Europe/London:20020601T203000
DTEND;TZID=Europe/London:20020602T000000
DTSTAMP:20260420T075120
CREATED:20200514T125135Z
LAST-MODIFIED:20200514T125135Z
UID:3550-1022963400-1022976000@blackmoretheatre.co.uk
SUMMARY:The Memory of Water
DESCRIPTION:The Memory of Water
URL:https://blackmoretheatre.co.uk/event/the-memory-of-water-2-2/
LOCATION:Blackmore Theatre\, 10 Bicton Street\, Exmouth\, EX8 2RU
CATEGORIES:Past Productions
END:VEVENT
BEGIN:VEVENT
DTSTART;TZID=Europe/London:20020601T203000
DTEND;TZID=Europe/London:20020602T000000
DTSTAMP:20260420T075120
CREATED:20200514T125135Z
LAST-MODIFIED:20200514T125135Z
UID:2905-1022963400-1022976000@blackmoretheatre.co.uk
SUMMARY:The Memory of Water
DESCRIPTION:The Memory of Water
URL:https://blackmoretheatre.co.uk/event/the-memory-of-water-2/
LOCATION:Blackmore Theatre\, 10 Bicton Street\, Exmouth\, EX8 2RU
CATEGORIES:Past Productions
END:VEVENT
BEGIN:VEVENT
DTSTART;TZID=Europe/London:20020301T193000
DTEND;TZID=Europe/London:20020301T230000
DTSTAMP:20260420T075120
CREATED:20200514T125134Z
LAST-MODIFIED:20200514T125134Z
UID:2904-1015011000-1015023600@blackmoretheatre.co.uk
SUMMARY:Dial M For Murder
DESCRIPTION:Dial M For Murder
URL:https://blackmoretheatre.co.uk/event/dial-m-for-murder-2/
LOCATION:Blackmore Theatre\, 10 Bicton Street\, Exmouth\, EX8 2RU
CATEGORIES:Past Productions
END:VEVENT
BEGIN:VEVENT
DTSTART;TZID=Europe/London:20020301T193000
DTEND;TZID=Europe/London:20020301T230000
DTSTAMP:20260420T075120
CREATED:20200514T125134Z
LAST-MODIFIED:20200514T125134Z
UID:3549-1015011000-1015023600@blackmoretheatre.co.uk
SUMMARY:Dial M For Murder
DESCRIPTION:Dial M For Murder
URL:https://blackmoretheatre.co.uk/event/dial-m-for-murder-2-2/
LOCATION:Blackmore Theatre\, 10 Bicton Street\, Exmouth\, EX8 2RU
CATEGORIES:Past Productions
END:VEVENT
BEGIN:VEVENT
DTSTART;TZID=Europe/London:20020101T193000
DTEND;TZID=Europe/London:20020101T230000
DTSTAMP:20260420T075120
CREATED:20200514T125132Z
LAST-MODIFIED:20200514T125132Z
UID:2901-1009913400-1009926000@blackmoretheatre.co.uk
SUMMARY:Red Riding Hood
DESCRIPTION:Red Riding Hood
URL:https://blackmoretheatre.co.uk/event/red-riding-hood-3/
LOCATION:Blackmore Theatre\, 10 Bicton Street\, Exmouth\, EX8 2RU
CATEGORIES:Past Productions
END:VEVENT
BEGIN:VEVENT
DTSTART;TZID=Europe/London:20020101T193000
DTEND;TZID=Europe/London:20020101T230000
DTSTAMP:20260420T075120
CREATED:20200514T125132Z
LAST-MODIFIED:20200514T125132Z
UID:3546-1009913400-1009926000@blackmoretheatre.co.uk
SUMMARY:Red Riding Hood
DESCRIPTION:Red Riding Hood
URL:https://blackmoretheatre.co.uk/event/red-riding-hood-3-2/
LOCATION:Blackmore Theatre\, 10 Bicton Street\, Exmouth\, EX8 2RU
CATEGORIES:Past Productions
END:VEVENT
BEGIN:VEVENT
DTSTART;TZID=Europe/London:20011001T203000
DTEND;TZID=Europe/London:20011002T000000
DTSTAMP:20260420T075120
CREATED:20200514T125135Z
LAST-MODIFIED:20200514T125135Z
UID:2907-1001968200-1001980800@blackmoretheatre.co.uk
SUMMARY:Hobson's Choice
DESCRIPTION:Hobson’s Choice
URL:https://blackmoretheatre.co.uk/event/hobsons-choice-2/
LOCATION:Blackmore Theatre\, 10 Bicton Street\, Exmouth\, EX8 2RU
CATEGORIES:Past Productions
END:VEVENT
BEGIN:VEVENT
DTSTART;TZID=Europe/London:20011001T203000
DTEND;TZID=Europe/London:20011002T000000
DTSTAMP:20260420T075120
CREATED:20200514T125135Z
LAST-MODIFIED:20200514T125135Z
UID:3552-1001968200-1001980800@blackmoretheatre.co.uk
SUMMARY:Hobson's Choice
DESCRIPTION:Hobson’s Choice
URL:https://blackmoretheatre.co.uk/event/hobsons-choice-2-2/
LOCATION:Blackmore Theatre\, 10 Bicton Street\, Exmouth\, EX8 2RU
CATEGORIES:Past Productions
END:VEVENT
BEGIN:VEVENT
DTSTART;TZID=Europe/London:20010801T203000
DTEND;TZID=Europe/London:20010802T000000
DTSTAMP:20260420T075120
CREATED:20200514T125135Z
LAST-MODIFIED:20200514T125135Z
UID:3551-996697800-996710400@blackmoretheatre.co.uk
SUMMARY:Wyro Sisters
DESCRIPTION:Wyro Sisters
URL:https://blackmoretheatre.co.uk/event/wyro-sisters-2-2/
LOCATION:Blackmore Theatre\, 10 Bicton Street\, Exmouth\, EX8 2RU
CATEGORIES:Past Productions
END:VEVENT
BEGIN:VEVENT
DTSTART;TZID=Europe/London:20010801T203000
DTEND;TZID=Europe/London:20010802T000000
DTSTAMP:20260420T075120
CREATED:20200514T125135Z
LAST-MODIFIED:20200514T125135Z
UID:2906-996697800-996710400@blackmoretheatre.co.uk
SUMMARY:Wyro Sisters
DESCRIPTION:Wyro Sisters
URL:https://blackmoretheatre.co.uk/event/wyro-sisters-2/
LOCATION:Blackmore Theatre\, 10 Bicton Street\, Exmouth\, EX8 2RU
CATEGORIES:Past Productions
END:VEVENT
BEGIN:VEVENT
DTSTART;TZID=Europe/London:20010301T193000
DTEND;TZID=Europe/London:20010301T230000
DTSTAMP:20260420T075120
CREATED:20200514T125135Z
LAST-MODIFIED:20200514T125135Z
UID:2908-983475000-983487600@blackmoretheatre.co.uk
SUMMARY:On Golden Pond
DESCRIPTION:On Golden Pond
URL:https://blackmoretheatre.co.uk/event/on-golden-pond-3/
LOCATION:Blackmore Theatre\, 10 Bicton Street\, Exmouth\, EX8 2RU
CATEGORIES:Past Productions
END:VEVENT
BEGIN:VEVENT
DTSTART;TZID=Europe/London:20010301T193000
DTEND;TZID=Europe/London:20010301T230000
DTSTAMP:20260420T075120
CREATED:20200514T125135Z
LAST-MODIFIED:20200514T125135Z
UID:3553-983475000-983487600@blackmoretheatre.co.uk
SUMMARY:On Golden Pond
DESCRIPTION:On Golden Pond
URL:https://blackmoretheatre.co.uk/event/on-golden-pond-3-2/
LOCATION:Blackmore Theatre\, 10 Bicton Street\, Exmouth\, EX8 2RU
CATEGORIES:Past Productions
END:VEVENT
BEGIN:VEVENT
DTSTART;TZID=Europe/London:20010101T193000
DTEND;TZID=Europe/London:20010101T230000
DTSTAMP:20260420T075120
CREATED:20200514T125137Z
LAST-MODIFIED:20200514T125137Z
UID:2909-978377400-978390000@blackmoretheatre.co.uk
SUMMARY:Robinson Crusoe
DESCRIPTION:Robinson Crusoe
URL:https://blackmoretheatre.co.uk/event/robinson-crusoe-3/
LOCATION:Blackmore Theatre\, 10 Bicton Street\, Exmouth\, EX8 2RU
CATEGORIES:Past Productions
END:VEVENT
BEGIN:VEVENT
DTSTART;TZID=Europe/London:20010101T193000
DTEND;TZID=Europe/London:20010101T230000
DTSTAMP:20260420T075120
CREATED:20200514T125137Z
LAST-MODIFIED:20200514T125137Z
UID:3554-978377400-978390000@blackmoretheatre.co.uk
SUMMARY:Robinson Crusoe
DESCRIPTION:Robinson Crusoe
URL:https://blackmoretheatre.co.uk/event/robinson-crusoe-3-2/
LOCATION:Blackmore Theatre\, 10 Bicton Street\, Exmouth\, EX8 2RU
CATEGORIES:Past Productions
END:VEVENT
BEGIN:VEVENT
DTSTART;TZID=Europe/London:20000801T203000
DTEND;TZID=Europe/London:20000802T000000
DTSTAMP:20260420T075120
CREATED:20200514T125138Z
LAST-MODIFIED:20200514T125138Z
UID:3555-965161800-965174400@blackmoretheatre.co.uk
SUMMARY:Dead Guilty
DESCRIPTION:Dead Guilty
URL:https://blackmoretheatre.co.uk/event/dead-guilty-2-2/
LOCATION:Blackmore Theatre\, 10 Bicton Street\, Exmouth\, EX8 2RU
CATEGORIES:Past Productions
END:VEVENT
BEGIN:VEVENT
DTSTART;TZID=Europe/London:20000801T203000
DTEND;TZID=Europe/London:20000802T000000
DTSTAMP:20260420T075120
CREATED:20200514T125138Z
LAST-MODIFIED:20200514T125138Z
UID:2910-965161800-965174400@blackmoretheatre.co.uk
SUMMARY:Dead Guilty
DESCRIPTION:Dead Guilty
URL:https://blackmoretheatre.co.uk/event/dead-guilty-2/
LOCATION:Blackmore Theatre\, 10 Bicton Street\, Exmouth\, EX8 2RU
CATEGORIES:Past Productions
END:VEVENT
BEGIN:VEVENT
DTSTART;TZID=Europe/London:20000601T203000
DTEND;TZID=Europe/London:20000602T000000
DTSTAMP:20260420T075120
CREATED:20200514T125138Z
LAST-MODIFIED:20200514T125138Z
UID:3556-959891400-959904000@blackmoretheatre.co.uk
SUMMARY:Party Piece
DESCRIPTION:Party Piece
URL:https://blackmoretheatre.co.uk/event/party-piece-2-2/
LOCATION:Blackmore Theatre\, 10 Bicton Street\, Exmouth\, EX8 2RU
CATEGORIES:Past Productions
END:VEVENT
BEGIN:VEVENT
DTSTART;TZID=Europe/London:20000601T203000
DTEND;TZID=Europe/London:20000602T000000
DTSTAMP:20260420T075120
CREATED:20200514T125138Z
LAST-MODIFIED:20200514T125138Z
UID:2911-959891400-959904000@blackmoretheatre.co.uk
SUMMARY:Party Piece
DESCRIPTION:Party Piece
URL:https://blackmoretheatre.co.uk/event/party-piece-2/
LOCATION:Blackmore Theatre\, 10 Bicton Street\, Exmouth\, EX8 2RU
CATEGORIES:Past Productions
END:VEVENT
BEGIN:VEVENT
DTSTART;TZID=Europe/London:20000301T193000
DTEND;TZID=Europe/London:20000301T230000
DTSTAMP:20260420T075120
CREATED:20200514T125138Z
LAST-MODIFIED:20200514T125138Z
UID:2913-951939000-951951600@blackmoretheatre.co.uk
SUMMARY:The Noble Spaniard
DESCRIPTION:The Noble Spaniard
URL:https://blackmoretheatre.co.uk/event/the-noble-spaniard-2/
LOCATION:Blackmore Theatre\, 10 Bicton Street\, Exmouth\, EX8 2RU
CATEGORIES:Past Productions
END:VEVENT
BEGIN:VEVENT
DTSTART;TZID=Europe/London:20000301T193000
DTEND;TZID=Europe/London:20000301T230000
DTSTAMP:20260420T075120
CREATED:20200514T125138Z
LAST-MODIFIED:20200514T125138Z
UID:3558-951939000-951951600@blackmoretheatre.co.uk
SUMMARY:The Noble Spaniard
DESCRIPTION:The Noble Spaniard
URL:https://blackmoretheatre.co.uk/event/the-noble-spaniard-2-2/
LOCATION:Blackmore Theatre\, 10 Bicton Street\, Exmouth\, EX8 2RU
CATEGORIES:Past Productions
END:VEVENT
END:VCALENDAR