BEGIN:VCALENDAR
VERSION:2.0
PRODID:-//Blackmore Theatre - ECPv6.15.18//NONSGML v1.0//EN
CALSCALE:GREGORIAN
METHOD:PUBLISH
X-WR-CALNAME:Blackmore Theatre
X-ORIGINAL-URL:https://blackmoretheatre.co.uk
X-WR-CALDESC:Events for Blackmore Theatre
REFRESH-INTERVAL;VALUE=DURATION:PT1H
X-Robots-Tag:noindex
X-PUBLISHED-TTL:PT1H
BEGIN:VTIMEZONE
TZID:Europe/London
BEGIN:DAYLIGHT
TZOFFSETFROM:+0000
TZOFFSETTO:+0100
TZNAME:BST
DTSTART:20030330T010000
END:DAYLIGHT
BEGIN:STANDARD
TZOFFSETFROM:+0100
TZOFFSETTO:+0000
TZNAME:GMT
DTSTART:20031026T010000
END:STANDARD
BEGIN:DAYLIGHT
TZOFFSETFROM:+0000
TZOFFSETTO:+0100
TZNAME:BST
DTSTART:20040328T010000
END:DAYLIGHT
BEGIN:STANDARD
TZOFFSETFROM:+0100
TZOFFSETTO:+0000
TZNAME:GMT
DTSTART:20041031T010000
END:STANDARD
BEGIN:DAYLIGHT
TZOFFSETFROM:+0000
TZOFFSETTO:+0100
TZNAME:BST
DTSTART:20050327T010000
END:DAYLIGHT
BEGIN:STANDARD
TZOFFSETFROM:+0100
TZOFFSETTO:+0000
TZNAME:GMT
DTSTART:20051030T010000
END:STANDARD
BEGIN:DAYLIGHT
TZOFFSETFROM:+0000
TZOFFSETTO:+0100
TZNAME:BST
DTSTART:20060326T010000
END:DAYLIGHT
BEGIN:STANDARD
TZOFFSETFROM:+0100
TZOFFSETTO:+0000
TZNAME:GMT
DTSTART:20061029T010000
END:STANDARD
BEGIN:DAYLIGHT
TZOFFSETFROM:+0000
TZOFFSETTO:+0100
TZNAME:BST
DTSTART:20070325T010000
END:DAYLIGHT
BEGIN:STANDARD
TZOFFSETFROM:+0100
TZOFFSETTO:+0000
TZNAME:GMT
DTSTART:20071028T010000
END:STANDARD
BEGIN:DAYLIGHT
TZOFFSETFROM:+0000
TZOFFSETTO:+0100
TZNAME:BST
DTSTART:20080330T010000
END:DAYLIGHT
BEGIN:STANDARD
TZOFFSETFROM:+0100
TZOFFSETTO:+0000
TZNAME:GMT
DTSTART:20081026T010000
END:STANDARD
END:VTIMEZONE
BEGIN:VEVENT
DTSTART;TZID=Europe/London:20070801T203000
DTEND;TZID=Europe/London:20070802T000000
DTSTAMP:20260420T073503
CREATED:20200514T125120Z
LAST-MODIFIED:20200514T125120Z
UID:3525-1186000200-1186012800@blackmoretheatre.co.uk
SUMMARY:Allo\, 'Allo
DESCRIPTION:Allo\, ‘Allo
URL:https://blackmoretheatre.co.uk/event/allo-allo-2-2/
LOCATION:Blackmore Theatre\, 10 Bicton Street\, Exmouth\, EX8 2RU
CATEGORIES:Past Productions
END:VEVENT
BEGIN:VEVENT
DTSTART;TZID=Europe/London:20070801T203000
DTEND;TZID=Europe/London:20070802T000000
DTSTAMP:20260420T073503
CREATED:20200514T125120Z
LAST-MODIFIED:20200514T125120Z
UID:2880-1186000200-1186012800@blackmoretheatre.co.uk
SUMMARY:Allo\, 'Allo
DESCRIPTION:Allo\, ‘Allo
URL:https://blackmoretheatre.co.uk/event/allo-allo-2/
LOCATION:Blackmore Theatre\, 10 Bicton Street\, Exmouth\, EX8 2RU
CATEGORIES:Past Productions
END:VEVENT
BEGIN:VEVENT
DTSTART;TZID=Europe/London:20070601T203000
DTEND;TZID=Europe/London:20070602T000000
DTSTAMP:20260420T073503
CREATED:20200514T125116Z
LAST-MODIFIED:20200514T125116Z
UID:3522-1180729800-1180742400@blackmoretheatre.co.uk
SUMMARY:The Inportance of Being Earnest
DESCRIPTION:The Inportance of Being Earnest
URL:https://blackmoretheatre.co.uk/event/the-inportance-of-being-earnest-2-2/
LOCATION:Blackmore Theatre\, 10 Bicton Street\, Exmouth\, EX8 2RU
CATEGORIES:Past Productions
END:VEVENT
BEGIN:VEVENT
DTSTART;TZID=Europe/London:20070601T203000
DTEND;TZID=Europe/London:20070602T000000
DTSTAMP:20260420T073503
CREATED:20200514T125116Z
LAST-MODIFIED:20200514T125116Z
UID:2877-1180729800-1180742400@blackmoretheatre.co.uk
SUMMARY:The Inportance of Being Earnest
DESCRIPTION:The Inportance of Being Earnest
URL:https://blackmoretheatre.co.uk/event/the-inportance-of-being-earnest-2/
LOCATION:Blackmore Theatre\, 10 Bicton Street\, Exmouth\, EX8 2RU
CATEGORIES:Past Productions
END:VEVENT
BEGIN:VEVENT
DTSTART;TZID=Europe/London:20070301T193000
DTEND;TZID=Europe/London:20070301T230000
DTSTAMP:20260420T073503
CREATED:20200514T125117Z
LAST-MODIFIED:20200514T125117Z
UID:2878-1172777400-1172790000@blackmoretheatre.co.uk
SUMMARY:An Inspector Calls
DESCRIPTION:An Inspector Calls
URL:https://blackmoretheatre.co.uk/event/an-inspector-calls-2/
LOCATION:Blackmore Theatre\, 10 Bicton Street\, Exmouth\, EX8 2RU
CATEGORIES:Past Productions
END:VEVENT
BEGIN:VEVENT
DTSTART;TZID=Europe/London:20070301T193000
DTEND;TZID=Europe/London:20070301T230000
DTSTAMP:20260420T073503
CREATED:20200514T125117Z
LAST-MODIFIED:20200514T125117Z
UID:3523-1172777400-1172790000@blackmoretheatre.co.uk
SUMMARY:An Inspector Calls
DESCRIPTION:An Inspector Calls
URL:https://blackmoretheatre.co.uk/event/an-inspector-calls-2-2/
LOCATION:Blackmore Theatre\, 10 Bicton Street\, Exmouth\, EX8 2RU
CATEGORIES:Past Productions
END:VEVENT
BEGIN:VEVENT
DTSTART;TZID=Europe/London:20070101T193000
DTEND;TZID=Europe/London:20070101T230000
DTSTAMP:20260420T073503
CREATED:20200514T125119Z
LAST-MODIFIED:20200514T125119Z
UID:3524-1167679800-1167692400@blackmoretheatre.co.uk
SUMMARY:Snow White and the Seven Lumberjacks
DESCRIPTION:Snow White and the Seven Lumberjacks
URL:https://blackmoretheatre.co.uk/event/snow-white-and-the-seven-lumberjacks-2-2/
LOCATION:Blackmore Theatre\, 10 Bicton Street\, Exmouth\, EX8 2RU
CATEGORIES:Past Productions
END:VEVENT
BEGIN:VEVENT
DTSTART;TZID=Europe/London:20070101T193000
DTEND;TZID=Europe/London:20070101T230000
DTSTAMP:20260420T073503
CREATED:20200514T125119Z
LAST-MODIFIED:20200514T125119Z
UID:2879-1167679800-1167692400@blackmoretheatre.co.uk
SUMMARY:Snow White and the Seven Lumberjacks
DESCRIPTION:Snow White and the Seven Lumberjacks
URL:https://blackmoretheatre.co.uk/event/snow-white-and-the-seven-lumberjacks-2/
LOCATION:Blackmore Theatre\, 10 Bicton Street\, Exmouth\, EX8 2RU
CATEGORIES:Past Productions
END:VEVENT
BEGIN:VEVENT
DTSTART;TZID=Europe/London:20061101T193000
DTEND;TZID=Europe/London:20061101T230000
DTSTAMP:20260420T073503
CREATED:20200514T125120Z
LAST-MODIFIED:20200514T125120Z
UID:3526-1162409400-1162422000@blackmoretheatre.co.uk
SUMMARY:Love Begins at Fifty
DESCRIPTION:Love Begins at Fifty
URL:https://blackmoretheatre.co.uk/event/love-begins-at-fifty-2-2/
LOCATION:Blackmore Theatre\, 10 Bicton Street\, Exmouth\, EX8 2RU
CATEGORIES:Past Productions
END:VEVENT
BEGIN:VEVENT
DTSTART;TZID=Europe/London:20061101T193000
DTEND;TZID=Europe/London:20061101T230000
DTSTAMP:20260420T073503
CREATED:20200514T125120Z
LAST-MODIFIED:20200514T125120Z
UID:2881-1162409400-1162422000@blackmoretheatre.co.uk
SUMMARY:Love Begins at Fifty
DESCRIPTION:Love Begins at Fifty
URL:https://blackmoretheatre.co.uk/event/love-begins-at-fifty-2/
LOCATION:Blackmore Theatre\, 10 Bicton Street\, Exmouth\, EX8 2RU
CATEGORIES:Past Productions
END:VEVENT
BEGIN:VEVENT
DTSTART;TZID=Europe/London:20060901T203000
DTEND;TZID=Europe/London:20060902T000000
DTSTAMP:20260420T073503
CREATED:20200514T125122Z
LAST-MODIFIED:20200514T125122Z
UID:3530-1157142600-1157155200@blackmoretheatre.co.uk
SUMMARY:Laying the Ghost
DESCRIPTION:Laying the Ghost
URL:https://blackmoretheatre.co.uk/event/laying-the-ghost-2-2/
LOCATION:Blackmore Theatre\, 10 Bicton Street\, Exmouth\, EX8 2RU
CATEGORIES:Past Productions
END:VEVENT
BEGIN:VEVENT
DTSTART;TZID=Europe/London:20060901T203000
DTEND;TZID=Europe/London:20060902T000000
DTSTAMP:20260420T073503
CREATED:20200514T125122Z
LAST-MODIFIED:20200514T125122Z
UID:2885-1157142600-1157155200@blackmoretheatre.co.uk
SUMMARY:Laying the Ghost
DESCRIPTION:Laying the Ghost
URL:https://blackmoretheatre.co.uk/event/laying-the-ghost-2/
LOCATION:Blackmore Theatre\, 10 Bicton Street\, Exmouth\, EX8 2RU
CATEGORIES:Past Productions
END:VEVENT
BEGIN:VEVENT
DTSTART;TZID=Europe/London:20060701T203000
DTEND;TZID=Europe/London:20060702T000000
DTSTAMP:20260420T073503
CREATED:20200514T125120Z
LAST-MODIFIED:20200514T125120Z
UID:3527-1151785800-1151798400@blackmoretheatre.co.uk
SUMMARY:Shirley Valentine
DESCRIPTION:Shirley Valentine
URL:https://blackmoretheatre.co.uk/event/shirley-valentine-2-2/
LOCATION:Blackmore Theatre\, 10 Bicton Street\, Exmouth\, EX8 2RU
CATEGORIES:Past Productions
END:VEVENT
BEGIN:VEVENT
DTSTART;TZID=Europe/London:20060701T203000
DTEND;TZID=Europe/London:20060702T000000
DTSTAMP:20260420T073503
CREATED:20200514T125120Z
LAST-MODIFIED:20200514T125120Z
UID:2882-1151785800-1151798400@blackmoretheatre.co.uk
SUMMARY:Shirley Valentine
DESCRIPTION:Shirley Valentine
URL:https://blackmoretheatre.co.uk/event/shirley-valentine-2/
LOCATION:Blackmore Theatre\, 10 Bicton Street\, Exmouth\, EX8 2RU
CATEGORIES:Past Productions
END:VEVENT
BEGIN:VEVENT
DTSTART;TZID=Europe/London:20060301T193000
DTEND;TZID=Europe/London:20060301T230000
DTSTAMP:20260420T073503
CREATED:20200514T125120Z
LAST-MODIFIED:20200514T125120Z
UID:3528-1141241400-1141254000@blackmoretheatre.co.uk
SUMMARY:The Ghost Train
DESCRIPTION:The Ghost Train
URL:https://blackmoretheatre.co.uk/event/the-ghost-train-2-2/
LOCATION:Blackmore Theatre\, 10 Bicton Street\, Exmouth\, EX8 2RU
CATEGORIES:Past Productions
END:VEVENT
BEGIN:VEVENT
DTSTART;TZID=Europe/London:20060301T193000
DTEND;TZID=Europe/London:20060301T230000
DTSTAMP:20260420T073503
CREATED:20200514T125120Z
LAST-MODIFIED:20200514T125120Z
UID:2883-1141241400-1141254000@blackmoretheatre.co.uk
SUMMARY:The Ghost Train
DESCRIPTION:The Ghost Train
URL:https://blackmoretheatre.co.uk/event/the-ghost-train-2/
LOCATION:Blackmore Theatre\, 10 Bicton Street\, Exmouth\, EX8 2RU
CATEGORIES:Past Productions
END:VEVENT
BEGIN:VEVENT
DTSTART;TZID=Europe/London:20060101T193000
DTEND;TZID=Europe/London:20060101T230000
DTSTAMP:20260420T073503
CREATED:20200514T125122Z
LAST-MODIFIED:20200514T125122Z
UID:3529-1136143800-1136156400@blackmoretheatre.co.uk
SUMMARY:Mother Goose
DESCRIPTION:Mother Goose
URL:https://blackmoretheatre.co.uk/event/mother-goose-2-2/
LOCATION:Blackmore Theatre\, 10 Bicton Street\, Exmouth\, EX8 2RU
CATEGORIES:Past Productions
END:VEVENT
BEGIN:VEVENT
DTSTART;TZID=Europe/London:20060101T193000
DTEND;TZID=Europe/London:20060101T230000
DTSTAMP:20260420T073503
CREATED:20200514T125122Z
LAST-MODIFIED:20200514T125122Z
UID:2884-1136143800-1136156400@blackmoretheatre.co.uk
SUMMARY:Mother Goose
DESCRIPTION:Mother Goose
URL:https://blackmoretheatre.co.uk/event/mother-goose-2/
LOCATION:Blackmore Theatre\, 10 Bicton Street\, Exmouth\, EX8 2RU
CATEGORIES:Past Productions
END:VEVENT
BEGIN:VEVENT
DTSTART;TZID=Europe/London:20051001T203000
DTEND;TZID=Europe/London:20051002T000000
DTSTAMP:20260420T073503
CREATED:20200514T125123Z
LAST-MODIFIED:20200514T125123Z
UID:3532-1128198600-1128211200@blackmoretheatre.co.uk
SUMMARY:I'll Be Back Before Midnight
DESCRIPTION:I’ll Be Back Before Midnight
URL:https://blackmoretheatre.co.uk/event/ill-be-back-before-midnight-2-2/
LOCATION:Blackmore Theatre\, 10 Bicton Street\, Exmouth\, EX8 2RU
CATEGORIES:Past Productions
END:VEVENT
BEGIN:VEVENT
DTSTART;TZID=Europe/London:20051001T203000
DTEND;TZID=Europe/London:20051002T000000
DTSTAMP:20260420T073503
CREATED:20200514T125123Z
LAST-MODIFIED:20200514T125123Z
UID:2887-1128198600-1128211200@blackmoretheatre.co.uk
SUMMARY:I'll Be Back Before Midnight
DESCRIPTION:I’ll Be Back Before Midnight
URL:https://blackmoretheatre.co.uk/event/ill-be-back-before-midnight-2/
LOCATION:Blackmore Theatre\, 10 Bicton Street\, Exmouth\, EX8 2RU
CATEGORIES:Past Productions
END:VEVENT
BEGIN:VEVENT
DTSTART;TZID=Europe/London:20050801T203000
DTEND;TZID=Europe/London:20050802T000000
DTSTAMP:20260420T073503
CREATED:20200514T125123Z
LAST-MODIFIED:20200514T125123Z
UID:3533-1122928200-1122940800@blackmoretheatre.co.uk
SUMMARY:Don't Utter a Note
DESCRIPTION:Don’t Utter a Note
URL:https://blackmoretheatre.co.uk/event/dont-utter-a-note-2-2/
LOCATION:Blackmore Theatre\, 10 Bicton Street\, Exmouth\, EX8 2RU
CATEGORIES:Past Productions
END:VEVENT
BEGIN:VEVENT
DTSTART;TZID=Europe/London:20050801T203000
DTEND;TZID=Europe/London:20050802T000000
DTSTAMP:20260420T073503
CREATED:20200514T125123Z
LAST-MODIFIED:20200514T125123Z
UID:2888-1122928200-1122940800@blackmoretheatre.co.uk
SUMMARY:Don't Utter a Note
DESCRIPTION:Don’t Utter a Note
URL:https://blackmoretheatre.co.uk/event/dont-utter-a-note-2/
LOCATION:Blackmore Theatre\, 10 Bicton Street\, Exmouth\, EX8 2RU
CATEGORIES:Past Productions
END:VEVENT
BEGIN:VEVENT
DTSTART;TZID=Europe/London:20050601T203000
DTEND;TZID=Europe/London:20050602T000000
DTSTAMP:20260420T073503
CREATED:20200514T125125Z
LAST-MODIFIED:20200514T125125Z
UID:3534-1117657800-1117670400@blackmoretheatre.co.uk
SUMMARY:Inspector Drake's Last Case
DESCRIPTION:Inspector Drake’s Last Case
URL:https://blackmoretheatre.co.uk/event/inspector-drakes-last-case-2-2/
LOCATION:Blackmore Theatre\, 10 Bicton Street\, Exmouth\, EX8 2RU
CATEGORIES:Past Productions
END:VEVENT
BEGIN:VEVENT
DTSTART;TZID=Europe/London:20050601T203000
DTEND;TZID=Europe/London:20050602T000000
DTSTAMP:20260420T073504
CREATED:20200514T125125Z
LAST-MODIFIED:20200514T125125Z
UID:2889-1117657800-1117670400@blackmoretheatre.co.uk
SUMMARY:Inspector Drake's Last Case
DESCRIPTION:Inspector Drake’s Last Case
URL:https://blackmoretheatre.co.uk/event/inspector-drakes-last-case-2/
LOCATION:Blackmore Theatre\, 10 Bicton Street\, Exmouth\, EX8 2RU
CATEGORIES:Past Productions
END:VEVENT
BEGIN:VEVENT
DTSTART;TZID=Europe/London:20050301T193000
DTEND;TZID=Europe/London:20050301T230000
DTSTAMP:20260420T073504
CREATED:20200514T125123Z
LAST-MODIFIED:20200514T125123Z
UID:3531-1109705400-1109718000@blackmoretheatre.co.uk
SUMMARY:Blithe Spirit
DESCRIPTION:Blithe Spirit
URL:https://blackmoretheatre.co.uk/event/blithe-spirit-3-2/
LOCATION:Blackmore Theatre\, 10 Bicton Street\, Exmouth\, EX8 2RU
CATEGORIES:Past Productions
END:VEVENT
BEGIN:VEVENT
DTSTART;TZID=Europe/London:20050301T193000
DTEND;TZID=Europe/London:20050301T230000
DTSTAMP:20260420T073504
CREATED:20200514T125123Z
LAST-MODIFIED:20200514T125123Z
UID:2886-1109705400-1109718000@blackmoretheatre.co.uk
SUMMARY:Blithe Spirit
DESCRIPTION:Blithe Spirit
URL:https://blackmoretheatre.co.uk/event/blithe-spirit-3/
LOCATION:Blackmore Theatre\, 10 Bicton Street\, Exmouth\, EX8 2RU
CATEGORIES:Past Productions
END:VEVENT
BEGIN:VEVENT
DTSTART;TZID=Europe/London:20050101T193000
DTEND;TZID=Europe/London:20050101T230000
DTSTAMP:20260420T073504
CREATED:20200514T125125Z
LAST-MODIFIED:20200514T125125Z
UID:3535-1104607800-1104620400@blackmoretheatre.co.uk
SUMMARY:Aladdin
DESCRIPTION:Aladdin
URL:https://blackmoretheatre.co.uk/event/aladdin-2-2/
LOCATION:Blackmore Theatre\, 10 Bicton Street\, Exmouth\, EX8 2RU
CATEGORIES:Past Productions
END:VEVENT
BEGIN:VEVENT
DTSTART;TZID=Europe/London:20050101T193000
DTEND;TZID=Europe/London:20050101T230000
DTSTAMP:20260420T073504
CREATED:20200514T125125Z
LAST-MODIFIED:20200514T125125Z
UID:2890-1104607800-1104620400@blackmoretheatre.co.uk
SUMMARY:Aladdin
DESCRIPTION:Aladdin
URL:https://blackmoretheatre.co.uk/event/aladdin-2/
LOCATION:Blackmore Theatre\, 10 Bicton Street\, Exmouth\, EX8 2RU
CATEGORIES:Past Productions
END:VEVENT
BEGIN:VEVENT
DTSTART;TZID=Europe/London:20041001T203000
DTEND;TZID=Europe/London:20041002T000000
DTSTAMP:20260420T073504
CREATED:20200514T125125Z
LAST-MODIFIED:20200514T125125Z
UID:2891-1096662600-1096675200@blackmoretheatre.co.uk
SUMMARY:Alphabetical Order
DESCRIPTION:Alphabetical Order
URL:https://blackmoretheatre.co.uk/event/alphabetical-order-2/
LOCATION:Blackmore Theatre\, 10 Bicton Street\, Exmouth\, EX8 2RU
CATEGORIES:Past Productions
END:VEVENT
BEGIN:VEVENT
DTSTART;TZID=Europe/London:20041001T203000
DTEND;TZID=Europe/London:20041002T000000
DTSTAMP:20260420T073504
CREATED:20200514T125125Z
LAST-MODIFIED:20200514T125125Z
UID:3536-1096662600-1096675200@blackmoretheatre.co.uk
SUMMARY:Alphabetical Order
DESCRIPTION:Alphabetical Order
URL:https://blackmoretheatre.co.uk/event/alphabetical-order-2-2/
LOCATION:Blackmore Theatre\, 10 Bicton Street\, Exmouth\, EX8 2RU
CATEGORIES:Past Productions
END:VEVENT
END:VCALENDAR