BEGIN:VCALENDAR
VERSION:2.0
PRODID:-//Blackmore Theatre - ECPv6.15.18//NONSGML v1.0//EN
CALSCALE:GREGORIAN
METHOD:PUBLISH
X-WR-CALNAME:Blackmore Theatre
X-ORIGINAL-URL:https://blackmoretheatre.co.uk
X-WR-CALDESC:Events for Blackmore Theatre
REFRESH-INTERVAL;VALUE=DURATION:PT1H
X-Robots-Tag:noindex
X-PUBLISHED-TTL:PT1H
BEGIN:VTIMEZONE
TZID:Europe/London
BEGIN:DAYLIGHT
TZOFFSETFROM:+0000
TZOFFSETTO:+0100
TZNAME:BST
DTSTART:20070325T010000
END:DAYLIGHT
BEGIN:STANDARD
TZOFFSETFROM:+0100
TZOFFSETTO:+0000
TZNAME:GMT
DTSTART:20071028T010000
END:STANDARD
BEGIN:DAYLIGHT
TZOFFSETFROM:+0000
TZOFFSETTO:+0100
TZNAME:BST
DTSTART:20080330T010000
END:DAYLIGHT
BEGIN:STANDARD
TZOFFSETFROM:+0100
TZOFFSETTO:+0000
TZNAME:GMT
DTSTART:20081026T010000
END:STANDARD
BEGIN:DAYLIGHT
TZOFFSETFROM:+0000
TZOFFSETTO:+0100
TZNAME:BST
DTSTART:20090329T010000
END:DAYLIGHT
BEGIN:STANDARD
TZOFFSETFROM:+0100
TZOFFSETTO:+0000
TZNAME:GMT
DTSTART:20091025T010000
END:STANDARD
BEGIN:DAYLIGHT
TZOFFSETFROM:+0000
TZOFFSETTO:+0100
TZNAME:BST
DTSTART:20100328T010000
END:DAYLIGHT
BEGIN:STANDARD
TZOFFSETFROM:+0100
TZOFFSETTO:+0000
TZNAME:GMT
DTSTART:20101031T010000
END:STANDARD
BEGIN:DAYLIGHT
TZOFFSETFROM:+0000
TZOFFSETTO:+0100
TZNAME:BST
DTSTART:20110327T010000
END:DAYLIGHT
BEGIN:STANDARD
TZOFFSETFROM:+0100
TZOFFSETTO:+0000
TZNAME:GMT
DTSTART:20111030T010000
END:STANDARD
BEGIN:DAYLIGHT
TZOFFSETFROM:+0000
TZOFFSETTO:+0100
TZNAME:BST
DTSTART:20120325T010000
END:DAYLIGHT
BEGIN:STANDARD
TZOFFSETFROM:+0100
TZOFFSETTO:+0000
TZNAME:GMT
DTSTART:20121028T010000
END:STANDARD
END:VTIMEZONE
BEGIN:VEVENT
DTSTART;TZID=Europe/London:20110601T203000
DTEND;TZID=Europe/London:20110602T000000
DTSTAMP:20260420T005313
CREATED:20200514T125103Z
LAST-MODIFIED:20200514T125103Z
UID:2855-1306960200-1306972800@blackmoretheatre.co.uk
SUMMARY:Noises Off
DESCRIPTION:Noises Off
URL:https://blackmoretheatre.co.uk/event/noises-off-2/
LOCATION:Blackmore Theatre\, 10 Bicton Street\, Exmouth\, EX8 2RU
CATEGORIES:Past Productions
END:VEVENT
BEGIN:VEVENT
DTSTART;TZID=Europe/London:20110501T203000
DTEND;TZID=Europe/London:20110502T000000
DTSTAMP:20260420T005313
CREATED:20200514T125104Z
LAST-MODIFIED:20200514T125104Z
UID:2856-1304281800-1304294400@blackmoretheatre.co.uk
SUMMARY:All Steamed Up
DESCRIPTION:All Steamed Up
URL:https://blackmoretheatre.co.uk/event/all-steamed-up-2/
LOCATION:Blackmore Theatre\, 10 Bicton Street\, Exmouth\, EX8 2RU
CATEGORIES:Past Productions
END:VEVENT
BEGIN:VEVENT
DTSTART;TZID=Europe/London:20110501T203000
DTEND;TZID=Europe/London:20110502T000000
DTSTAMP:20260420T005313
CREATED:20200514T125104Z
LAST-MODIFIED:20200514T125104Z
UID:3501-1304281800-1304294400@blackmoretheatre.co.uk
SUMMARY:All Steamed Up
DESCRIPTION:All Steamed Up
URL:https://blackmoretheatre.co.uk/event/all-steamed-up-2-2/
LOCATION:Blackmore Theatre\, 10 Bicton Street\, Exmouth\, EX8 2RU
CATEGORIES:Past Productions
END:VEVENT
BEGIN:VEVENT
DTSTART;TZID=Europe/London:20110301T193000
DTEND;TZID=Europe/London:20110301T230000
DTSTAMP:20260420T005313
CREATED:20200514T125107Z
LAST-MODIFIED:20200514T125107Z
UID:3505-1299007800-1299020400@blackmoretheatre.co.uk
SUMMARY:Gaslight
DESCRIPTION:Gaslight
URL:https://blackmoretheatre.co.uk/event/gaslight-2-2/
LOCATION:Blackmore Theatre\, 10 Bicton Street\, Exmouth\, EX8 2RU
CATEGORIES:Past Productions
END:VEVENT
BEGIN:VEVENT
DTSTART;TZID=Europe/London:20110101T193000
DTEND;TZID=Europe/London:20110101T230000
DTSTAMP:20260420T005313
CREATED:20200514T125104Z
LAST-MODIFIED:20200514T125104Z
UID:3503-1293910200-1293922800@blackmoretheatre.co.uk
SUMMARY:Frankenstein (The Panto)
DESCRIPTION:Frankenstein (The Panto)
URL:https://blackmoretheatre.co.uk/event/frankenstein-the-panto-2-2/
LOCATION:Blackmore Theatre\, 10 Bicton Street\, Exmouth\, EX8 2RU
CATEGORIES:Past Productions
END:VEVENT
BEGIN:VEVENT
DTSTART;TZID=Europe/London:20110101T193000
DTEND;TZID=Europe/London:20110101T230000
DTSTAMP:20260420T005313
CREATED:20200514T125104Z
LAST-MODIFIED:20200514T125104Z
UID:2858-1293910200-1293922800@blackmoretheatre.co.uk
SUMMARY:Frankenstein (The Panto)
DESCRIPTION:Frankenstein (The Panto)
URL:https://blackmoretheatre.co.uk/event/frankenstein-the-panto-2/
LOCATION:Blackmore Theatre\, 10 Bicton Street\, Exmouth\, EX8 2RU
CATEGORIES:Past Productions
END:VEVENT
BEGIN:VEVENT
DTSTART;TZID=Europe/London:20101001T203000
DTEND;TZID=Europe/London:20101002T000000
DTSTAMP:20260420T005313
CREATED:20200514T125110Z
LAST-MODIFIED:20200514T125110Z
UID:3509-1285965000-1285977600@blackmoretheatre.co.uk
SUMMARY:Arsenic and Old Lace
DESCRIPTION:Arsenic and Old Lace
URL:https://blackmoretheatre.co.uk/event/arsenic-and-old-lace-2-2/
LOCATION:Blackmore Theatre\, 10 Bicton Street\, Exmouth\, EX8 2RU
CATEGORIES:Past Productions
END:VEVENT
BEGIN:VEVENT
DTSTART;TZID=Europe/London:20101001T203000
DTEND;TZID=Europe/London:20101002T000000
DTSTAMP:20260420T005313
CREATED:20200514T125110Z
LAST-MODIFIED:20200514T125110Z
UID:2864-1285965000-1285977600@blackmoretheatre.co.uk
SUMMARY:Arsenic and Old Lace
DESCRIPTION:Arsenic and Old Lace
URL:https://blackmoretheatre.co.uk/event/arsenic-and-old-lace-2/
LOCATION:Blackmore Theatre\, 10 Bicton Street\, Exmouth\, EX8 2RU
CATEGORIES:Past Productions
END:VEVENT
BEGIN:VEVENT
DTSTART;TZID=Europe/London:20100801T203000
DTEND;TZID=Europe/London:20100802T000000
DTSTAMP:20260420T005313
CREATED:20200514T125107Z
LAST-MODIFIED:20200514T125107Z
UID:3506-1280694600-1280707200@blackmoretheatre.co.uk
SUMMARY:No Sex Please We're British
DESCRIPTION:No Sex Please We’re British
URL:https://blackmoretheatre.co.uk/event/no-sex-please-were-british-2-2/
LOCATION:Blackmore Theatre\, 10 Bicton Street\, Exmouth\, EX8 2RU
CATEGORIES:Past Productions
END:VEVENT
BEGIN:VEVENT
DTSTART;TZID=Europe/London:20100801T203000
DTEND;TZID=Europe/London:20100802T000000
DTSTAMP:20260420T005313
CREATED:20200514T125107Z
LAST-MODIFIED:20200514T125107Z
UID:2861-1280694600-1280707200@blackmoretheatre.co.uk
SUMMARY:No Sex Please We're British
DESCRIPTION:No Sex Please We’re British
URL:https://blackmoretheatre.co.uk/event/no-sex-please-were-british-2/
LOCATION:Blackmore Theatre\, 10 Bicton Street\, Exmouth\, EX8 2RU
CATEGORIES:Past Productions
END:VEVENT
BEGIN:VEVENT
DTSTART;TZID=Europe/London:20100601T203000
DTEND;TZID=Europe/London:20100602T000000
DTSTAMP:20260420T005313
CREATED:20200514T125110Z
LAST-MODIFIED:20200514T125110Z
UID:3510-1275424200-1275436800@blackmoretheatre.co.uk
SUMMARY:The Shell Seekers
DESCRIPTION:The Shell Seekers
URL:https://blackmoretheatre.co.uk/event/the-shell-seekers-2-2/
LOCATION:Blackmore Theatre\, 10 Bicton Street\, Exmouth\, EX8 2RU
CATEGORIES:Past Productions
END:VEVENT
BEGIN:VEVENT
DTSTART;TZID=Europe/London:20100601T203000
DTEND;TZID=Europe/London:20100602T000000
DTSTAMP:20260420T005313
CREATED:20200514T125110Z
LAST-MODIFIED:20200514T125110Z
UID:2865-1275424200-1275436800@blackmoretheatre.co.uk
SUMMARY:The Shell Seekers
DESCRIPTION:The Shell Seekers
URL:https://blackmoretheatre.co.uk/event/the-shell-seekers-2/
LOCATION:Blackmore Theatre\, 10 Bicton Street\, Exmouth\, EX8 2RU
CATEGORIES:Past Productions
END:VEVENT
BEGIN:VEVENT
DTSTART;TZID=Europe/London:20100301T193000
DTEND;TZID=Europe/London:20100301T230000
DTSTAMP:20260420T005313
CREATED:20200514T125107Z
LAST-MODIFIED:20200514T125107Z
UID:3507-1267471800-1267484400@blackmoretheatre.co.uk
SUMMARY:Being of Sound Mind
DESCRIPTION:Being of Sound Mind
URL:https://blackmoretheatre.co.uk/event/being-of-sound-mind-2-2/
LOCATION:Blackmore Theatre\, 10 Bicton Street\, Exmouth\, EX8 2RU
CATEGORIES:Past Productions
END:VEVENT
BEGIN:VEVENT
DTSTART;TZID=Europe/London:20100301T193000
DTEND;TZID=Europe/London:20100301T230000
DTSTAMP:20260420T005313
CREATED:20200514T125107Z
LAST-MODIFIED:20200514T125107Z
UID:2862-1267471800-1267484400@blackmoretheatre.co.uk
SUMMARY:Being of Sound Mind
DESCRIPTION:Being of Sound Mind
URL:https://blackmoretheatre.co.uk/event/being-of-sound-mind-2/
LOCATION:Blackmore Theatre\, 10 Bicton Street\, Exmouth\, EX8 2RU
CATEGORIES:Past Productions
END:VEVENT
BEGIN:VEVENT
DTSTART;TZID=Europe/London:20100101T193000
DTEND;TZID=Europe/London:20100101T230000
DTSTAMP:20260420T005313
CREATED:20200514T125107Z
LAST-MODIFIED:20200514T125107Z
UID:3508-1262374200-1262386800@blackmoretheatre.co.uk
SUMMARY:Little Tommy Tucker
DESCRIPTION:Little Tommy Tucker
URL:https://blackmoretheatre.co.uk/event/little-tommy-tucker-2-2/
LOCATION:Blackmore Theatre\, 10 Bicton Street\, Exmouth\, EX8 2RU
CATEGORIES:Past Productions
END:VEVENT
BEGIN:VEVENT
DTSTART;TZID=Europe/London:20100101T193000
DTEND;TZID=Europe/London:20100101T230000
DTSTAMP:20260420T005313
CREATED:20200514T125107Z
LAST-MODIFIED:20200514T125107Z
UID:2863-1262374200-1262386800@blackmoretheatre.co.uk
SUMMARY:Little Tommy Tucker
DESCRIPTION:Little Tommy Tucker
URL:https://blackmoretheatre.co.uk/event/little-tommy-tucker-2/
LOCATION:Blackmore Theatre\, 10 Bicton Street\, Exmouth\, EX8 2RU
CATEGORIES:Past Productions
END:VEVENT
BEGIN:VEVENT
DTSTART;TZID=Europe/London:20091001T203000
DTEND;TZID=Europe/London:20091002T000000
DTSTAMP:20260420T005313
CREATED:20200514T125113Z
LAST-MODIFIED:20200514T125113Z
UID:3515-1254429000-1254441600@blackmoretheatre.co.uk
SUMMARY:Daisy Pulls It Off
DESCRIPTION:Daisy Pulls It Off
URL:https://blackmoretheatre.co.uk/event/daisy-pulls-it-off-2-2/
LOCATION:Blackmore Theatre\, 10 Bicton Street\, Exmouth\, EX8 2RU
CATEGORIES:Past Productions
END:VEVENT
BEGIN:VEVENT
DTSTART;TZID=Europe/London:20091001T203000
DTEND;TZID=Europe/London:20091002T000000
DTSTAMP:20260420T005313
CREATED:20200514T125113Z
LAST-MODIFIED:20200514T125113Z
UID:2870-1254429000-1254441600@blackmoretheatre.co.uk
SUMMARY:Daisy Pulls It Off
DESCRIPTION:Daisy Pulls It Off
URL:https://blackmoretheatre.co.uk/event/daisy-pulls-it-off-2/
LOCATION:Blackmore Theatre\, 10 Bicton Street\, Exmouth\, EX8 2RU
CATEGORIES:Past Productions
END:VEVENT
BEGIN:VEVENT
DTSTART;TZID=Europe/London:20090801T203000
DTEND;TZID=Europe/London:20090802T000000
DTSTAMP:20260420T005313
CREATED:20200514T125113Z
LAST-MODIFIED:20200514T125113Z
UID:3514-1249158600-1249171200@blackmoretheatre.co.uk
SUMMARY:Caught in the Net
DESCRIPTION:Caught in the Net
URL:https://blackmoretheatre.co.uk/event/caught-in-the-net-2-2/
LOCATION:Blackmore Theatre\, 10 Bicton Street\, Exmouth\, EX8 2RU
CATEGORIES:Past Productions
END:VEVENT
BEGIN:VEVENT
DTSTART;TZID=Europe/London:20090801T203000
DTEND;TZID=Europe/London:20090802T000000
DTSTAMP:20260420T005313
CREATED:20200514T125113Z
LAST-MODIFIED:20200514T125113Z
UID:2869-1249158600-1249171200@blackmoretheatre.co.uk
SUMMARY:Caught in the Net
DESCRIPTION:Caught in the Net
URL:https://blackmoretheatre.co.uk/event/caught-in-the-net-2/
LOCATION:Blackmore Theatre\, 10 Bicton Street\, Exmouth\, EX8 2RU
CATEGORIES:Past Productions
END:VEVENT
BEGIN:VEVENT
DTSTART;TZID=Europe/London:20090601T203000
DTEND;TZID=Europe/London:20090602T000000
DTSTAMP:20260420T005313
CREATED:20200514T125110Z
LAST-MODIFIED:20200514T125110Z
UID:3512-1243888200-1243900800@blackmoretheatre.co.uk
SUMMARY:Pygmalion
DESCRIPTION:Pygmalion
URL:https://blackmoretheatre.co.uk/event/pygmalion-3-2/
LOCATION:Blackmore Theatre\, 10 Bicton Street\, Exmouth\, EX8 2RU
CATEGORIES:Past Productions
END:VEVENT
BEGIN:VEVENT
DTSTART;TZID=Europe/London:20090601T203000
DTEND;TZID=Europe/London:20090602T000000
DTSTAMP:20260420T005313
CREATED:20200514T125110Z
LAST-MODIFIED:20200514T125110Z
UID:2867-1243888200-1243900800@blackmoretheatre.co.uk
SUMMARY:Pygmalion
DESCRIPTION:Pygmalion
URL:https://blackmoretheatre.co.uk/event/pygmalion-3/
LOCATION:Blackmore Theatre\, 10 Bicton Street\, Exmouth\, EX8 2RU
CATEGORIES:Past Productions
END:VEVENT
BEGIN:VEVENT
DTSTART;TZID=Europe/London:20090301T193000
DTEND;TZID=Europe/London:20090301T230000
DTSTAMP:20260420T005313
CREATED:20200514T125110Z
LAST-MODIFIED:20200514T125110Z
UID:2868-1235935800-1235948400@blackmoretheatre.co.uk
SUMMARY:Silhouette
DESCRIPTION:Silhouette
URL:https://blackmoretheatre.co.uk/event/silhouette-2/
LOCATION:Blackmore Theatre\, 10 Bicton Street\, Exmouth\, EX8 2RU
CATEGORIES:Past Productions
END:VEVENT
BEGIN:VEVENT
DTSTART;TZID=Europe/London:20090301T193000
DTEND;TZID=Europe/London:20090301T230000
DTSTAMP:20260420T005313
CREATED:20200514T125110Z
LAST-MODIFIED:20200514T125110Z
UID:3513-1235935800-1235948400@blackmoretheatre.co.uk
SUMMARY:Silhouette
DESCRIPTION:Silhouette
URL:https://blackmoretheatre.co.uk/event/silhouette-2-2/
LOCATION:Blackmore Theatre\, 10 Bicton Street\, Exmouth\, EX8 2RU
CATEGORIES:Past Productions
END:VEVENT
BEGIN:VEVENT
DTSTART;TZID=Europe/London:20090101T193000
DTEND;TZID=Europe/London:20090101T230000
DTSTAMP:20260420T005313
CREATED:20200514T125110Z
LAST-MODIFIED:20200514T125110Z
UID:3511-1230838200-1230850800@blackmoretheatre.co.uk
SUMMARY:Robinson Crusoe
DESCRIPTION:Robinson Crusoe
URL:https://blackmoretheatre.co.uk/event/robinson-crusoe-2-2/
LOCATION:Blackmore Theatre\, 10 Bicton Street\, Exmouth\, EX8 2RU
CATEGORIES:Past Productions
END:VEVENT
BEGIN:VEVENT
DTSTART;TZID=Europe/London:20090101T193000
DTEND;TZID=Europe/London:20090101T230000
DTSTAMP:20260420T005313
CREATED:20200514T125110Z
LAST-MODIFIED:20200514T125110Z
UID:2866-1230838200-1230850800@blackmoretheatre.co.uk
SUMMARY:Robinson Crusoe
DESCRIPTION:Robinson Crusoe
URL:https://blackmoretheatre.co.uk/event/robinson-crusoe-2/
LOCATION:Blackmore Theatre\, 10 Bicton Street\, Exmouth\, EX8 2RU
CATEGORIES:Past Productions
END:VEVENT
BEGIN:VEVENT
DTSTART;TZID=Europe/London:20081001T203000
DTEND;TZID=Europe/London:20081002T000000
DTSTAMP:20260420T005313
CREATED:20200514T125113Z
LAST-MODIFIED:20200514T125113Z
UID:3516-1222893000-1222905600@blackmoretheatre.co.uk
SUMMARY:Roots
DESCRIPTION:Roots
URL:https://blackmoretheatre.co.uk/event/roots-2-2/
LOCATION:Blackmore Theatre\, 10 Bicton Street\, Exmouth\, EX8 2RU
CATEGORIES:Past Productions
END:VEVENT
BEGIN:VEVENT
DTSTART;TZID=Europe/London:20081001T203000
DTEND;TZID=Europe/London:20081002T000000
DTSTAMP:20260420T005313
CREATED:20200514T125113Z
LAST-MODIFIED:20200514T125113Z
UID:2871-1222893000-1222905600@blackmoretheatre.co.uk
SUMMARY:Roots
DESCRIPTION:Roots
URL:https://blackmoretheatre.co.uk/event/roots-2/
LOCATION:Blackmore Theatre\, 10 Bicton Street\, Exmouth\, EX8 2RU
CATEGORIES:Past Productions
END:VEVENT
BEGIN:VEVENT
DTSTART;TZID=Europe/London:20080801T203000
DTEND;TZID=Europe/London:20080802T000000
DTSTAMP:20260420T005313
CREATED:20200514T125116Z
LAST-MODIFIED:20200514T125116Z
UID:2875-1217622600-1217635200@blackmoretheatre.co.uk
SUMMARY:Anyone for Breakfast
DESCRIPTION:Anyone for Breakfast
URL:https://blackmoretheatre.co.uk/event/anyone-for-breakfast-2/
LOCATION:Blackmore Theatre\, 10 Bicton Street\, Exmouth\, EX8 2RU
CATEGORIES:Past Productions
END:VEVENT
BEGIN:VEVENT
DTSTART;TZID=Europe/London:20080801T203000
DTEND;TZID=Europe/London:20080802T000000
DTSTAMP:20260420T005313
CREATED:20200514T125116Z
LAST-MODIFIED:20200514T125116Z
UID:3520-1217622600-1217635200@blackmoretheatre.co.uk
SUMMARY:Anyone for Breakfast
DESCRIPTION:Anyone for Breakfast
URL:https://blackmoretheatre.co.uk/event/anyone-for-breakfast-2-2/
LOCATION:Blackmore Theatre\, 10 Bicton Street\, Exmouth\, EX8 2RU
CATEGORIES:Past Productions
END:VEVENT
END:VCALENDAR