BEGIN:VCALENDAR
VERSION:2.0
PRODID:-//Blackmore Theatre - ECPv6.15.18//NONSGML v1.0//EN
CALSCALE:GREGORIAN
METHOD:PUBLISH
X-WR-CALNAME:Blackmore Theatre
X-ORIGINAL-URL:https://blackmoretheatre.co.uk
X-WR-CALDESC:Events for Blackmore Theatre
REFRESH-INTERVAL;VALUE=DURATION:PT1H
X-Robots-Tag:noindex
X-PUBLISHED-TTL:PT1H
BEGIN:VTIMEZONE
TZID:Europe/London
BEGIN:DAYLIGHT
TZOFFSETFROM:+0000
TZOFFSETTO:+0100
TZNAME:BST
DTSTART:20130331T010000
END:DAYLIGHT
BEGIN:STANDARD
TZOFFSETFROM:+0100
TZOFFSETTO:+0000
TZNAME:GMT
DTSTART:20131027T010000
END:STANDARD
BEGIN:DAYLIGHT
TZOFFSETFROM:+0000
TZOFFSETTO:+0100
TZNAME:BST
DTSTART:20140330T010000
END:DAYLIGHT
BEGIN:STANDARD
TZOFFSETFROM:+0100
TZOFFSETTO:+0000
TZNAME:GMT
DTSTART:20141026T010000
END:STANDARD
BEGIN:DAYLIGHT
TZOFFSETFROM:+0000
TZOFFSETTO:+0100
TZNAME:BST
DTSTART:20150329T010000
END:DAYLIGHT
BEGIN:STANDARD
TZOFFSETFROM:+0100
TZOFFSETTO:+0000
TZNAME:GMT
DTSTART:20151025T010000
END:STANDARD
BEGIN:DAYLIGHT
TZOFFSETFROM:+0000
TZOFFSETTO:+0100
TZNAME:BST
DTSTART:20160327T010000
END:DAYLIGHT
BEGIN:STANDARD
TZOFFSETFROM:+0100
TZOFFSETTO:+0000
TZNAME:GMT
DTSTART:20161030T010000
END:STANDARD
BEGIN:DAYLIGHT
TZOFFSETFROM:+0000
TZOFFSETTO:+0100
TZNAME:BST
DTSTART:20170326T010000
END:DAYLIGHT
BEGIN:STANDARD
TZOFFSETFROM:+0100
TZOFFSETTO:+0000
TZNAME:GMT
DTSTART:20171029T010000
END:STANDARD
BEGIN:DAYLIGHT
TZOFFSETFROM:+0000
TZOFFSETTO:+0100
TZNAME:BST
DTSTART:20180325T010000
END:DAYLIGHT
BEGIN:STANDARD
TZOFFSETFROM:+0100
TZOFFSETTO:+0000
TZNAME:GMT
DTSTART:20181028T010000
END:STANDARD
BEGIN:DAYLIGHT
TZOFFSETFROM:+0000
TZOFFSETTO:+0100
TZNAME:BST
DTSTART:20190331T010000
END:DAYLIGHT
BEGIN:STANDARD
TZOFFSETFROM:+0100
TZOFFSETTO:+0000
TZNAME:GMT
DTSTART:20191027T010000
END:STANDARD
END:VTIMEZONE
BEGIN:VEVENT
DTSTART;TZID=Europe/London:20180226T193000
DTEND;TZID=Europe/London:20180303T000000
DTSTAMP:20260423T000706
CREATED:20180212T172629Z
LAST-MODIFIED:20190929T163051Z
UID:108-1519673400-1520035200@blackmoretheatre.co.uk
SUMMARY:Tomb with a View
DESCRIPTION:“A Tomb With A View” is a Comedy-Thriller written by Norman Robbins. \nThis play is set in a sinister\, old library presided over by a portrait of a grim faced\, mad-eyed old man.  There\, a dusty\, lawyer reads a will (involving a vast fortune) to an equally sinister family …… one has werewolf tendencies\, another  wanders around in a toga of Julius Caesar\, and a third is a gentle old lady who plants more than seeds in her flower beds. \nBy the Third Act\, there are more corpses than live members left in the cast. \nAnd what about the sympathetic nurse and the author of romantic novels? \nAll is revealed as the plot twists and turns to its surprising conclusion. \nThis is the first of the Tomb trilogy. \nThis amateur production of “A Tomb With A View” is presented by special arrangement with SAMUEL FRENCH\, LTD (Subject to Licence) \n“This is a well written and well constructed play with more twists and turns than a corkscrew and you will never work out who the murderer is\, so you have to wait to the end of the play to find out” Seaford and Newhaven News May 2013. \n“Laughter with a chilly spine” -Sussex Express 25.5.79. \nCast: \nHamilton Penworthy           :               Brian Lawless \nLucien Tomb                      :               Mark Blaber \nDora Tomb                        :               Sandy Worcester \nEmily Tomb                      :               Rhiannon Driver \nMarcus Tomb                   :               Jake Taviner \nAgatha Hammond           :               Jenny Bowden \nFreda Mountjoy               :               Nicola Brice \nPeregrine Potter             :               Kieran McGarry \nMonica Tomb                  :               Annette Driver \nAnne Franklin                 :               Katherine Lister \n  \nTickets are on sale now – Please call 07484 509514 \nThe Theatre Box Office opens daily (except Sundays) from 19th Feb 2018 –  9.30am-1.00pm \nBuy 10 tickets and get one free \nCoach parties are welcome. \n  \nPlease click on any of the links below to get a taster of what this play may be all about with some very strange characters (but we are pleased to say without any corpses): \n\nhttps://youtu.be/j0mns_fhit8\nhttps://youtu.be/P4gOZZNeT4Y\nhttps://youtu.be/DGw3ux6TJqU\n\nThis was all filmed on location at Knappe Cross Care Centre in Brixington Lane\, Exmouth.  The Exmouth Players wish to express their sincere thanks and gratitude to the owners of this Care Centre for allowing us to film and also to take photographs in and around the home\, and also to the staff who were very accommodating and to the residents themselves who we understand enjoyed meeting the cast.  Thank you to you all.  We really appreciated this and also enjoyed our time with you. \nOur thanks to Jake Taviner for filming and editing the above and also to Gill Bates for the photographs (which will be uploaded soon).
URL:https://blackmoretheatre.co.uk/event/tomb-with-a-view/
LOCATION:Blackmore Theatre\, 10 Bicton Street\, Exmouth\, EX8 2RU
CATEGORIES:Past Productions
END:VEVENT
BEGIN:VEVENT
DTSTART;TZID=Europe/London:20170701T203000
DTEND;TZID=Europe/London:20170702T000000
DTSTAMP:20260423T000706
CREATED:20200514T125045Z
LAST-MODIFIED:20200514T125045Z
UID:3474-1498941000-1498953600@blackmoretheatre.co.uk
SUMMARY:The Titfield Thunderbolt
DESCRIPTION:The Titfield Thunderbolt
URL:https://blackmoretheatre.co.uk/event/the-titfield-thunderbolt-2-2/
LOCATION:Blackmore Theatre\, 10 Bicton Street\, Exmouth\, EX8 2RU
CATEGORIES:Past Productions
END:VEVENT
BEGIN:VEVENT
DTSTART;TZID=Europe/London:20170701T203000
DTEND;TZID=Europe/London:20170702T000000
DTSTAMP:20260423T000706
CREATED:20200514T125045Z
LAST-MODIFIED:20200514T125045Z
UID:2829-1498941000-1498953600@blackmoretheatre.co.uk
SUMMARY:The Titfield Thunderbolt
DESCRIPTION:The Titfield Thunderbolt
URL:https://blackmoretheatre.co.uk/event/the-titfield-thunderbolt-2/
LOCATION:Blackmore Theatre\, 10 Bicton Street\, Exmouth\, EX8 2RU
CATEGORIES:Past Productions
END:VEVENT
BEGIN:VEVENT
DTSTART;TZID=Europe/London:20170101T193000
DTEND;TZID=Europe/London:20170101T230000
DTSTAMP:20260423T000706
CREATED:20200514T125045Z
LAST-MODIFIED:20200514T125045Z
UID:3475-1483299000-1483311600@blackmoretheatre.co.uk
SUMMARY:Witches
DESCRIPTION:Witches
URL:https://blackmoretheatre.co.uk/event/witches-2-2/
LOCATION:Blackmore Theatre\, 10 Bicton Street\, Exmouth\, EX8 2RU
CATEGORIES:Past Productions
END:VEVENT
BEGIN:VEVENT
DTSTART;TZID=Europe/London:20170101T193000
DTEND;TZID=Europe/London:20170101T230000
DTSTAMP:20260423T000706
CREATED:20200514T125045Z
LAST-MODIFIED:20200514T125045Z
UID:2830-1483299000-1483311600@blackmoretheatre.co.uk
SUMMARY:Witches
DESCRIPTION:Witches
URL:https://blackmoretheatre.co.uk/event/witches-2/
LOCATION:Blackmore Theatre\, 10 Bicton Street\, Exmouth\, EX8 2RU
CATEGORIES:Past Productions
END:VEVENT
BEGIN:VEVENT
DTSTART;TZID=Europe/London:20161001T203000
DTEND;TZID=Europe/London:20161002T000000
DTSTAMP:20260423T000706
CREATED:20200514T125045Z
LAST-MODIFIED:20200514T125045Z
UID:3476-1475353800-1475366400@blackmoretheatre.co.uk
SUMMARY:Lloyd George Knew My Farther
DESCRIPTION:Lloyd George Knew My Farther
URL:https://blackmoretheatre.co.uk/event/lloyd-george-knew-my-farther-2-2/
LOCATION:Blackmore Theatre\, 10 Bicton Street\, Exmouth\, EX8 2RU
CATEGORIES:Past Productions
END:VEVENT
BEGIN:VEVENT
DTSTART;TZID=Europe/London:20161001T203000
DTEND;TZID=Europe/London:20161002T000000
DTSTAMP:20260423T000706
CREATED:20200514T125045Z
LAST-MODIFIED:20200514T125045Z
UID:2831-1475353800-1475366400@blackmoretheatre.co.uk
SUMMARY:Lloyd George Knew My Farther
DESCRIPTION:Lloyd George Knew My Farther
URL:https://blackmoretheatre.co.uk/event/lloyd-george-knew-my-farther-2/
LOCATION:Blackmore Theatre\, 10 Bicton Street\, Exmouth\, EX8 2RU
CATEGORIES:Past Productions
END:VEVENT
BEGIN:VEVENT
DTSTART;TZID=Europe/London:20160601T203000
DTEND;TZID=Europe/London:20160602T000000
DTSTAMP:20260423T000706
CREATED:20200514T125045Z
LAST-MODIFIED:20200514T125045Z
UID:3477-1464813000-1464825600@blackmoretheatre.co.uk
SUMMARY:On Golden Pond
DESCRIPTION:On Golden Pond
URL:https://blackmoretheatre.co.uk/event/on-golden-pond-2-2/
LOCATION:Blackmore Theatre\, 10 Bicton Street\, Exmouth\, EX8 2RU
CATEGORIES:Past Productions
END:VEVENT
BEGIN:VEVENT
DTSTART;TZID=Europe/London:20160601T203000
DTEND;TZID=Europe/London:20160602T000000
DTSTAMP:20260423T000706
CREATED:20200514T125045Z
LAST-MODIFIED:20200514T125045Z
UID:2832-1464813000-1464825600@blackmoretheatre.co.uk
SUMMARY:On Golden Pond
DESCRIPTION:On Golden Pond
URL:https://blackmoretheatre.co.uk/event/on-golden-pond-2/
LOCATION:Blackmore Theatre\, 10 Bicton Street\, Exmouth\, EX8 2RU
CATEGORIES:Past Productions
END:VEVENT
BEGIN:VEVENT
DTSTART;TZID=Europe/London:20160301T193000
DTEND;TZID=Europe/London:20160301T230000
DTSTAMP:20260423T000706
CREATED:20200514T125045Z
LAST-MODIFIED:20200514T125045Z
UID:3478-1456860600-1456873200@blackmoretheatre.co.uk
SUMMARY:Haywire
DESCRIPTION:Haywire
URL:https://blackmoretheatre.co.uk/event/haywire-2-2/
LOCATION:Blackmore Theatre\, 10 Bicton Street\, Exmouth\, EX8 2RU
CATEGORIES:Past Productions
END:VEVENT
BEGIN:VEVENT
DTSTART;TZID=Europe/London:20160301T193000
DTEND;TZID=Europe/London:20160301T230000
DTSTAMP:20260423T000706
CREATED:20200514T125045Z
LAST-MODIFIED:20200514T125045Z
UID:2833-1456860600-1456873200@blackmoretheatre.co.uk
SUMMARY:Haywire
DESCRIPTION:Haywire
URL:https://blackmoretheatre.co.uk/event/haywire-2/
LOCATION:Blackmore Theatre\, 10 Bicton Street\, Exmouth\, EX8 2RU
CATEGORIES:Past Productions
END:VEVENT
BEGIN:VEVENT
DTSTART;TZID=Europe/London:20160101T193000
DTEND;TZID=Europe/London:20160101T230000
DTSTAMP:20260423T000706
CREATED:20200514T125049Z
LAST-MODIFIED:20200514T125049Z
UID:3479-1451676600-1451689200@blackmoretheatre.co.uk
SUMMARY:Dick Whittington
DESCRIPTION:Dick Whittington
URL:https://blackmoretheatre.co.uk/event/dick-whittington-2-2/
LOCATION:Blackmore Theatre\, 10 Bicton Street\, Exmouth\, EX8 2RU
CATEGORIES:Past Productions
END:VEVENT
BEGIN:VEVENT
DTSTART;TZID=Europe/London:20160101T193000
DTEND;TZID=Europe/London:20160101T230000
DTSTAMP:20260423T000706
CREATED:20200514T125049Z
LAST-MODIFIED:20200514T125049Z
UID:2834-1451676600-1451689200@blackmoretheatre.co.uk
SUMMARY:Dick Whittington
DESCRIPTION:Dick Whittington
URL:https://blackmoretheatre.co.uk/event/dick-whittington-2/
LOCATION:Blackmore Theatre\, 10 Bicton Street\, Exmouth\, EX8 2RU
CATEGORIES:Past Productions
END:VEVENT
BEGIN:VEVENT
DTSTART;TZID=Europe/London:20151001T203000
DTEND;TZID=Europe/London:20151002T000000
DTSTAMP:20260423T000706
CREATED:20200514T125049Z
LAST-MODIFIED:20200514T125049Z
UID:3480-1443731400-1443744000@blackmoretheatre.co.uk
SUMMARY:Curtain Up On Murder
DESCRIPTION:Curtain Up On Murder
URL:https://blackmoretheatre.co.uk/event/curtain-up-on-murder-2-2/
LOCATION:Blackmore Theatre\, 10 Bicton Street\, Exmouth\, EX8 2RU
CATEGORIES:Past Productions
END:VEVENT
BEGIN:VEVENT
DTSTART;TZID=Europe/London:20151001T203000
DTEND;TZID=Europe/London:20151002T000000
DTSTAMP:20260423T000706
CREATED:20200514T125049Z
LAST-MODIFIED:20200514T125049Z
UID:2835-1443731400-1443744000@blackmoretheatre.co.uk
SUMMARY:Curtain Up On Murder
DESCRIPTION:Curtain Up On Murder
URL:https://blackmoretheatre.co.uk/event/curtain-up-on-murder-2/
LOCATION:Blackmore Theatre\, 10 Bicton Street\, Exmouth\, EX8 2RU
CATEGORIES:Past Productions
END:VEVENT
BEGIN:VEVENT
DTSTART;TZID=Europe/London:20150601T203000
DTEND;TZID=Europe/London:20150602T000000
DTSTAMP:20260423T000706
CREATED:20200514T125049Z
LAST-MODIFIED:20200514T125049Z
UID:2836-1433190600-1433203200@blackmoretheatre.co.uk
SUMMARY:Stepping Out
DESCRIPTION:Stepping Out
URL:https://blackmoretheatre.co.uk/event/stepping-out-2/
LOCATION:Blackmore Theatre\, 10 Bicton Street\, Exmouth\, EX8 2RU
CATEGORIES:Past Productions
END:VEVENT
BEGIN:VEVENT
DTSTART;TZID=Europe/London:20150601T203000
DTEND;TZID=Europe/London:20150602T000000
DTSTAMP:20260423T000706
CREATED:20200514T125049Z
LAST-MODIFIED:20200514T125049Z
UID:3481-1433190600-1433203200@blackmoretheatre.co.uk
SUMMARY:Stepping Out
DESCRIPTION:Stepping Out
URL:https://blackmoretheatre.co.uk/event/stepping-out-2-2/
LOCATION:Blackmore Theatre\, 10 Bicton Street\, Exmouth\, EX8 2RU
CATEGORIES:Past Productions
END:VEVENT
BEGIN:VEVENT
DTSTART;TZID=Europe/London:20150101T193000
DTEND;TZID=Europe/London:20150101T230000
DTSTAMP:20260423T000706
CREATED:20200514T125049Z
LAST-MODIFIED:20200514T125049Z
UID:3482-1420140600-1420153200@blackmoretheatre.co.uk
SUMMARY:Wind in the Willows
DESCRIPTION:Wind in the Willows
URL:https://blackmoretheatre.co.uk/event/wind-in-the-willows-2-2/
LOCATION:Blackmore Theatre\, 10 Bicton Street\, Exmouth\, EX8 2RU
CATEGORIES:Past Productions
END:VEVENT
BEGIN:VEVENT
DTSTART;TZID=Europe/London:20150101T193000
DTEND;TZID=Europe/London:20150101T230000
DTSTAMP:20260423T000706
CREATED:20200514T125049Z
LAST-MODIFIED:20200514T125049Z
UID:2837-1420140600-1420153200@blackmoretheatre.co.uk
SUMMARY:Wind in the Willows
DESCRIPTION:Wind in the Willows
URL:https://blackmoretheatre.co.uk/event/wind-in-the-willows-2/
LOCATION:Blackmore Theatre\, 10 Bicton Street\, Exmouth\, EX8 2RU
CATEGORIES:Past Productions
END:VEVENT
BEGIN:VEVENT
DTSTART;TZID=Europe/London:20141101T193000
DTEND;TZID=Europe/London:20141101T230000
DTSTAMP:20260423T000706
CREATED:20200514T125054Z
LAST-MODIFIED:20200514T125054Z
UID:3487-1414870200-1414882800@blackmoretheatre.co.uk
SUMMARY:Exmouth Great War
DESCRIPTION:Exmouth Great War
URL:https://blackmoretheatre.co.uk/event/exmouth-great-war-2-2/
LOCATION:Blackmore Theatre\, 10 Bicton Street\, Exmouth\, EX8 2RU
CATEGORIES:Past Productions
END:VEVENT
BEGIN:VEVENT
DTSTART;TZID=Europe/London:20141101T193000
DTEND;TZID=Europe/London:20141101T230000
DTSTAMP:20260423T000706
CREATED:20200514T125054Z
LAST-MODIFIED:20200514T125054Z
UID:2842-1414870200-1414882800@blackmoretheatre.co.uk
SUMMARY:Exmouth Great War
DESCRIPTION:Exmouth Great War
URL:https://blackmoretheatre.co.uk/event/exmouth-great-war-2/
LOCATION:Blackmore Theatre\, 10 Bicton Street\, Exmouth\, EX8 2RU
CATEGORIES:Past Productions
END:VEVENT
BEGIN:VEVENT
DTSTART;TZID=Europe/London:20141001T203000
DTEND;TZID=Europe/London:20141002T000000
DTSTAMP:20260423T000706
CREATED:20200514T125054Z
LAST-MODIFIED:20200514T125054Z
UID:2841-1412195400-1412208000@blackmoretheatre.co.uk
SUMMARY:Cranford
DESCRIPTION:Cranford
URL:https://blackmoretheatre.co.uk/event/cranford-2/
LOCATION:Blackmore Theatre\, 10 Bicton Street\, Exmouth\, EX8 2RU
CATEGORIES:Past Productions
END:VEVENT
BEGIN:VEVENT
DTSTART;TZID=Europe/London:20141001T203000
DTEND;TZID=Europe/London:20141002T000000
DTSTAMP:20260423T000706
CREATED:20200514T125054Z
LAST-MODIFIED:20200514T125054Z
UID:3486-1412195400-1412208000@blackmoretheatre.co.uk
SUMMARY:Cranford
DESCRIPTION:Cranford
URL:https://blackmoretheatre.co.uk/event/cranford-2-2/
LOCATION:Blackmore Theatre\, 10 Bicton Street\, Exmouth\, EX8 2RU
CATEGORIES:Past Productions
END:VEVENT
BEGIN:VEVENT
DTSTART;TZID=Europe/London:20140801T203000
DTEND;TZID=Europe/London:20140802T000000
DTSTAMP:20260423T000706
CREATED:20200514T125050Z
LAST-MODIFIED:20200514T125050Z
UID:2838-1406925000-1406937600@blackmoretheatre.co.uk
SUMMARY:You're Only Twice
DESCRIPTION:You’re Only Twice
URL:https://blackmoretheatre.co.uk/event/youre-only-twice-2/
LOCATION:Blackmore Theatre\, 10 Bicton Street\, Exmouth\, EX8 2RU
CATEGORIES:Past Productions
END:VEVENT
BEGIN:VEVENT
DTSTART;TZID=Europe/London:20140801T203000
DTEND;TZID=Europe/London:20140802T000000
DTSTAMP:20260423T000706
CREATED:20200514T125050Z
LAST-MODIFIED:20200514T125050Z
UID:3483-1406925000-1406937600@blackmoretheatre.co.uk
SUMMARY:You're Only Twice
DESCRIPTION:You’re Only Twice
URL:https://blackmoretheatre.co.uk/event/youre-only-twice-2-2/
LOCATION:Blackmore Theatre\, 10 Bicton Street\, Exmouth\, EX8 2RU
CATEGORIES:Past Productions
END:VEVENT
BEGIN:VEVENT
DTSTART;TZID=Europe/London:20140601T203000
DTEND;TZID=Europe/London:20140602T000000
DTSTAMP:20260423T000706
CREATED:20200514T125053Z
LAST-MODIFIED:20200514T125053Z
UID:2839-1401654600-1401667200@blackmoretheatre.co.uk
SUMMARY:Wife After Death
DESCRIPTION:Wife After Death
URL:https://blackmoretheatre.co.uk/event/wife-after-death-2/
LOCATION:Blackmore Theatre\, 10 Bicton Street\, Exmouth\, EX8 2RU
CATEGORIES:Past Productions
END:VEVENT
BEGIN:VEVENT
DTSTART;TZID=Europe/London:20140601T203000
DTEND;TZID=Europe/London:20140602T000000
DTSTAMP:20260423T000706
CREATED:20200514T125053Z
LAST-MODIFIED:20200514T125053Z
UID:3484-1401654600-1401667200@blackmoretheatre.co.uk
SUMMARY:Wife After Death
DESCRIPTION:Wife After Death
URL:https://blackmoretheatre.co.uk/event/wife-after-death-2-2/
LOCATION:Blackmore Theatre\, 10 Bicton Street\, Exmouth\, EX8 2RU
CATEGORIES:Past Productions
END:VEVENT
BEGIN:VEVENT
DTSTART;TZID=Europe/London:20140301T193000
DTEND;TZID=Europe/London:20140301T230000
DTSTAMP:20260423T000706
CREATED:20200514T125054Z
LAST-MODIFIED:20200514T125054Z
UID:3488-1393702200-1393714800@blackmoretheatre.co.uk
SUMMARY:Murder by Misadventure
DESCRIPTION:Murder by Misadventure
URL:https://blackmoretheatre.co.uk/event/murder-by-misadventure-2-2/
LOCATION:Blackmore Theatre\, 10 Bicton Street\, Exmouth\, EX8 2RU
CATEGORIES:Past Productions
END:VEVENT
BEGIN:VEVENT
DTSTART;TZID=Europe/London:20140301T193000
DTEND;TZID=Europe/London:20140301T230000
DTSTAMP:20260423T000706
CREATED:20200514T125054Z
LAST-MODIFIED:20200514T125054Z
UID:2843-1393702200-1393714800@blackmoretheatre.co.uk
SUMMARY:Murder by Misadventure
DESCRIPTION:Murder by Misadventure
URL:https://blackmoretheatre.co.uk/event/murder-by-misadventure-2/
LOCATION:Blackmore Theatre\, 10 Bicton Street\, Exmouth\, EX8 2RU
CATEGORIES:Past Productions
END:VEVENT
BEGIN:VEVENT
DTSTART;TZID=Europe/London:20140101T193000
DTEND;TZID=Europe/London:20140101T230000
DTSTAMP:20260423T000706
CREATED:20200514T125054Z
LAST-MODIFIED:20200514T125054Z
UID:2840-1388604600-1388617200@blackmoretheatre.co.uk
SUMMARY:The Old Woman Who Lived in a Shoe
DESCRIPTION:The Old Woman Who Lived in a Shoe
URL:https://blackmoretheatre.co.uk/event/the-old-woman-who-lived-in-a-shoe-2/
LOCATION:Blackmore Theatre\, 10 Bicton Street\, Exmouth\, EX8 2RU
CATEGORIES:Past Productions
END:VEVENT
END:VCALENDAR