BEGIN:VCALENDAR
VERSION:2.0
PRODID:-//Blackmore Theatre - ECPv6.15.18//NONSGML v1.0//EN
CALSCALE:GREGORIAN
METHOD:PUBLISH
X-WR-CALNAME:Blackmore Theatre
X-ORIGINAL-URL:https://blackmoretheatre.co.uk
X-WR-CALDESC:Events for Blackmore Theatre
REFRESH-INTERVAL;VALUE=DURATION:PT1H
X-Robots-Tag:noindex
X-PUBLISHED-TTL:PT1H
BEGIN:VTIMEZONE
TZID:Europe/London
BEGIN:DAYLIGHT
TZOFFSETFROM:+0000
TZOFFSETTO:+0100
TZNAME:BST
DTSTART:20190331T010000
END:DAYLIGHT
BEGIN:STANDARD
TZOFFSETFROM:+0100
TZOFFSETTO:+0000
TZNAME:GMT
DTSTART:20191027T010000
END:STANDARD
BEGIN:DAYLIGHT
TZOFFSETFROM:+0000
TZOFFSETTO:+0100
TZNAME:BST
DTSTART:20200329T010000
END:DAYLIGHT
BEGIN:STANDARD
TZOFFSETFROM:+0100
TZOFFSETTO:+0000
TZNAME:GMT
DTSTART:20201025T010000
END:STANDARD
BEGIN:DAYLIGHT
TZOFFSETFROM:+0000
TZOFFSETTO:+0100
TZNAME:BST
DTSTART:20210328T010000
END:DAYLIGHT
BEGIN:STANDARD
TZOFFSETFROM:+0100
TZOFFSETTO:+0000
TZNAME:GMT
DTSTART:20211031T010000
END:STANDARD
BEGIN:DAYLIGHT
TZOFFSETFROM:+0000
TZOFFSETTO:+0100
TZNAME:BST
DTSTART:20220327T010000
END:DAYLIGHT
BEGIN:STANDARD
TZOFFSETFROM:+0100
TZOFFSETTO:+0000
TZNAME:GMT
DTSTART:20221030T010000
END:STANDARD
BEGIN:DAYLIGHT
TZOFFSETFROM:+0000
TZOFFSETTO:+0100
TZNAME:BST
DTSTART:20230326T010000
END:DAYLIGHT
BEGIN:STANDARD
TZOFFSETFROM:+0100
TZOFFSETTO:+0000
TZNAME:GMT
DTSTART:20231029T010000
END:STANDARD
END:VTIMEZONE
BEGIN:VEVENT
DTSTART;TZID=Europe/London:20220709T103000
DTEND;TZID=Europe/London:20220709T133000
DTSTAMP:20260421T044241
CREATED:20220114T094242Z
LAST-MODIFIED:20220122T162523Z
UID:3783-1657362600-1657373400@blackmoretheatre.co.uk
SUMMARY:Coffee Morning at the Blackmore
DESCRIPTION:Teas\, coffees and home-made cakes\, such as German Apple Cake\, Lemon Drizzle\, Chocolate Cake\, Quiche and much more. \nRaffle. \nBooks\, greeting cards\, DVD’s and Bazar in the auditorium. \nAll money raised goes towards refurbishments of the Theatre\, which The Exmouth Players are very fortunate to own. \nOccasionally\, tickets may also be on sale for our forthcoming productions. \nTicket vouchers are also on sale for any of our productions.  These would make the ideal gift for any occasion. \nIf you have not seen our wonderful theatre before\, then why not come along and see for yourself.  We do have works which continue from time to time as and when we have raised sufficient funds.  There are back-stage guided tours during our coffee morning.  You will be quite surprised to see what we have\, including our wonderful collection of costumes. \n(CIO Registered No 1174875)
URL:https://blackmoretheatre.co.uk/event/coffee-morning-at-the-blackmore-jul22/
LOCATION:Blackmore Theatre\, 10 Bicton Street\, Exmouth\, EX8 2RU
CATEGORIES:Coffee Mornings,Fund Raiser
ATTACH;FMTTYPE=image/jpeg:https://blackmoretheatre.co.uk/wp-content/uploads/2020/03/coffee.jpg
END:VEVENT
BEGIN:VEVENT
DTSTART;TZID=Europe/London:20220611T103000
DTEND;TZID=Europe/London:20220611T133000
DTSTAMP:20260421T044241
CREATED:20220114T094219Z
LAST-MODIFIED:20220122T162502Z
UID:3457-1654943400-1654954200@blackmoretheatre.co.uk
SUMMARY:Coffee Morning at the Blackmore
DESCRIPTION:Teas\, coffees and home-made cakes\, such as German Apple Cake\, Lemon Drizzle\, Chocolate Cake\, Quiche and much more. \nRaffle. \nBooks\, greeting cards\, DVD’s and Bazar in the auditorium. \nAll money raised goes towards refurbishments of the Theatre\, which The Exmouth Players are very fortunate to own. \nOccasionally\, tickets may also be on sale for our forthcoming productions. \nTicket vouchers are also on sale for any of our productions.  These would make the ideal gift for any occasion. \nIf you have not seen our wonderful theatre before\, then why not come along and see for yourself.  We do have works which continue from time to time as and when we have raised sufficient funds.  There are back-stage guided tours during our coffee morning.  You will be quite surprised to see what we have\, including our wonderful collection of costumes. \n(CIO Registered No 1174875)
URL:https://blackmoretheatre.co.uk/event/coffee-morning-at-the-blackmore-jun22/
LOCATION:Blackmore Theatre\, 10 Bicton Street\, Exmouth\, EX8 2RU
CATEGORIES:Coffee Mornings,Fund Raiser
ATTACH;FMTTYPE=image/jpeg:https://blackmoretheatre.co.uk/wp-content/uploads/2020/03/coffee.jpg
END:VEVENT
BEGIN:VEVENT
DTSTART;TZID=Europe/London:20220514T103000
DTEND;TZID=Europe/London:20220514T133000
DTSTAMP:20260421T044241
CREATED:20220114T094151Z
LAST-MODIFIED:20220122T162440Z
UID:3782-1652524200-1652535000@blackmoretheatre.co.uk
SUMMARY:Coffee Morning at the Blackmore
DESCRIPTION:Teas\, coffees and home-made cakes\, such as German Apple Cake\, Lemon Drizzle\, Chocolate Cake\, Quiche and much more. \nRaffle. \nBooks\, greeting cards\, DVD’s and Bazar in the auditorium. \nAll money raised goes towards refurbishments of the Theatre\, which The Exmouth Players are very fortunate to own. \nOccasionally\, tickets may also be on sale for our forthcoming productions. \nTicket vouchers are also on sale for any of our productions.  These would make the ideal gift for any occasion. \nIf you have not seen our wonderful theatre before\, then why not come along and see for yourself.  We do have works which continue from time to time as and when we have raised sufficient funds.  There are back-stage guided tours during our coffee morning.  You will be quite surprised to see what we have\, including our wonderful collection of costumes. \n(CIO Registered No 1174875)
URL:https://blackmoretheatre.co.uk/event/coffee-morning-at-the-blackmore-may22/
LOCATION:Blackmore Theatre\, 10 Bicton Street\, Exmouth\, EX8 2RU
CATEGORIES:Coffee Mornings,Fund Raiser
ATTACH;FMTTYPE=image/jpeg:https://blackmoretheatre.co.uk/wp-content/uploads/2020/03/coffee.jpg
END:VEVENT
BEGIN:VEVENT
DTSTART;TZID=Europe/London:20220409T103000
DTEND;TZID=Europe/London:20220409T133000
DTSTAMP:20260421T044241
CREATED:20220114T094124Z
LAST-MODIFIED:20220122T162413Z
UID:3781-1649500200-1649511000@blackmoretheatre.co.uk
SUMMARY:Coffee Morning at the Blackmore
DESCRIPTION:Teas\, coffees and home-made cakes\, such as German Apple Cake\, Lemon Drizzle\, Chocolate Cake\, Quiche and much more. \nRaffle. \nBooks\, greeting cards\, DVD’s and Bazar in the auditorium. \nAll money raised goes towards refurbishments of the Theatre\, which The Exmouth Players are very fortunate to own. \nOccasionally\, tickets may also be on sale for our forthcoming productions. \nTicket vouchers are also on sale for any of our productions.  These would make the ideal gift for any occasion. \nIf you have not seen our wonderful theatre before\, then why not come along and see for yourself.  We do have works which continue from time to time as and when we have raised sufficient funds.  There are back-stage guided tours during our coffee morning.  You will be quite surprised to see what we have\, including our wonderful collection of costumes. \n(CIO Registered No 1174875)
URL:https://blackmoretheatre.co.uk/event/coffee-morning-at-the-blackmore-apr22/
LOCATION:Blackmore Theatre\, 10 Bicton Street\, Exmouth\, EX8 2RU
CATEGORIES:Coffee Mornings,Fund Raiser
ATTACH;FMTTYPE=image/jpeg:https://blackmoretheatre.co.uk/wp-content/uploads/2020/03/coffee.jpg
END:VEVENT
BEGIN:VEVENT
DTSTART;TZID=Europe/London:20220312T093000
DTEND;TZID=Europe/London:20220312T123000
DTSTAMP:20260421T044241
CREATED:20220114T094049Z
LAST-MODIFIED:20220122T162352Z
UID:3451-1647077400-1647088200@blackmoretheatre.co.uk
SUMMARY:Coffee Morning at the Blackmore
DESCRIPTION:Teas\, coffees and home-made cakes\, such as German Apple Cake\, Lemon Drizzle\, Chocolate Cake\, Quiche and much more. \nRaffle. \nBooks\, greeting cards\, DVD’s and Bazar in the auditorium. \nAll money raised goes towards refurbishments of the Theatre\, which The Exmouth Players are very fortunate to own. \nOccasionally\, tickets may also be on sale for our forthcoming productions. \nTicket vouchers are also on sale for any of our productions.  These would make the ideal gift for any occasion. \nIf you have not seen our wonderful theatre before\, then why not come along and see for yourself.  We do have works which continue from time to time as and when we have raised sufficient funds.  There are back-stage guided tours during our coffee morning.  You will be quite surprised to see what we have\, including our wonderful collection of costumes. \n(CIO Registered No 1174875)
URL:https://blackmoretheatre.co.uk/event/coffee-morning-at-the-blackmore-mar22/
LOCATION:Blackmore Theatre\, 10 Bicton Street\, Exmouth\, EX8 2RU
CATEGORIES:Coffee Mornings,Fund Raiser
ATTACH;FMTTYPE=image/jpeg:https://blackmoretheatre.co.uk/wp-content/uploads/2020/03/coffee.jpg
END:VEVENT
BEGIN:VEVENT
DTSTART;TZID=Europe/London:20220212T093000
DTEND;TZID=Europe/London:20220212T123000
DTSTAMP:20260421T044241
CREATED:20220114T093941Z
LAST-MODIFIED:20220122T162245Z
UID:3780-1644658200-1644669000@blackmoretheatre.co.uk
SUMMARY:Coffee Morning at the Blackmore
DESCRIPTION:Teas\, coffees and home-made cakes\, such as German Apple Cake\, Lemon Drizzle\, Chocolate Cake\, Quiche and much more. \nRaffle. \nBooks\, greeting cards\, DVD’s and Bazar in the auditorium. \nAll money raised goes towards refurbishments of the Theatre\, which The Exmouth Players are very fortunate to own. \nOccasionally\, tickets may also be on sale for our forthcoming productions. \nTicket vouchers are also on sale for any of our productions.  These would make the ideal gift for any occasion. \nIf you have not seen our wonderful theatre before\, then why not come along and see for yourself.  We do have works which continue from time to time as and when we have raised sufficient funds.  There are back-stage guided tours during our coffee morning.  You will be quite surprised to see what we have\, including our wonderful collection of costumes. \n(CIO Registered No 1174875)
URL:https://blackmoretheatre.co.uk/event/coffee-morning-at-the-blackmore-8/
LOCATION:Blackmore Theatre\, 10 Bicton Street\, Exmouth\, EX8 2RU
CATEGORIES:Coffee Mornings,Fund Raiser
ATTACH;FMTTYPE=image/jpeg:https://blackmoretheatre.co.uk/wp-content/uploads/2020/03/coffee.jpg
END:VEVENT
BEGIN:VEVENT
DTSTART;TZID=Europe/London:20211211T093000
DTEND;TZID=Europe/London:20211211T123000
DTSTAMP:20260421T044241
CREATED:20200514T112221Z
LAST-MODIFIED:20211119T135310Z
UID:2525-1639215000-1639225800@blackmoretheatre.co.uk
SUMMARY:Coffee Morning at the Blackmore
DESCRIPTION:Teas\, coffees and home-made cakes\, such as German Apple Cake\, Lemon Drizzle\, Chocolate Cake\, Quiche and much more. \nRaffle. \nBooks\, greeting cards\, DVD’s and Bazar in the auditorium. \nAll money raised goes towards refurbishments of the Theatre\, which The Exmouth Players are very fortunate to own. \nOccasionally\, tickets may also be on sale for our forthcoming productions. \nTicket vouchers are also on sale for any of our productions.  These would make the ideal gift for any occasion. \nIf you have not seen our wonderful theatre before\, then why not come along and see for yourself.  We do have works which continue from time to time as and when we have raised sufficient funds.  There are back-stage guided tours during our coffee morning.  You will be quite surprised to see what we have\, including our wonderful collection of costumes. \n(CIO Registered No 1174875)
URL:https://blackmoretheatre.co.uk/event/coffee-morning-at-the-blackmore-7/
LOCATION:Blackmore Theatre\, 10 Bicton Street\, Exmouth\, EX8 2RU
CATEGORIES:Coffee Mornings,Fund Raiser
ATTACH;FMTTYPE=image/jpeg:https://blackmoretheatre.co.uk/wp-content/uploads/2020/03/coffee.jpg
END:VEVENT
BEGIN:VEVENT
DTSTART;TZID=Europe/London:20201114T090000
DTEND;TZID=Europe/London:20201114T090000
DTSTAMP:20260421T044241
CREATED:20200514T112220Z
LAST-MODIFIED:20200514T132759Z
UID:2524-1605344400-1605344400@blackmoretheatre.co.uk
SUMMARY:Coffee Morning at the Blackmore
DESCRIPTION:Teas\, coffees and home-made cakes\, such as German Apple Cake\, Lemon Drizzle\, Chocolate Cake\, Quiche and much more. \nRaffle. \nBooks\, greeting cards\, DVD’s and much more on sale. \nAll money raised goes towards refurbishments of the Theatre\, which The Exmouth Players are very fortunate to own. \nOccasionally\, tickets may also be on sale for our forthcoming productions. \nTicket vouchers are also on sale for any of our productions.  These would make the ideal gift for any occasion. \nIf you have not seen our wonderful theatre before\, then why not come along and see for yourself.  We do have works which continue from time to time as and when we have raised sufficient funds.  There are back-stage guided tours during our coffee morning.  You will be quite surprised to see what we have\, including our wonderful collection of costumes. \n(CIO Registered No 1174875)
URL:https://blackmoretheatre.co.uk/event/coffee-morning-at-the-blackmore-6/
LOCATION:Blackmore Theatre\, 10 Bicton Street\, Exmouth\, EX8 2RU
CATEGORIES:Coffee Mornings,Fund Raiser
END:VEVENT
BEGIN:VEVENT
DTSTART;TZID=Europe/London:20201010T100000
DTEND;TZID=Europe/London:20201010T100000
DTSTAMP:20260421T044241
CREATED:20200514T112220Z
LAST-MODIFIED:20200514T112220Z
UID:2523-1602324000-1602324000@blackmoretheatre.co.uk
SUMMARY:Coffee Morning at the Blackmore
DESCRIPTION:Teas\, coffees and home-made cakes\, such as German Apple Cake\, Lemon Drizzle\, Chocolate Cake\, Quiche and much more.
URL:https://blackmoretheatre.co.uk/event/coffee-morning-at-the-blackmore-5/
LOCATION:Blackmore Theatre\, 10 Bicton Street\, Exmouth\, EX8 2RU
CATEGORIES:Coffee Mornings,Fund Raiser
END:VEVENT
BEGIN:VEVENT
DTSTART;TZID=Europe/London:20200912T100000
DTEND;TZID=Europe/London:20200912T100000
DTSTAMP:20260421T044241
CREATED:20200514T112220Z
LAST-MODIFIED:20200514T132501Z
UID:2522-1599904800-1599904800@blackmoretheatre.co.uk
SUMMARY:Coffee Morning at the Blackmore
DESCRIPTION:Teas\, coffees and home-made cakes\, such as German Apple Cake\, Lemon Drizzle\, Chocolate Cake\, Quiche and much more. \nRaffle. \nBooks\, greeting cards\, DVD’s and much more on sale. \nAll money raised goes towards refurbishments of the Theatre\, which The Exmouth Players are very fortunate to own. \nOccasionally\, tickets may also be on sale for our forthcoming productions. \nTicket vouchers are also on sale for any of our productions.  These would make the ideal gift for any occasion. \nIf you have not seen our wonderful theatre before\, then why not come along and see for yourself.  We do have works which continue from time to time as and when we have raised sufficient funds.  There are back-stage guided tours during our coffee morning.  You will be quite surprised to see what we have\, including our wonderful collection of costumes. \n(CIO Registered No 1174875)
URL:https://blackmoretheatre.co.uk/event/coffee-morning-at-the-blackmore-4/
LOCATION:Blackmore Theatre\, 10 Bicton Street\, Exmouth\, EX8 2RU
CATEGORIES:Coffee Mornings,Fund Raiser
END:VEVENT
BEGIN:VEVENT
DTSTART;TZID=Europe/London:20200808T100000
DTEND;TZID=Europe/London:20200808T100000
DTSTAMP:20260421T044241
CREATED:20200514T112218Z
LAST-MODIFIED:20200514T133033Z
UID:2521-1596880800-1596880800@blackmoretheatre.co.uk
SUMMARY:Coffee Morning at the Blackmore
DESCRIPTION:Teas\, coffees and home-made cakes\, such as German Apple Cake\, Lemon Drizzle\, Chocolate Cake\, Quiche and much more. \nRaffle. \nBooks\, greeting cards\, DVD’s and much more on sale. \nAll money raised goes towards refurbishments of the Theatre\, which The Exmouth Players are very fortunate to own. \nOccasionally\, tickets may also be on sale for our forthcoming productions. \nTicket vouchers are also on sale for any of our productions.  These would make the ideal gift for any occasion. \nIf you have not seen our wonderful theatre before\, then why not come along and see for yourself.  We do have works which continue from time to time as and when we have raised sufficient funds.  There are back-stage guided tours during our coffee morning.  You will be quite surprised to see what we have\, including our wonderful collection of costumes. \n(CIO Registered No 1174875)
URL:https://blackmoretheatre.co.uk/event/coffee-morning-at-the-blackmore-3/
LOCATION:Blackmore Theatre\, 10 Bicton Street\, Exmouth\, EX8 2RU
CATEGORIES:Coffee Mornings,Fund Raiser
ATTACH;FMTTYPE=image/jpeg:https://blackmoretheatre.co.uk/wp-content/uploads/2020/03/coffee.jpg
END:VEVENT
BEGIN:VEVENT
DTSTART;TZID=Europe/London:20200711T100000
DTEND;TZID=Europe/London:20200711T100000
DTSTAMP:20260421T044241
CREATED:20200514T112218Z
LAST-MODIFIED:20200514T133229Z
UID:2520-1594461600-1594461600@blackmoretheatre.co.uk
SUMMARY:Coffee Morning at the Blackmore
DESCRIPTION:Teas\, coffees and home-made cakes\, such as German Apple Cake\, Lemon Drizzle\, Chocolate Cake\, Quiche and much more. \nRaffle. \nBooks\, greeting cards\, DVD’s and much more on sale. \nAll money raised goes towards refurbishments of the Theatre\, which The Exmouth Players are very fortunate to own. \nOccasionally\, tickets may also be on sale for our forthcoming productions. \nTicket vouchers are also on sale for any of our productions.  These would make the ideal gift for any occasion. \nIf you have not seen our wonderful theatre before\, then why not come along and see for yourself.  We do have works which continue from time to time as and when we have raised sufficient funds.  There are back-stage guided tours during our coffee morning.  You will be quite surprised to see what we have\, including our wonderful collection of costumes. \n(CIO Registered No 1174875)
URL:https://blackmoretheatre.co.uk/event/coffee-morning-at-the-blackmore-2/
LOCATION:Blackmore Theatre\, 10 Bicton Street\, Exmouth\, EX8 2RU
CATEGORIES:Coffee Mornings,Fund Raiser
ATTACH;FMTTYPE=image/jpeg:https://blackmoretheatre.co.uk/wp-content/uploads/2020/03/coffee.jpg
END:VEVENT
BEGIN:VEVENT
DTSTART;TZID=Europe/London:20200613T100000
DTEND;TZID=Europe/London:20200613T130000
DTSTAMP:20260421T044241
CREATED:20200514T112218Z
LAST-MODIFIED:20200514T133346Z
UID:2519-1592042400-1592053200@blackmoretheatre.co.uk
SUMMARY:Coffee Morning at the Blackmore
DESCRIPTION:Teas\, coffees and home-made cakes\, such as German Apple Cake\, Lemon Drizzle\, Chocolate Cake\, Quiche and much more. \nRaffle. \nBooks\, greeting cards\, DVD’s and much more on sale. \nAll money raised goes towards refurbishments of the Theatre\, which The Exmouth Players are very fortunate to own. \nOccasionally\, tickets may also be on sale for our forthcoming productions. \nTicket vouchers are also on sale for any of our productions.  These would make the ideal gift for any occasion. \nIf you have not seen our wonderful theatre before\, then why not come along and see for yourself.  We do have works which continue from time to time as and when we have raised sufficient funds.  There are back-stage guided tours during our coffee morning.  You will be quite surprised to see what we have\, including our wonderful collection of costumes. \n(CIO Registered No 1174875)
URL:https://blackmoretheatre.co.uk/event/coffee-morning-at-the-blackmore/
LOCATION:Blackmore Theatre\, 10 Bicton Street\, Exmouth\, EX8 2RU
CATEGORIES:Coffee Mornings,Fund Raiser
ATTACH;FMTTYPE=image/jpeg:https://blackmoretheatre.co.uk/wp-content/uploads/2020/03/coffee.jpg
END:VEVENT
BEGIN:VEVENT
DTSTART;TZID=Europe/London:20200509T103000
DTEND;TZID=Europe/London:20200509T130000
DTSTAMP:20260421T044241
CREATED:20200401T141601Z
LAST-MODIFIED:20200401T164010Z
UID:2276-1589020200-1589029200@blackmoretheatre.co.uk
SUMMARY:Coffee Morning at The Blackmore - canceled
DESCRIPTION:Teas\, coffees and home-made cakes\, such as German Apple Cake\, Lemon Drizzle\, Chocolate Cake\, Quiche and much more. \nRaffle. \nBooks\, greeting cards\, DVD’s and much more on sale. \nAll money raised goes towards refurbishments of the Theatre\, which The Exmouth Players are very fortunate to own. \nOccasionally\, tickets may also be on sale for our forthcoming productions. \nTicket vouchers are also on sale for any of our productions.  These would make the ideal gift for any occasion. \nIf you have not seen our wonderful theatre before\, then why not come along and see for yourself.  We do have works which continue from time to time as and when we have raised sufficient funds.  There are back-stage guided tours during our coffee morning.  You will be quite surprised to see what we have\, including our wonderful collection of costumes. \n(CIO Registered No 1174875)
URL:https://blackmoretheatre.co.uk/event/coffee-morning-2/
LOCATION:Blackmore Theatre\, 10 Bicton Street\, Exmouth\, EX8 2RU
CATEGORIES:Coffee Mornings,Fund Raiser
ATTACH;FMTTYPE=image/jpeg:https://blackmoretheatre.co.uk/wp-content/uploads/2020/03/coffee.jpg
END:VEVENT
BEGIN:VEVENT
DTSTART;TZID=Europe/London:20200411T103000
DTEND;TZID=Europe/London:20200411T130000
DTSTAMP:20260421T044241
CREATED:20200325T184613Z
LAST-MODIFIED:20200401T164027Z
UID:2254-1586601000-1586610000@blackmoretheatre.co.uk
SUMMARY:Coffee Morning at the Blackmore - canceled
DESCRIPTION:Teas\, coffees and home-made cakes\, such as German Apple Cake\, Lemon Drizzle\, Chocolate Cake\, Quiche and much more. \nRaffle. \nBooks\, greeting cards\, DVD’s and much more on sale. \nAll money raised goes towards refurbishments of the Theatre\, which The Exmouth Players are very fortunate to own. \nOccasionally\, tickets may also be on sale for our forthcoming productions. \nTicket vouchers are also on sale for any of our productions.  These would make the ideal gift for any occasion. \nIf you have not seen our wonderful theatre before\, then why not come along and see for yourself.  We do have works which continue from time to time as and when we have raised sufficient funds.  There are back-stage guided tours during our coffee morning.  You will be quite surprised to see what we have\, including our wonderful collection of costumes. \n(CIO Registered No 1174875)
URL:https://blackmoretheatre.co.uk/event/coffee-morning/
LOCATION:Blackmore Theatre\, 10 Bicton Street\, Exmouth\, EX8 2RU
CATEGORIES:Coffee Mornings,Fund Raiser
ATTACH;FMTTYPE=image/jpeg:https://blackmoretheatre.co.uk/wp-content/uploads/2020/03/coffee.jpg
END:VEVENT
END:VCALENDAR