BEGIN:VCALENDAR
VERSION:2.0
PRODID:-//Blackmore Theatre - ECPv6.15.18//NONSGML v1.0//EN
CALSCALE:GREGORIAN
METHOD:PUBLISH
X-ORIGINAL-URL:https://blackmoretheatre.co.uk
X-WR-CALDESC:Events for Blackmore Theatre
REFRESH-INTERVAL;VALUE=DURATION:PT1H
X-Robots-Tag:noindex
X-PUBLISHED-TTL:PT1H
BEGIN:VTIMEZONE
TZID:Europe/London
BEGIN:DAYLIGHT
TZOFFSETFROM:+0000
TZOFFSETTO:+0100
TZNAME:BST
DTSTART:20250330T010000
END:DAYLIGHT
BEGIN:STANDARD
TZOFFSETFROM:+0100
TZOFFSETTO:+0000
TZNAME:GMT
DTSTART:20251026T010000
END:STANDARD
BEGIN:DAYLIGHT
TZOFFSETFROM:+0000
TZOFFSETTO:+0100
TZNAME:BST
DTSTART:20260329T010000
END:DAYLIGHT
BEGIN:STANDARD
TZOFFSETFROM:+0100
TZOFFSETTO:+0000
TZNAME:GMT
DTSTART:20261025T010000
END:STANDARD
BEGIN:DAYLIGHT
TZOFFSETFROM:+0000
TZOFFSETTO:+0100
TZNAME:BST
DTSTART:20270328T010000
END:DAYLIGHT
BEGIN:STANDARD
TZOFFSETFROM:+0100
TZOFFSETTO:+0000
TZNAME:GMT
DTSTART:20271031T010000
END:STANDARD
END:VTIMEZONE
BEGIN:VEVENT
DTSTART;TZID=Europe/London:20260501T190000
DTEND;TZID=Europe/London:20260502T190000
DTSTAMP:20260421T015953
CREATED:20260310T104558Z
LAST-MODIFIED:20260310T104558Z
UID:4531-1777662000-1777748400@blackmoretheatre.co.uk
SUMMARY:All By Myself & Stolen Secrets
DESCRIPTION:Performances: Fri & Sat @ 7pm and Sat @ 2pm \n‘All By Myself’ by Robert Scott: by arrangement with Lazy Bee Scripts \n‘Stolen Secrets’ by Fin Kennedy\, NHB with the Unforgettables short stories \nUncover unexpected stories\, suspenseful secrets and the unexpected comedy of loneliness
URL:https://blackmoretheatre.co.uk/event/all-by-myself-stolen-secrets/
LOCATION:Blackmore Theatre\, 10 Bicton Street\, Exmouth\, EX8 2RU
CATEGORIES:Productions
ATTACH;FMTTYPE=image/png:https://blackmoretheatre.co.uk/wp-content/uploads/2026/03/Square.png
END:VEVENT
END:VCALENDAR