BEGIN:VCALENDAR
VERSION:2.0
PRODID:-//Blackmore Theatre - ECPv6.15.18//NONSGML v1.0//EN
CALSCALE:GREGORIAN
METHOD:PUBLISH
X-WR-CALNAME:Blackmore Theatre
X-ORIGINAL-URL:https://blackmoretheatre.co.uk
X-WR-CALDESC:Events for Blackmore Theatre
REFRESH-INTERVAL;VALUE=DURATION:PT1H
X-Robots-Tag:noindex
X-PUBLISHED-TTL:PT1H
BEGIN:VTIMEZONE
TZID:Europe/London
BEGIN:DAYLIGHT
TZOFFSETFROM:+0000
TZOFFSETTO:+0100
TZNAME:BST
DTSTART:20250330T010000
END:DAYLIGHT
BEGIN:STANDARD
TZOFFSETFROM:+0100
TZOFFSETTO:+0000
TZNAME:GMT
DTSTART:20251026T010000
END:STANDARD
BEGIN:DAYLIGHT
TZOFFSETFROM:+0000
TZOFFSETTO:+0100
TZNAME:BST
DTSTART:20260329T010000
END:DAYLIGHT
BEGIN:STANDARD
TZOFFSETFROM:+0100
TZOFFSETTO:+0000
TZNAME:GMT
DTSTART:20261025T010000
END:STANDARD
BEGIN:DAYLIGHT
TZOFFSETFROM:+0000
TZOFFSETTO:+0100
TZNAME:BST
DTSTART:20270328T010000
END:DAYLIGHT
BEGIN:STANDARD
TZOFFSETFROM:+0100
TZOFFSETTO:+0000
TZNAME:GMT
DTSTART:20271031T010000
END:STANDARD
END:VTIMEZONE
BEGIN:VEVENT
DTSTART;TZID=Europe/London:20260420T193000
DTEND;TZID=Europe/London:20260425T193000
DTSTAMP:20260420T014641
CREATED:20260216T103635Z
LAST-MODIFIED:20260306T125733Z
UID:4520-1776713400-1777145400@blackmoretheatre.co.uk
SUMMARY:Blackadder The Third
DESCRIPTION:Performances: Mon to Sat @ 7.30pm & Sat afternoon @ 2.30pm \nBlackadder The Third\n \nFollowing their successes with Bouncers\, Blackadder Goes Forth and Neville’s Island\, Tambourine Productions returns to The Blackmore Theatre in 2026 with their latest production\, Blackadder the Third. \nSet in the Regency era\, the play follows the endlessly scheming Edmund Blackadder\, trapped in service to the outrageously foolish Prince Regent. With the help\, and frequent hindrance\, of the eternally dim Baldrick\, Blackadder hatches a series of elaborate plots to better his position\, only for them to unravel through stupidity\, bad luck\, and social absurdity. \nPacked with razor-sharp wit\, verbal sparring\, and classic Blackadder cynicism\, this fast-paced theatrical romp skewers class\, privilege\, and power\, delivering a gloriously silly and satirical evening of comedy.
URL:https://blackmoretheatre.co.uk/event/blackadder-the-third/
LOCATION:Blackmore Theatre\, 10 Bicton Street\, Exmouth\, EX8 2RU
CATEGORIES:Productions
ATTACH;FMTTYPE=image/png:https://blackmoretheatre.co.uk/wp-content/uploads/2026/02/Poster-Square-small.png
END:VEVENT
END:VCALENDAR